BEGIN:VCALENDAR
VERSION:2.0
PRODID:-//Ames Writers Collective - ECPv6.15.17//NONSGML v1.0//EN
CALSCALE:GREGORIAN
METHOD:PUBLISH
X-WR-CALNAME:Ames Writers Collective
X-ORIGINAL-URL:https://ameswriterscollective.org
X-WR-CALDESC:Events for Ames Writers Collective
REFRESH-INTERVAL;VALUE=DURATION:PT1H
X-Robots-Tag:noindex
X-PUBLISHED-TTL:PT1H
BEGIN:VTIMEZONE
TZID:America/Chicago
BEGIN:DAYLIGHT
TZOFFSETFROM:-0600
TZOFFSETTO:-0500
TZNAME:CDT
DTSTART:20250309T080000
END:DAYLIGHT
BEGIN:STANDARD
TZOFFSETFROM:-0500
TZOFFSETTO:-0600
TZNAME:CST
DTSTART:20251102T070000
END:STANDARD
BEGIN:DAYLIGHT
TZOFFSETFROM:-0600
TZOFFSETTO:-0500
TZNAME:CDT
DTSTART:20260308T080000
END:DAYLIGHT
BEGIN:STANDARD
TZOFFSETFROM:-0500
TZOFFSETTO:-0600
TZNAME:CST
DTSTART:20261101T070000
END:STANDARD
BEGIN:DAYLIGHT
TZOFFSETFROM:-0600
TZOFFSETTO:-0500
TZNAME:CDT
DTSTART:20270314T080000
END:DAYLIGHT
BEGIN:STANDARD
TZOFFSETFROM:-0500
TZOFFSETTO:-0600
TZNAME:CST
DTSTART:20271107T070000
END:STANDARD
END:VTIMEZONE
BEGIN:VEVENT
DTSTART;TZID=America/Chicago:20260218T090000
DTEND;TZID=America/Chicago:20260218T110000
DTSTAMP:20260425T100501
CREATED:20251102T152618Z
LAST-MODIFIED:20260323T144456Z
UID:10011131-1771405200-1771412400@ameswriterscollective.org
SUMMARY:Member Open Hours
DESCRIPTION:This month\, join us for our Members Open Hours at Fifth Street Writers. Interested in becoming a member? Click here for more information! \nOpen this month from 9:00 AM – 11:00 AM on Mondays and Wednesdays. There are a few exceptions\, please check our events calendar for specific dates! \nOur space is designed for writers by writers. It’s a quiet place to focus on your writing projects. We have seating areas spread throughout the building at Fifth Street Writers that run the gamut from comfy club chairs to benches with tables\, to larger tables with chairs. Limited parking is available in front of the building\, with plenty of street parking. Our site host this month is communications intern\, Acacia Coates.
URL:https://ameswriterscollective.org/event/member-open-hours-3/2026-02-18/
LOCATION:Ames Writer Collective Fifth Street Writers\, 612 5th Street\, Ames\, Iowa\, 50014\, United States
CATEGORIES:Open Write
ATTACH;FMTTYPE=image/jpeg:https://ameswriterscollective.org/wp-content/uploads/2025/06/IMG_8863.jpg
END:VEVENT
BEGIN:VEVENT
DTSTART;TZID=America/Chicago:20260223T090000
DTEND;TZID=America/Chicago:20260223T110000
DTSTAMP:20260425T100501
CREATED:20251102T152618Z
LAST-MODIFIED:20260323T144456Z
UID:10011132-1771837200-1771844400@ameswriterscollective.org
SUMMARY:Member Open Hours
DESCRIPTION:This month\, join us for our Members Open Hours at Fifth Street Writers. Interested in becoming a member? Click here for more information! \nOpen this month from 9:00 AM – 11:00 AM on Mondays and Wednesdays. There are a few exceptions\, please check our events calendar for specific dates! \nOur space is designed for writers by writers. It’s a quiet place to focus on your writing projects. We have seating areas spread throughout the building at Fifth Street Writers that run the gamut from comfy club chairs to benches with tables\, to larger tables with chairs. Limited parking is available in front of the building\, with plenty of street parking. Our site host this month is communications intern\, Acacia Coates.
URL:https://ameswriterscollective.org/event/member-open-hours-3/2026-02-23/
LOCATION:Ames Writer Collective Fifth Street Writers\, 612 5th Street\, Ames\, Iowa\, 50014\, United States
CATEGORIES:Open Write
ATTACH;FMTTYPE=image/jpeg:https://ameswriterscollective.org/wp-content/uploads/2025/06/IMG_8863.jpg
END:VEVENT
BEGIN:VEVENT
DTSTART;TZID=America/Chicago:20260225T090000
DTEND;TZID=America/Chicago:20260225T110000
DTSTAMP:20260425T100501
CREATED:20251102T152618Z
LAST-MODIFIED:20260323T144456Z
UID:10011133-1772010000-1772017200@ameswriterscollective.org
SUMMARY:Member Open Hours
DESCRIPTION:This month\, join us for our Members Open Hours at Fifth Street Writers. Interested in becoming a member? Click here for more information! \nOpen this month from 9:00 AM – 11:00 AM on Mondays and Wednesdays. There are a few exceptions\, please check our events calendar for specific dates! \nOur space is designed for writers by writers. It’s a quiet place to focus on your writing projects. We have seating areas spread throughout the building at Fifth Street Writers that run the gamut from comfy club chairs to benches with tables\, to larger tables with chairs. Limited parking is available in front of the building\, with plenty of street parking. Our site host this month is communications intern\, Acacia Coates.
URL:https://ameswriterscollective.org/event/member-open-hours-3/2026-02-25/
LOCATION:Ames Writer Collective Fifth Street Writers\, 612 5th Street\, Ames\, Iowa\, 50014\, United States
CATEGORIES:Open Write
ATTACH;FMTTYPE=image/jpeg:https://ameswriterscollective.org/wp-content/uploads/2025/06/IMG_8863.jpg
END:VEVENT
BEGIN:VEVENT
DTSTART;TZID=America/Chicago:20260302T090000
DTEND;TZID=America/Chicago:20260302T110000
DTSTAMP:20260425T100501
CREATED:20251102T152618Z
LAST-MODIFIED:20260323T144456Z
UID:10011134-1772442000-1772449200@ameswriterscollective.org
SUMMARY:Member Open Hours
DESCRIPTION:This month\, join us for our Members Open Hours at Fifth Street Writers. Interested in becoming a member? Click here for more information! \nOpen this month from 9:00 AM – 11:00 AM on Mondays and Wednesdays. There are a few exceptions\, please check our events calendar for specific dates! \nOur space is designed for writers by writers. It’s a quiet place to focus on your writing projects. We have seating areas spread throughout the building at Fifth Street Writers that run the gamut from comfy club chairs to benches with tables\, to larger tables with chairs. Limited parking is available in front of the building\, with plenty of street parking. Our site host this month is communications intern\, Acacia Coates.
URL:https://ameswriterscollective.org/event/member-open-hours-3/2026-03-02/
LOCATION:Ames Writer Collective Fifth Street Writers\, 612 5th Street\, Ames\, Iowa\, 50014\, United States
CATEGORIES:Open Write
ATTACH;FMTTYPE=image/jpeg:https://ameswriterscollective.org/wp-content/uploads/2025/06/IMG_8863.jpg
END:VEVENT
BEGIN:VEVENT
DTSTART;TZID=America/Chicago:20260304T090000
DTEND;TZID=America/Chicago:20260304T110000
DTSTAMP:20260425T100501
CREATED:20251102T152618Z
LAST-MODIFIED:20260323T144456Z
UID:10011135-1772614800-1772622000@ameswriterscollective.org
SUMMARY:Member Open Hours
DESCRIPTION:This month\, join us for our Members Open Hours at Fifth Street Writers. Interested in becoming a member? Click here for more information! \nOpen this month from 9:00 AM – 11:00 AM on Mondays and Wednesdays. There are a few exceptions\, please check our events calendar for specific dates! \nOur space is designed for writers by writers. It’s a quiet place to focus on your writing projects. We have seating areas spread throughout the building at Fifth Street Writers that run the gamut from comfy club chairs to benches with tables\, to larger tables with chairs. Limited parking is available in front of the building\, with plenty of street parking. Our site host this month is communications intern\, Acacia Coates.
URL:https://ameswriterscollective.org/event/member-open-hours-3/2026-03-04/
LOCATION:Ames Writer Collective Fifth Street Writers\, 612 5th Street\, Ames\, Iowa\, 50014\, United States
CATEGORIES:Open Write
ATTACH;FMTTYPE=image/jpeg:https://ameswriterscollective.org/wp-content/uploads/2025/06/IMG_8863.jpg
END:VEVENT
BEGIN:VEVENT
DTSTART;TZID=America/Chicago:20260309T090000
DTEND;TZID=America/Chicago:20260309T110000
DTSTAMP:20260425T100501
CREATED:20251102T152618Z
LAST-MODIFIED:20260323T144456Z
UID:10011136-1773046800-1773054000@ameswriterscollective.org
SUMMARY:Member Open Hours
DESCRIPTION:This month\, join us for our Members Open Hours at Fifth Street Writers. Interested in becoming a member? Click here for more information! \nOpen this month from 9:00 AM – 11:00 AM on Mondays and Wednesdays. There are a few exceptions\, please check our events calendar for specific dates! \nOur space is designed for writers by writers. It’s a quiet place to focus on your writing projects. We have seating areas spread throughout the building at Fifth Street Writers that run the gamut from comfy club chairs to benches with tables\, to larger tables with chairs. Limited parking is available in front of the building\, with plenty of street parking. Our site host this month is communications intern\, Acacia Coates.
URL:https://ameswriterscollective.org/event/member-open-hours-3/2026-03-09/
LOCATION:Ames Writer Collective Fifth Street Writers\, 612 5th Street\, Ames\, Iowa\, 50014\, United States
CATEGORIES:Open Write
ATTACH;FMTTYPE=image/jpeg:https://ameswriterscollective.org/wp-content/uploads/2025/06/IMG_8863.jpg
END:VEVENT
BEGIN:VEVENT
DTSTART;TZID=America/Chicago:20260311T090000
DTEND;TZID=America/Chicago:20260311T110000
DTSTAMP:20260425T100501
CREATED:20251102T152618Z
LAST-MODIFIED:20260323T144456Z
UID:10011137-1773219600-1773226800@ameswriterscollective.org
SUMMARY:Member Open Hours
DESCRIPTION:This month\, join us for our Members Open Hours at Fifth Street Writers. Interested in becoming a member? Click here for more information! \nOpen this month from 9:00 AM – 11:00 AM on Mondays and Wednesdays. There are a few exceptions\, please check our events calendar for specific dates! \nOur space is designed for writers by writers. It’s a quiet place to focus on your writing projects. We have seating areas spread throughout the building at Fifth Street Writers that run the gamut from comfy club chairs to benches with tables\, to larger tables with chairs. Limited parking is available in front of the building\, with plenty of street parking. Our site host this month is communications intern\, Acacia Coates.
URL:https://ameswriterscollective.org/event/member-open-hours-3/2026-03-11/
LOCATION:Ames Writer Collective Fifth Street Writers\, 612 5th Street\, Ames\, Iowa\, 50014\, United States
CATEGORIES:Open Write
ATTACH;FMTTYPE=image/jpeg:https://ameswriterscollective.org/wp-content/uploads/2025/06/IMG_8863.jpg
END:VEVENT
BEGIN:VEVENT
DTSTART;TZID=America/Chicago:20260325T090000
DTEND;TZID=America/Chicago:20260325T110000
DTSTAMP:20260425T100501
CREATED:20251102T152618Z
LAST-MODIFIED:20260323T144456Z
UID:10011138-1774429200-1774436400@ameswriterscollective.org
SUMMARY:Member Open Hours
DESCRIPTION:This month\, join us for our Members Open Hours at Fifth Street Writers. Interested in becoming a member? Click here for more information! \nOpen this month from 9:00 AM – 11:00 AM on Mondays and Wednesdays. There are a few exceptions\, please check our events calendar for specific dates! \nOur space is designed for writers by writers. It’s a quiet place to focus on your writing projects. We have seating areas spread throughout the building at Fifth Street Writers that run the gamut from comfy club chairs to benches with tables\, to larger tables with chairs. Limited parking is available in front of the building\, with plenty of street parking. Our site host this month is communications intern\, Acacia Coates.
URL:https://ameswriterscollective.org/event/member-open-hours-3/2026-03-25/
LOCATION:Ames Writer Collective Fifth Street Writers\, 612 5th Street\, Ames\, Iowa\, 50014\, United States
CATEGORIES:Open Write
ATTACH;FMTTYPE=image/jpeg:https://ameswriterscollective.org/wp-content/uploads/2025/06/IMG_8863.jpg
END:VEVENT
BEGIN:VEVENT
DTSTART;TZID=America/Chicago:20260330T090000
DTEND;TZID=America/Chicago:20260330T110000
DTSTAMP:20260425T100501
CREATED:20251102T152618Z
LAST-MODIFIED:20260323T144456Z
UID:10011139-1774861200-1774868400@ameswriterscollective.org
SUMMARY:Member Open Hours
DESCRIPTION:This month\, join us for our Members Open Hours at Fifth Street Writers. Interested in becoming a member? Click here for more information! \nOpen this month from 9:00 AM – 11:00 AM on Mondays and Wednesdays. There are a few exceptions\, please check our events calendar for specific dates! \nOur space is designed for writers by writers. It’s a quiet place to focus on your writing projects. We have seating areas spread throughout the building at Fifth Street Writers that run the gamut from comfy club chairs to benches with tables\, to larger tables with chairs. Limited parking is available in front of the building\, with plenty of street parking. Our site host this month is communications intern\, Acacia Coates.
URL:https://ameswriterscollective.org/event/member-open-hours-3/2026-03-30/
LOCATION:Ames Writer Collective Fifth Street Writers\, 612 5th Street\, Ames\, Iowa\, 50014\, United States
CATEGORIES:Open Write
ATTACH;FMTTYPE=image/jpeg:https://ameswriterscollective.org/wp-content/uploads/2025/06/IMG_8863.jpg
END:VEVENT
END:VCALENDAR