BEGIN:VCALENDAR
VERSION:2.0
PRODID:-//Ames Writers Collective - ECPv6.15.17//NONSGML v1.0//EN
CALSCALE:GREGORIAN
METHOD:PUBLISH
X-WR-CALNAME:Ames Writers Collective
X-ORIGINAL-URL:https://ameswriterscollective.org
X-WR-CALDESC:Events for Ames Writers Collective
REFRESH-INTERVAL;VALUE=DURATION:PT1H
X-Robots-Tag:noindex
X-PUBLISHED-TTL:PT1H
BEGIN:VTIMEZONE
TZID:America/Chicago
BEGIN:DAYLIGHT
TZOFFSETFROM:-0600
TZOFFSETTO:-0500
TZNAME:CDT
DTSTART:20250309T080000
END:DAYLIGHT
BEGIN:STANDARD
TZOFFSETFROM:-0500
TZOFFSETTO:-0600
TZNAME:CST
DTSTART:20251102T070000
END:STANDARD
BEGIN:DAYLIGHT
TZOFFSETFROM:-0600
TZOFFSETTO:-0500
TZNAME:CDT
DTSTART:20260308T080000
END:DAYLIGHT
BEGIN:STANDARD
TZOFFSETFROM:-0500
TZOFFSETTO:-0600
TZNAME:CST
DTSTART:20261101T070000
END:STANDARD
BEGIN:DAYLIGHT
TZOFFSETFROM:-0600
TZOFFSETTO:-0500
TZNAME:CDT
DTSTART:20270314T080000
END:DAYLIGHT
BEGIN:STANDARD
TZOFFSETFROM:-0500
TZOFFSETTO:-0600
TZNAME:CST
DTSTART:20271107T070000
END:STANDARD
END:VTIMEZONE
BEGIN:VEVENT
DTSTART;TZID=America/Chicago:20260424T170000
DTEND;TZID=America/Chicago:20260424T230000
DTSTAMP:20260425T095913
CREATED:20260410T163127Z
LAST-MODIFIED:20260410T163127Z
UID:10011192-1777050000-1777071600@ameswriterscollective.org
SUMMARY:Rehearsals | The EcoTheatre Lab
DESCRIPTION:The EcoTheatre Lab Presents—In Our Backyard Rehearsals \nRehearsals for The EcoTheatre Lab’s new eco-play festival\, In Our Backyard. Rehearsals are reserved only for participating artists. The festival is May 1st-3rd and is free and open to the public! Check out ecotheatrelab.com for more information!
URL:https://ameswriterscollective.org/event/rehearsals-the-ecotheatre-lab-6/
LOCATION:Fifth Street Writers\, 612 5th Street\, Ames\, 50010\, United States
CATEGORIES:Special Events
ATTACH;FMTTYPE=image/jpeg:https://ameswriterscollective.org/wp-content/uploads/2026/03/Butterflies.png.jpg
ORGANIZER;CN="Firth Street Writers & the EcoTheater Lab":MAILTO:ecotheatrelab@gmail.com
END:VEVENT
BEGIN:VEVENT
DTSTART;TZID=America/Chicago:20260425T110000
DTEND;TZID=America/Chicago:20260425T180000
DTSTAMP:20260425T095913
CREATED:20260306T144904Z
LAST-MODIFIED:20260410T163214Z
UID:10011159-1777114800-1777140000@ameswriterscollective.org
SUMMARY:Rehearsals | The EcoTheatre Lab
DESCRIPTION:The EcoTheatre Lab Presents—In Our Backyard Rehearsals \nRehearsals for The EcoTheatre Lab’s new eco-play festival\, In Our Backyard. Rehearsals are reserved only for participating artists. The festival is May 1st-3rd and is free and open to the public! Check out ecotheatrelab.com for more information!
URL:https://ameswriterscollective.org/event/rehearsals-the-ecotheatre-labs-present-5/
LOCATION:Fifth Street Writers\, 612 5th Street\, Ames\, 50010\, United States
CATEGORIES:Special Events
ATTACH;FMTTYPE=image/jpeg:https://ameswriterscollective.org/wp-content/uploads/2026/03/Butterflies.png.jpg
ORGANIZER;CN="Firth Street Writers & the EcoTheater Lab":MAILTO:ecotheatrelab@gmail.com
END:VEVENT
BEGIN:VEVENT
DTSTART;TZID=America/Chicago:20260426T090000
DTEND;TZID=America/Chicago:20260426T170000
DTSTAMP:20260425T095913
CREATED:20260409T114705Z
LAST-MODIFIED:20260410T163331Z
UID:10011189-1777194000-1777222800@ameswriterscollective.org
SUMMARY:Rehearsals | The EcoTheatre Lab
DESCRIPTION:The EcoTheatre Lab Presents—In Our Backyard Rehearsals \nRehearsals for The EcoTheatre Lab’s new eco-play festival\, In Our Backyard. Rehearsals are reserved only for participating artists. The festival is May 1st-3rd and is free and open to the public! Check out ecotheatrelab.com for more information!
URL:https://ameswriterscollective.org/event/rehearsals-the-ecotheatre-lab-3/
LOCATION:Fifth Street Writers\, 612 5th Street\, Ames\, 50010\, United States
CATEGORIES:Special Events
ATTACH;FMTTYPE=image/jpeg:https://ameswriterscollective.org/wp-content/uploads/2026/03/Butterflies.png.jpg
ORGANIZER;CN="Firth Street Writers & the EcoTheater Lab":MAILTO:ecotheatrelab@gmail.com
END:VEVENT
BEGIN:VEVENT
DTSTART;TZID=America/Chicago:20260427T170000
DTEND;TZID=America/Chicago:20260427T230000
DTSTAMP:20260425T095913
CREATED:20260306T145028Z
LAST-MODIFIED:20260410T163539Z
UID:10011160-1777309200-1777330800@ameswriterscollective.org
SUMMARY:Rehearsals | The EcoTheatre Lab
DESCRIPTION:The EcoTheatre Lab Presents—In Our Backyard Rehearsals \nRehearsals for The EcoTheatre Lab’s new eco-play festival\, In Our Backyard. Rehearsals are reserved only for participating artists. The festival is May 1st-3rd and is free and open to the public! Check out ecotheatrelab.com for more information!
URL:https://ameswriterscollective.org/event/rehearsals-the-ecotheatre-labs-present-6/
LOCATION:Fifth Street Writers\, 612 5th Street\, Ames\, 50010\, United States
CATEGORIES:Special Events
ATTACH;FMTTYPE=image/jpeg:https://ameswriterscollective.org/wp-content/uploads/2026/03/Butterflies.png.jpg
ORGANIZER;CN="Firth Street Writers & the EcoTheater Lab":MAILTO:ecotheatrelab@gmail.com
END:VEVENT
BEGIN:VEVENT
DTSTART;TZID=America/Chicago:20260428T170000
DTEND;TZID=America/Chicago:20260428T220000
DTSTAMP:20260425T095913
CREATED:20260409T115008Z
LAST-MODIFIED:20260410T163700Z
UID:10011190-1777395600-1777413600@ameswriterscollective.org
SUMMARY:Rehearsals | The EcoTheatre Lab
DESCRIPTION:The EcoTheatre Lab Presents—In Our Backyard Rehearsals \nRehearsals for The EcoTheatre Lab’s new eco-play festival\, In Our Backyard. Rehearsals are reserved only for participating artists. The festival is May 1st-3rd and is free and open to the public! Check out ecotheatrelab.com for more information!
URL:https://ameswriterscollective.org/event/rehearsals-the-ecotheatre-lab-4/
LOCATION:Fifth Street Writers\, 612 5th Street\, Ames\, 50010\, United States
CATEGORIES:Special Events
ATTACH;FMTTYPE=image/jpeg:https://ameswriterscollective.org/wp-content/uploads/2026/03/Butterflies.png.jpg
ORGANIZER;CN="Firth Street Writers & the EcoTheater Lab":MAILTO:ecotheatrelab@gmail.com
END:VEVENT
BEGIN:VEVENT
DTSTART;TZID=America/Chicago:20260429T170000
DTEND;TZID=America/Chicago:20260429T230000
DTSTAMP:20260425T095913
CREATED:20260409T115047Z
LAST-MODIFIED:20260410T163749Z
UID:10011191-1777482000-1777503600@ameswriterscollective.org
SUMMARY:Rehearsals | The EcoTheatre Lab
DESCRIPTION:The EcoTheatre Lab Presents—In Our Backyard Rehearsals \nRehearsals for The EcoTheatre Lab’s new eco-play festival\, In Our Backyard. Rehearsals are reserved only for participating artists. The festival is May 1st-3rd and is free and open to the public! Check out ecotheatrelab.com for more information!
URL:https://ameswriterscollective.org/event/rehearsals-the-ecotheatre-lab-5/
LOCATION:Fifth Street Writers\, 612 5th Street\, Ames\, 50010\, United States
CATEGORIES:Special Events
ATTACH;FMTTYPE=image/jpeg:https://ameswriterscollective.org/wp-content/uploads/2026/03/Butterflies.png.jpg
ORGANIZER;CN="Firth Street Writers & the EcoTheater Lab":MAILTO:ecotheatrelab@gmail.com
END:VEVENT
BEGIN:VEVENT
DTSTART;TZID=America/Chicago:20260430T170000
DTEND;TZID=America/Chicago:20260430T230000
DTSTAMP:20260425T095913
CREATED:20260410T163836Z
LAST-MODIFIED:20260410T163836Z
UID:10011193-1777568400-1777590000@ameswriterscollective.org
SUMMARY:Rehearsals | The EcoTheatre Lab
DESCRIPTION:The EcoTheatre Lab Presents—In Our Backyard Rehearsals \nRehearsals for The EcoTheatre Lab’s new eco-play festival\, In Our Backyard. Rehearsals are reserved only for participating artists. The festival is May 1st-3rd and is free and open to the public! Check out ecotheatrelab.com for more information!
URL:https://ameswriterscollective.org/event/rehearsals-the-ecotheatre-lab-7/
LOCATION:Fifth Street Writers\, 612 5th Street\, Ames\, 50010\, United States
CATEGORIES:Special Events
ATTACH;FMTTYPE=image/jpeg:https://ameswriterscollective.org/wp-content/uploads/2026/03/Butterflies.png.jpg
ORGANIZER;CN="Firth Street Writers & the EcoTheater Lab":MAILTO:ecotheatrelab@gmail.com
END:VEVENT
BEGIN:VEVENT
DTSTART;TZID=America/Chicago:20260502T170000
DTEND;TZID=America/Chicago:20260502T210000
DTSTAMP:20260425T095913
CREATED:20260306T144304Z
LAST-MODIFIED:20260410T163929Z
UID:10011157-1777741200-1777755600@ameswriterscollective.org
SUMMARY:Rehearsals | The EcoTheatre Lab
DESCRIPTION:The EcoTheatre Lab Presents—In Our Backyard Rehearsals \nRehearsals for The EcoTheatre Lab’s new eco-play festival\, In Our Backyard. Rehearsals are reserved only for participating artists. The festival is May 1st-3rd and is free and open to the public! Check out ecotheatrelab.com for more information!
URL:https://ameswriterscollective.org/event/rehearsals-the-ecotheatre-labs-present-3/
LOCATION:Fifth Street Writers\, 612 5th Street\, Ames\, 50010\, United States
CATEGORIES:Special Events
ATTACH;FMTTYPE=image/jpeg:https://ameswriterscollective.org/wp-content/uploads/2026/03/Butterflies.png.jpg
ORGANIZER;CN="Firth Street Writers & the EcoTheater Lab":MAILTO:ecotheatrelab@gmail.com
END:VEVENT
BEGIN:VEVENT
DTSTART;TZID=America/Chicago:20260510T140000
DTEND;TZID=America/Chicago:20260510T160000
DTSTAMP:20260425T095913
CREATED:20260419T224100Z
LAST-MODIFIED:20260420T150755Z
UID:10011199-1778421600-1778428800@ameswriterscollective.org
SUMMARY:2nd Sunday Swift Youth Writers Groups
DESCRIPTION:Held monthly on 2nd Sundays\, the Swift Youth Writers Groups are held from 2 to 4 PM at the Ames Public Library. We meet in the P.E.O. Room. These writing groups are open to youth grades 6 through 12. We supply notebooks\, pens and other materials to prompt and inspire stories. \nSwift Youth Writers Groups are an Ames Writers Collective FREE community outreach program held in partnership with the Ames Public Library. The Ames Writers Collective community outreach programs are funded by grants and generous donors. \nJoin us! Happy Writing!
URL:https://ameswriterscollective.org/event/2nd-sunday-swift-youth-writers-groups-15/
CATEGORIES:Special Events
ATTACH;FMTTYPE=image/jpeg:https://ameswriterscollective.org/wp-content/uploads/2024/09/IMG_3857.jpeg
ORGANIZER;CN="Ames Writers Collective in Partnership with Ames Public Library":MAILTO:info@ameswriterscollective.org
END:VEVENT
BEGIN:VEVENT
DTSTART;TZID=America/Chicago:20260809T140000
DTEND;TZID=America/Chicago:20260809T160000
DTSTAMP:20260425T095913
CREATED:20260420T150936Z
LAST-MODIFIED:20260420T151042Z
UID:10011216-1786284000-1786291200@ameswriterscollective.org
SUMMARY:2nd Sunday Swift Youth Writers Groups
DESCRIPTION:Held monthly on 2nd Sundays\, the Swift Youth Writers Groups are held from 2 to 4 PM at the Ames Public Library. We meet in the P.E.O. Room. These writing groups are open to youth grades 6 through 12. We supply notebooks\, pens and other materials to prompt and inspire stories. \nSwift Youth Writers Groups are an Ames Writers Collective FREE community outreach program held in partnership with the Ames Public Library. The Ames Writers Collective community outreach programs are funded by grants and generous donors. \nJoin us! Happy Writing!
URL:https://ameswriterscollective.org/event/2nd-sunday-swift-youth-writers-groups-20/
CATEGORIES:Special Events
ATTACH;FMTTYPE=image/jpeg:https://ameswriterscollective.org/wp-content/uploads/2024/09/IMG_3857.jpeg
ORGANIZER;CN="Ames Writers Collective in Partnership with Ames Public Library":MAILTO:info@ameswriterscollective.org
END:VEVENT
BEGIN:VEVENT
DTSTART;TZID=America/Chicago:20260913T140000
DTEND;TZID=America/Chicago:20260913T160000
DTSTAMP:20260425T095913
CREATED:20260419T224234Z
LAST-MODIFIED:20260420T151318Z
UID:10011200-1789308000-1789315200@ameswriterscollective.org
SUMMARY:2nd Sunday Swift Youth Writers Groups
DESCRIPTION:Join us on Dec 14th for the 2nd Sunday Swift Youth Writers Group held from 2 to 4 PM at the Ames Public Library. We are scheduled to meet in the P.E.O. room\, but check monitors incase the location changes.\n\nWe supply notebooks\, pens and other materials to prompt and inspire stories.\n\n\nSwift Youth Writers Groups are an Ames Writers Collective FREE community outreach program held in partnership with the Ames Public Library. The Ames Writers Collective community outreach programs are funded by grants and generous donors.\n\nJoin us! Happy Writing!
URL:https://ameswriterscollective.org/event/2nd-sunday-swift-youth-writers-groups-16/
CATEGORIES:Special Events
ATTACH;FMTTYPE=image/jpeg:https://ameswriterscollective.org/wp-content/uploads/2024/09/IMG_3857.jpeg
ORGANIZER;CN="Ames Writers Collective in Partnership with Ames Public Library":MAILTO:info@ameswriterscollective.org
END:VEVENT
BEGIN:VEVENT
DTSTART;TZID=America/Chicago:20261011T140000
DTEND;TZID=America/Chicago:20261011T160000
DTSTAMP:20260425T095913
CREATED:20260419T224653Z
LAST-MODIFIED:20260420T151504Z
UID:10011201-1791727200-1791734400@ameswriterscollective.org
SUMMARY:2nd Sunday Swift Youth Writers Groups
DESCRIPTION:Held monthly on 2nd Sundays\, the Swift Youth Writers’ Groups are held from 2 to 4 PM at the Ames Public Library. We meet in the P.E.O. Room. These writing groups are open to youth grades 6 through 12. We supply notebooks\, pens and other materials to prompt and inspire stories. \nSwift Youth Writers Groups are an Ames Writers Collective FREE community outreach program held in partnership with the Ames Public Library. The Ames Writers Collective community outreach programs are funded by grants and generous donors. \nJoin us! Happy Writing!
URL:https://ameswriterscollective.org/event/2nd-sunday-swift-youth-writers-groups-17/
CATEGORIES:Special Events
ATTACH;FMTTYPE=image/jpeg:https://ameswriterscollective.org/wp-content/uploads/2024/09/IMG_3857.jpeg
ORGANIZER;CN="Ames Writers Collective in Partnership with Ames Public Library":MAILTO:info@ameswriterscollective.org
END:VEVENT
BEGIN:VEVENT
DTSTART;TZID=America/Chicago:20261108T140000
DTEND;TZID=America/Chicago:20261108T160000
DTSTAMP:20260425T095913
CREATED:20260419T225019Z
LAST-MODIFIED:20260420T151604Z
UID:10011202-1794146400-1794153600@ameswriterscollective.org
SUMMARY:2nd Sunday Swift Youth Writers Groups
DESCRIPTION:Held monthly on 2nd Sundays\, the Swift Youth Writers Groups are held from 2 to 4 PM at the Ames Public Library. We meet in the P.E.O. Room. These writing groups are open to youth grades 6 through 12. We supply notebooks\, pens and other materials to prompt and inspire stories. \nSwift Youth Writers Groups are an Ames Writers Collective FREE community outreach program held in partnership with the Ames Public Library. The Ames Writers Collective community outreach programs are funded by grants and generous donors. \nJoin us! Happy Writing!
URL:https://ameswriterscollective.org/event/2nd-sunday-swift-youth-writers-groups-18/
CATEGORIES:Special Events
ATTACH;FMTTYPE=image/jpeg:https://ameswriterscollective.org/wp-content/uploads/2024/09/IMG_3857.jpeg
ORGANIZER;CN="Ames Writers Collective in Partnership with Ames Public Library":MAILTO:info@ameswriterscollective.org
END:VEVENT
BEGIN:VEVENT
DTSTART;TZID=America/Chicago:20261213T140000
DTEND;TZID=America/Chicago:20261213T160000
DTSTAMP:20260425T095913
CREATED:20260419T225208Z
LAST-MODIFIED:20260420T150826Z
UID:10011203-1797170400-1797177600@ameswriterscollective.org
SUMMARY:2nd Sunday Swift Youth Writers Groups
DESCRIPTION:Held monthly on 2nd Sundays\, the Swift Youth Writers Groups are held from 2 to 4 PM at the Ames Public Library. We meet in the P.E.O. Room. These writing groups are open to youth grades 6 through 12. We supply notebooks\, pens and other materials to prompt and inspire stories. \nSwift Youth Writers Groups are an Ames Writers Collective FREE community outreach program held in partnership with the Ames Public Library. The Ames Writers Collective community outreach programs are funded by grants and generous donors. \nJoin us! Happy Writing!
URL:https://ameswriterscollective.org/event/2nd-sunday-swift-youth-writers-groups-19/
CATEGORIES:Special Events
ATTACH;FMTTYPE=image/jpeg:https://ameswriterscollective.org/wp-content/uploads/2024/09/IMG_3857.jpeg
ORGANIZER;CN="Ames Writers Collective in Partnership with Ames Public Library":MAILTO:info@ameswriterscollective.org
END:VEVENT
END:VCALENDAR