BEGIN:VCALENDAR
VERSION:2.0
PRODID:-//Ames Writers Collective - ECPv6.15.17//NONSGML v1.0//EN
CALSCALE:GREGORIAN
METHOD:PUBLISH
X-WR-CALNAME:Ames Writers Collective
X-ORIGINAL-URL:https://ameswriterscollective.org
X-WR-CALDESC:Events for Ames Writers Collective
REFRESH-INTERVAL;VALUE=DURATION:PT1H
X-Robots-Tag:noindex
X-PUBLISHED-TTL:PT1H
BEGIN:VTIMEZONE
TZID:America/Chicago
BEGIN:DAYLIGHT
TZOFFSETFROM:-0600
TZOFFSETTO:-0500
TZNAME:CDT
DTSTART:20240310T080000
END:DAYLIGHT
BEGIN:STANDARD
TZOFFSETFROM:-0500
TZOFFSETTO:-0600
TZNAME:CST
DTSTART:20241103T070000
END:STANDARD
BEGIN:DAYLIGHT
TZOFFSETFROM:-0600
TZOFFSETTO:-0500
TZNAME:CDT
DTSTART:20250309T080000
END:DAYLIGHT
BEGIN:STANDARD
TZOFFSETFROM:-0500
TZOFFSETTO:-0600
TZNAME:CST
DTSTART:20251102T070000
END:STANDARD
BEGIN:DAYLIGHT
TZOFFSETFROM:-0600
TZOFFSETTO:-0500
TZNAME:CDT
DTSTART:20260308T080000
END:DAYLIGHT
BEGIN:STANDARD
TZOFFSETFROM:-0500
TZOFFSETTO:-0600
TZNAME:CST
DTSTART:20261101T070000
END:STANDARD
END:VTIMEZONE
BEGIN:VEVENT
DTSTART;TZID=America/Chicago:20251115T100000
DTEND;TZID=America/Chicago:20251115T120000
DTSTAMP:20260425T100642
CREATED:20251031T210131Z
LAST-MODIFIED:20251111T161939Z
UID:10011075-1763200800-1763208000@ameswriterscollective.org
SUMMARY:Eco-Theatre Workshop
DESCRIPTION:Join The EcoTheatre Lab and Ames Writers Collective for a community Climate Change Theatre Action workshop! \nThis event is located at Fifth Street Writers on Saturday November 15 from 10am – 12pm. This event is FREE and open to the public. \nThe EcoTheatre Lab team will share readings of short climate change plays and introduce the international Climate Change Theatre Action (CCTA) initiative. Then participants will engage with performance and\ngenerative writing exercises as a way to connect with local climate change issues and solutions. \nThis workshop is open to anyone who is interested\, but pay-what-you-can donations will be accepted at the door. Click here to RSVP.
URL:https://ameswriterscollective.org/event/eco-theatre-workshop/
LOCATION:Ames Writer Collective Fifth Street Writers\, 612 5th Street\, Ames\, Iowa\, 50014\, United States
CATEGORIES:Workshops
ATTACH;FMTTYPE=image/png:https://ameswriterscollective.org/wp-content/uploads/2025/10/Eco-Theatre-Workshop_-Insta_Updated_Graphic-1.png
END:VEVENT
BEGIN:VEVENT
DTSTART;TZID=America/Chicago:20251122T100000
DTEND;TZID=America/Chicago:20251122T120000
DTSTAMP:20260425T100643
CREATED:20251104T183217Z
LAST-MODIFIED:20260419T231355Z
UID:10010312-1763805600-1763812800@ameswriterscollective.org
SUMMARY:A Generative Writing Workshop for Adults
DESCRIPTION:Do you dream of writing “someday\,” but don’t know where to start? Perhaps you already write\, but you’re stuck. \nJoin this FREE monthly writing workshop for adults\, which provides a safe space for writers of all stages and genres to generate stories inspired by prompts running the gamut from phrases\, poems\, photography\, guest authors and their prompts\, or a piece of artwork. We will read our stories to one another and share only positive feedback. \nThese workshops are inspired by the Amherst Writers & Artists Method\, which believes that everyone is a writer. \nThis workshop is held at the Ames Public Library from 10 to 12 PM upstairs in the PEO Room. \nPresented by the Iowa Center for the Book and Ames Public Library in partnership with the Ames Writers Collective.
URL:https://ameswriterscollective.org/event/a-generative-writing-workshop-for-adults-2-2/2025-11-22/
LOCATION:Ames Public Library\, 515 Douglas Avenue\, Ames\, IA\, 50010\, United States
CATEGORIES:Workshops
ATTACH;FMTTYPE=image/jpeg:https://ameswriterscollective.org/wp-content/uploads/2024/12/Generative-Writing.jpeg
ORGANIZER;CN="Ames Writers Collective in Partnership with Ames Public Library":MAILTO:info@ameswriterscollective.org
END:VEVENT
BEGIN:VEVENT
DTSTART;TZID=America/Chicago:20251122T100000
DTEND;TZID=America/Chicago:20251122T120000
DTSTAMP:20260425T100643
CREATED:20260419T225451Z
LAST-MODIFIED:20260419T232028Z
UID:10011204-1763805600-1763812800@ameswriterscollective.org
SUMMARY:A Generative Writing Workshop for Adults
DESCRIPTION:Do you dream of writing “someday\,” but don’t know where to start? Perhaps you already write\, but you’re stuck. \nJoin this FREE monthly writing workshop for adults\, which provides a safe space for writers of all stages and genres to generate stories inspired by prompts running the gamut from phrases\, poems\, photography\, guest authors and their prompts\, or a piece of artwork. We will read our stories to one another and share only positive feedback. \nThese workshops are inspired by the Amherst Writers & Artists Method\, which believes that everyone is a writer. \nThis workshop is held at the Ames Public Library from 10 to 12 PM upstairs in the PEO Room. \nPresented by the Iowa Center for the Book and Ames Public Library in partnership with the Ames Writers Collective.
URL:https://ameswriterscollective.org/event/a-generative-writing-workshop-for-adults-3/2025-11-22/
LOCATION:Ames Public Library\, 515 Douglas Avenue\, Ames\, IA\, 50010\, United States
CATEGORIES:Workshops
ATTACH;FMTTYPE=image/jpeg:https://ameswriterscollective.org/wp-content/uploads/2024/12/Generative-Writing.jpeg
ORGANIZER;CN="Ames Writers Collective in Partnership with Ames Public Library":MAILTO:info@ameswriterscollective.org
END:VEVENT
BEGIN:VEVENT
DTSTART;TZID=America/Chicago:20251122T133000
DTEND;TZID=America/Chicago:20251122T180000
DTSTAMP:20260425T100643
CREATED:20251110T170655Z
LAST-MODIFIED:20251113T212731Z
UID:10011105-1763818200-1763834400@ameswriterscollective.org
SUMMARY:Portraits of Stones w/ Karen Bermann & Claire Kruesel
DESCRIPTION:Portraits of Stones – a drawing & writing workshop\nSaturday Nov 22: 1:30 to 6:30 PM\nDrop in anytime Saturday for drawing\, writing\, and chatting with two creatives. Art materials provided for watercolor & drawing as well as stones. Objects will be used to inspire short bursts of writing. Feel free to bring your own objects for inspiration and/or drawing/writing materials. Or just stop by to view Karen’s artwork on display. \n \nKaren Bermann is the author of The Art of Being a Stranger. She has a daily practice of watercolor drawing and naming the stones in her courtyard where she resides in Rome\, Italy. \nScreenshot\nClaire Kruesel\, a resident of Ames\, is a poet and longtime creative collaborator with Karen. She writes object biographies and teaches writing.
URL:https://ameswriterscollective.org/event/portraits-of-stones-w-karen-bermann-claire-kruesel/
LOCATION:Fifth Street Writers\, 612 5th Street\, Ames\, 50010\, United States
CATEGORIES:Workshops
ATTACH;FMTTYPE=image/jpeg:https://ameswriterscollective.org/wp-content/uploads/2025/11/Portrait-Stones.jpg
ORGANIZER;CN="Ames Writers Collective":MAILTO:ana@ameswriterscollective.org
END:VEVENT
END:VCALENDAR