BEGIN:VCALENDAR
VERSION:2.0
PRODID:-//Ames Writers Collective - ECPv6.15.17//NONSGML v1.0//EN
CALSCALE:GREGORIAN
METHOD:PUBLISH
X-WR-CALNAME:Ames Writers Collective
X-ORIGINAL-URL:https://ameswriterscollective.org
X-WR-CALDESC:Events for Ames Writers Collective
REFRESH-INTERVAL;VALUE=DURATION:PT1H
X-Robots-Tag:noindex
X-PUBLISHED-TTL:PT1H
BEGIN:VTIMEZONE
TZID:America/Chicago
BEGIN:DAYLIGHT
TZOFFSETFROM:-0600
TZOFFSETTO:-0500
TZNAME:CDT
DTSTART:20240310T080000
END:DAYLIGHT
BEGIN:STANDARD
TZOFFSETFROM:-0500
TZOFFSETTO:-0600
TZNAME:CST
DTSTART:20241103T070000
END:STANDARD
BEGIN:DAYLIGHT
TZOFFSETFROM:-0600
TZOFFSETTO:-0500
TZNAME:CDT
DTSTART:20250309T080000
END:DAYLIGHT
BEGIN:STANDARD
TZOFFSETFROM:-0500
TZOFFSETTO:-0600
TZNAME:CST
DTSTART:20251102T070000
END:STANDARD
BEGIN:DAYLIGHT
TZOFFSETFROM:-0600
TZOFFSETTO:-0500
TZNAME:CDT
DTSTART:20260308T080000
END:DAYLIGHT
BEGIN:STANDARD
TZOFFSETFROM:-0500
TZOFFSETTO:-0600
TZNAME:CST
DTSTART:20261101T070000
END:STANDARD
END:VTIMEZONE
BEGIN:VEVENT
DTSTART;TZID=America/Chicago:20251227T100000
DTEND;TZID=America/Chicago:20251227T120000
DTSTAMP:20260425T101228
CREATED:20251104T183447Z
LAST-MODIFIED:20251104T183742Z
UID:10011096-1766829600-1766836800@ameswriterscollective.org
SUMMARY:NO December Generative Writing Workshop for Adults
DESCRIPTION:THIS DECEMBER EVENT IS CANCELED due to the holidays! \nDo you dream of writing “someday\,” but don’t know where to start? Perhaps you already write\, but you’re stuck. \nJoin this FREE monthly writing workshop for adults\, which provides a safe space for writers of all stages and genres to generate stories inspired by prompts running the gamut from phrases\, poems\, photography\, guest authors and their prompts\, or a piece of artwork. We will read our stories to one another and share only positive feedback. \nThese workshops are inspired by the Amherst Writers & Artists Method\, which believes that everyone is a writer. \nThis workshop is held at the Ames Public Library from 10 to 12 PM upstairs in the PEO Room. \nPresented by the Iowa Center for the Book and Ames Public Library in partnership with the Ames Writers Collective.
URL:https://ameswriterscollective.org/event/no-dec-generative-writing-workshop-for-adults/2025-12-27/
LOCATION:Ames Public Library\, 515 Douglas Avenue\, Ames\, IA\, 50010\, United States
CATEGORIES:Workshops
ORGANIZER;CN="Ames Writers Collective in Partnership with Ames Public Library":MAILTO:info@ameswriterscollective.org
END:VEVENT
END:VCALENDAR