BEGIN:VCALENDAR
VERSION:2.0
PRODID:-//Ames Writers Collective - ECPv6.15.17//NONSGML v1.0//EN
CALSCALE:GREGORIAN
METHOD:PUBLISH
X-ORIGINAL-URL:https://ameswriterscollective.org
X-WR-CALDESC:Events for Ames Writers Collective
REFRESH-INTERVAL;VALUE=DURATION:PT1H
X-Robots-Tag:noindex
X-PUBLISHED-TTL:PT1H
BEGIN:VTIMEZONE
TZID:America/Chicago
BEGIN:DAYLIGHT
TZOFFSETFROM:-0600
TZOFFSETTO:-0500
TZNAME:CDT
DTSTART:20230312T080000
END:DAYLIGHT
BEGIN:STANDARD
TZOFFSETFROM:-0500
TZOFFSETTO:-0600
TZNAME:CST
DTSTART:20231105T070000
END:STANDARD
BEGIN:DAYLIGHT
TZOFFSETFROM:-0600
TZOFFSETTO:-0500
TZNAME:CDT
DTSTART:20240310T080000
END:DAYLIGHT
BEGIN:STANDARD
TZOFFSETFROM:-0500
TZOFFSETTO:-0600
TZNAME:CST
DTSTART:20241103T070000
END:STANDARD
BEGIN:DAYLIGHT
TZOFFSETFROM:-0600
TZOFFSETTO:-0500
TZNAME:CDT
DTSTART:20250309T080000
END:DAYLIGHT
BEGIN:STANDARD
TZOFFSETFROM:-0500
TZOFFSETTO:-0600
TZNAME:CST
DTSTART:20251102T070000
END:STANDARD
END:VTIMEZONE
BEGIN:VTIMEZONE
TZID:UTC
BEGIN:STANDARD
TZOFFSETFROM:+0000
TZOFFSETTO:+0000
TZNAME:UTC
DTSTART:20230101T000000
END:STANDARD
END:VTIMEZONE
BEGIN:VEVENT
DTSTART;TZID=America/Chicago:20240602T130000
DTEND;TZID=America/Chicago:20240602T150000
DTSTAMP:20260424T221344
CREATED:20240425T131833Z
LAST-MODIFIED:20240425T132700Z
UID:10010255-1717333200-1717340400@ameswriterscollective.org
SUMMARY:Ames Writers Collective & William R. Bliss Cancer Center Survivorship Day 2024
DESCRIPTION:Join Ana McCracken\, founder of the Ames Writers Collective & the William R. Bliss Cancer Center for Survivorship Day 2024 \nComplimentary admission is included for this event.\nRefreshments & FUN!Becca the Balloon LadyFriend’s Flowers Bouquet Building (while supplies last)Ames Writers Collective: Pop-Up Writing Through Cancer Session \nWho is a Cancer Survivor? The National Cancer Survivors Day Foundation defines SURVIVOR as anyone living with a history of cancer – from the moment of diagnosis through the remainder of life. \nRSVP for the event\, including family/friends at www.blisscancercenter.org/survivor. \n\n#ameswriterscollective #blisscancercenter #writingthroughcancercircles#writingcirclewednesdays \nSee less
URL:https://ameswriterscollective.org/event/5642/
LOCATION:Reiman Gardens\, 1407 University Blvd\, Ames\, IA\, 50014\, United States
CATEGORIES:Special Events
ATTACH;FMTTYPE=image/jpeg:https://ameswriterscollective.org/wp-content/uploads/2024/04/Instagram-Size.jpg
END:VEVENT
BEGIN:VEVENT
DTSTART;TZID=UTC:20240624T100000
DTEND;TZID=UTC:20240628T123000
DTSTAMP:20260424T221344
CREATED:20240205T044155Z
LAST-MODIFIED:20240619T160448Z
UID:10010239-1719223200-1719577800@ameswriterscollective.org
SUMMARY:June 24 to 28\, 2024 | Swift Youth Writers Workshop
DESCRIPTION:Open to 6th to 12th Graders\nFive consecutive sessions – June 24 to 28th\n10:00 AM to 12:30 PM\nLocation: Ames Public Library\nFREE \n\n\nIn partnership with the Ames Public Library\, our Swift Youth Writers Workshops offer kids an escape into creative writing and the opportunity to connect with other youth writers. \n\n\nRegardless of genre\, for five days writers will come together in a safe space to read an inspirational piece of writing and write together to timed-writing prompts. At the end of each session\, writers will be invited to read aloud to the group to receive positive feedback. \nThese sessions are based upon the Amherst Writers & Artists Method\, a methodology rooted in the belief that everyone is a writer. All feedback given is focused on the unique voice and strengths of the writer to encourage and model authenticity\, peer support\, and self-confidence. \n \n  \nThese FREE sessions are held at the Ames Public Library. The Ames Writers Collective’s Community Outreach programs are funded by our generous donors\, and held in partnership between the Ames Public Library and the Ames Writers Collective. \nFrom one of our previous Youth Writers: “I learned from sharing my work with the group that I’m more confident than I thought. I felt that sharing with the group allowed for fair criticism that allowed me to improve my writing and it helped boost my confidence in my work.” -RC \n\n\nEmail Us to Register Today!\nPlease include your name\, your teenager’s name\, and your phone number in your message. \nClass of 2023!\nClass of 2022!\n  \n  \n  \n  \n  \n  \nThis FREE Ames Writers Collective Community Outreach Program is funded by a Kiwanis Club of Ames Grant\, and held in partnership between the Ames Public Library and the Ames Writers Collective.
URL:https://ameswriterscollective.org/event/june-24-to-28-2024-swift-youth-writers-workshop/
LOCATION:Ames Public Library\, 515 Douglas Avenue\, Ames\, IA\, 50010\, United States
CATEGORIES:Classes,Workshops
ATTACH;FMTTYPE=image/jpeg:https://ameswriterscollective.org/wp-content/uploads/2024/04/2024-Swift-Youth-Writers-Workshop.jpg
ORGANIZER;CN="Ames Writers Collective":MAILTO:ana@ameswriterscollective.org
END:VEVENT
BEGIN:VEVENT
DTSTART;TZID=America/Chicago:20240625T153000
DTEND;TZID=America/Chicago:20240625T170000
DTSTAMP:20260424T221344
CREATED:20240620T212030Z
LAST-MODIFIED:20240620T212621Z
UID:10010256-1719329400-1719334800@ameswriterscollective.org
SUMMARY:Open Write Tuesday with Speculative Fiction Author Rachel Aukes
DESCRIPTION:Join Rachel Aukes for our Open Write Tuesday on Zoom. \nWHAT’S AN OPEN WRITE?\n\nWe Zoom in\, share what we’re working on\, and write for ~90 minutes. At the end\, we share our successes\, and sign off. Easy peasy. \n \nClick here to register for the Zoom link. \nTo learn about Rachel and what she’s written and published\, check her out here.
URL:https://ameswriterscollective.org/event/open-write-tuesday-with-speculative-fiction-author-rachel-aukes-2/
LOCATION:IA
CATEGORIES:Open Write
END:VEVENT
END:VCALENDAR