BEGIN:VCALENDAR
VERSION:2.0
PRODID:-//Ames Writers Collective - ECPv6.15.17//NONSGML v1.0//EN
CALSCALE:GREGORIAN
METHOD:PUBLISH
X-WR-CALNAME:Ames Writers Collective
X-ORIGINAL-URL:https://ameswriterscollective.org
X-WR-CALDESC:Events for Ames Writers Collective
REFRESH-INTERVAL;VALUE=DURATION:PT1H
X-Robots-Tag:noindex
X-PUBLISHED-TTL:PT1H
BEGIN:VTIMEZONE
TZID:America/Chicago
BEGIN:DAYLIGHT
TZOFFSETFROM:-0600
TZOFFSETTO:-0500
TZNAME:CDT
DTSTART:20230312T080000
END:DAYLIGHT
BEGIN:STANDARD
TZOFFSETFROM:-0500
TZOFFSETTO:-0600
TZNAME:CST
DTSTART:20231105T070000
END:STANDARD
BEGIN:DAYLIGHT
TZOFFSETFROM:-0600
TZOFFSETTO:-0500
TZNAME:CDT
DTSTART:20240310T080000
END:DAYLIGHT
BEGIN:STANDARD
TZOFFSETFROM:-0500
TZOFFSETTO:-0600
TZNAME:CST
DTSTART:20241103T070000
END:STANDARD
BEGIN:DAYLIGHT
TZOFFSETFROM:-0600
TZOFFSETTO:-0500
TZNAME:CDT
DTSTART:20250309T080000
END:DAYLIGHT
BEGIN:STANDARD
TZOFFSETFROM:-0500
TZOFFSETTO:-0600
TZNAME:CST
DTSTART:20251102T070000
END:STANDARD
END:VTIMEZONE
BEGIN:VEVENT
DTSTART;TZID=America/Chicago:20241106T150000
DTEND;TZID=America/Chicago:20241106T170000
DTSTAMP:20260425T142500
CREATED:20240901T200423Z
LAST-MODIFIED:20240901T200423Z
UID:10010284-1730905200-1730912400@ameswriterscollective.org
SUMMARY:Writing Circle Wednesdays
DESCRIPTION:Writing Circle Wednesdays are for individuals who are currently receiving or who have completed cancer treatments.\nThese sessions meet on Zoom from 3 to 5 PM CT.\nAnyone interested may join at any time. \nLiving with cancer is a lonely journey. Only those who have been or are on that same journey truly understand the emotions\, fears and challenges we face each day. I was hoping to gain some insight into how others coped with their diagnosis. I not only gained that\, but also came to understand more fully my own reactions to my personal cancer story. This was a valuable experience for me. I don’t feel quite as alone as I did. —A Past Participant \nThese sessions are led by Ana McCracken\, founder of the Ames Writers Collective and held in partnership with the William R. Bliss Cancer Center located in Ames\, Iowa. Registration is free and required. Contact Ana for questions and to register.
URL:https://ameswriterscollective.org/event/writing-circle-wednesdays-15/
LOCATION:IA
CATEGORIES:Cancer Writing Circles
ATTACH;FMTTYPE=application/pdf:https://ameswriterscollective.org/wp-content/uploads/2024/09/Writing-Through-Cancer-.pdf
END:VEVENT
BEGIN:VEVENT
DTSTART;TZID=America/Chicago:20241110T140000
DTEND;TZID=America/Chicago:20241110T160000
DTSTAMP:20260425T142500
CREATED:20240901T191632Z
LAST-MODIFIED:20241122T152210Z
UID:10010271-1731247200-1731254400@ameswriterscollective.org
SUMMARY:2nd Sunday Swift Youth Writers Groups
DESCRIPTION:Join on  November 10th for the 2nd Sunday Swift Youth Writers Group held from 2 to 4 PM at the Ames Public Library. We are scheduled to meet in the P.E.O. room\, but check monitors incase the location changes.\n\nWe supply notebooks\, pens and other materials to prompt and inspire stories. This Sunday\, Ana McCracken will lead the Swift Youth Writers group. She looks forward to writing with those of you who can join her.\n\n\n\nSwift Youth Writers Groups are an Ames Writers Collective FREE community outreach program held in partnership with the Ames Public Library. The Ames Writers Collective community outreach programs are funded by grants and generous donors.\n\nJoin us! Happy Writing!
URL:https://ameswriterscollective.org/event/2nd-sunday-swift-youth-writers-groups-3/
LOCATION:IA
CATEGORIES:Special Events
ATTACH;FMTTYPE=image/jpeg:https://ameswriterscollective.org/wp-content/uploads/2024/09/IMG_3803.jpeg
ORGANIZER;CN="Ames Writers Collective in Partnership with Ames Public Library":MAILTO:info@ameswriterscollective.org
END:VEVENT
BEGIN:VEVENT
DTSTART;TZID=America/Chicago:20241111T173000
DTEND;TZID=America/Chicago:20241111T193000
DTSTAMP:20260425T142500
CREATED:20240901T191207Z
LAST-MODIFIED:20240901T191207Z
UID:10010267-1731346200-1731353400@ameswriterscollective.org
SUMMARY:Writing Circle Mondays | John Stoddard Cancer Center
DESCRIPTION:Writing Circle Monday sessions are sponsored by Stoddard Cancer Center as part of the Charlie Cutler Healing and Wellness Program and inspired by the Amherst Writers & Artists  method\, which believes that everyone is a writer. \nEach session participants create a safe space\, and then write together for timed intervals to writing prompts. Writing prompts inspire stories from participants’ lives. After each timed-writing session\, participants will have the opportunity to read their stories to the group\, which is healing on many levels. \nCancer patients and survivors are welcome to sign up for one to eight sessions. Registration is required\, as each session will cap at 10 writers. For questions or to register\, call (515) 241-8505 or email Gina Mandernach at Unity Point at gina.mandernach@unitypoint.org.
URL:https://ameswriterscollective.org/event/writing-circle-mondays-john-stoddard-cancer-center-18/
LOCATION:IA
CATEGORIES:Cancer Writing Circles
ATTACH;FMTTYPE=image/jpeg:https://ameswriterscollective.org/wp-content/uploads/2024/09/Writing-Circle-Mondays-Flyer-New-2024.jpg
END:VEVENT
BEGIN:VEVENT
DTSTART;TZID=America/Chicago:20241112T190000
DTEND;TZID=America/Chicago:20241112T200000
DTSTAMP:20260425T142500
CREATED:20241110T031611Z
LAST-MODIFIED:20241110T031611Z
UID:10010298-1731438000-1731441600@ameswriterscollective.org
SUMMARY:Ruth Harkin at the Ames Public Library
DESCRIPTION:
URL:https://ameswriterscollective.org/event/ruth-harkin-at-the-ames-public-library/
LOCATION:Ames Public Library\, 515 Douglas Avenue\, Ames\, IA\, 50010\, United States
CATEGORIES:Author Talks
ATTACH;FMTTYPE=image/jpeg:https://ameswriterscollective.org/wp-content/uploads/2024/11/Ames-Public-Library-Harkin.jpg
END:VEVENT
BEGIN:VEVENT
DTSTART;TZID=America/Chicago:20241119T180000
DTEND;TZID=America/Chicago:20241119T200000
DTSTAMP:20260425T142500
CREATED:20241030T154727Z
LAST-MODIFIED:20241110T030556Z
UID:10010296-1732039200-1732046400@ameswriterscollective.org
SUMMARY:Gathering of Artists
DESCRIPTION:Join the Ames Community Art Council and the Ames Writers Collective on November 19 from 6:00 pm – 8:00 pm for the monthly Gathering of Artists event. This event will be the first in a series of soft opening events for Fifth Street\, our new writers co-working space in downtown Ames. Meet with other writers and our director Ana Hays McCracken to explore the space as it’s open for the first time. Learn about the Fifth Street Writers community and how to become involved!
URL:https://ameswriterscollective.org/event/gathering-of-artists/
LOCATION:IA
CATEGORIES:Special Events
END:VEVENT
BEGIN:VEVENT
DTSTART;TZID=America/Chicago:20241120T150000
DTEND;TZID=America/Chicago:20241120T170000
DTSTAMP:20260425T142500
CREATED:20240901T200514Z
LAST-MODIFIED:20240901T200514Z
UID:10010285-1732114800-1732122000@ameswriterscollective.org
SUMMARY:Writing Circle Wednesdays
DESCRIPTION:Writing Circle Wednesdays are for individuals who are currently receiving or who have completed cancer treatments.\nThese sessions meet on Zoom from 3 to 5 PM CT.\nAnyone interested may join at any time. \nLiving with cancer is a lonely journey. Only those who have been or are on that same journey truly understand the emotions\, fears and challenges we face each day. I was hoping to gain some insight into how others coped with their diagnosis. I not only gained that\, but also came to understand more fully my own reactions to my personal cancer story. This was a valuable experience for me. I don’t feel quite as alone as I did. —A Past Participant \nThese sessions are led by Ana McCracken\, founder of the Ames Writers Collective and held in partnership with the William R. Bliss Cancer Center located in Ames\, Iowa. Registration is free and required. Contact Ana for questions and to register.
URL:https://ameswriterscollective.org/event/writing-circle-wednesdays-16/
LOCATION:IA
CATEGORIES:Cancer Writing Circles
ATTACH;FMTTYPE=application/pdf:https://ameswriterscollective.org/wp-content/uploads/2024/09/Writing-Through-Cancer-.pdf
END:VEVENT
BEGIN:VEVENT
DTSTART;TZID=America/Chicago:20241125T173000
DTEND;TZID=America/Chicago:20241125T193000
DTSTAMP:20260425T142500
CREATED:20240901T191232Z
LAST-MODIFIED:20240901T191232Z
UID:10010268-1732555800-1732563000@ameswriterscollective.org
SUMMARY:Writing Circle Mondays | John Stoddard Cancer Center
DESCRIPTION:Writing Circle Monday sessions are sponsored by Stoddard Cancer Center as part of the Charlie Cutler Healing and Wellness Program and inspired by the Amherst Writers & Artists  method\, which believes that everyone is a writer. \nEach session participants create a safe space\, and then write together for timed intervals to writing prompts. Writing prompts inspire stories from participants’ lives. After each timed-writing session\, participants will have the opportunity to read their stories to the group\, which is healing on many levels. \nCancer patients and survivors are welcome to sign up for one to eight sessions. Registration is required\, as each session will cap at 10 writers. For questions or to register\, call (515) 241-8505 or email Gina Mandernach at Unity Point at gina.mandernach@unitypoint.org.
URL:https://ameswriterscollective.org/event/writing-circle-mondays-john-stoddard-cancer-center-19/
LOCATION:IA
CATEGORIES:Cancer Writing Circles
ATTACH;FMTTYPE=image/jpeg:https://ameswriterscollective.org/wp-content/uploads/2024/09/Writing-Circle-Mondays-Flyer-New-2024.jpg
END:VEVENT
BEGIN:VEVENT
DTSTART;TZID=America/Chicago:20241125T173000
DTEND;TZID=America/Chicago:20241125T193000
DTSTAMP:20260425T142500
CREATED:20240901T193707Z
LAST-MODIFIED:20240901T193707Z
UID:10010272-1732555800-1732563000@ameswriterscollective.org
SUMMARY:Writing Circle Mondays | John Stoddard Cancer Center
DESCRIPTION:Writing Circle Monday sessions are sponsored by Stoddard Cancer Center as part of the Charlie Cutler Healing and Wellness Program and inspired by the Amherst Writers & Artists  method\, which believes that everyone is a writer. \nEach session participants create a safe space\, and then write together for timed intervals to writing prompts. Writing prompts inspire stories from participants’ lives. After each timed-writing session\, participants will have the opportunity to read their stories to the group\, which is healing on many levels. \nCancer patients and survivors are welcome to sign up for one to eight sessions. Registration is required\, as each session will cap at 10 writers. For questions or to register\, call (515) 241-8505 or email Gina Mandernach at Unity Point at gina.mandernach@unitypoint.org.
URL:https://ameswriterscollective.org/event/writing-circle-mondays-john-stoddard-cancer-center-22/
LOCATION:IA
CATEGORIES:Cancer Writing Circles
ATTACH;FMTTYPE=image/jpeg:https://ameswriterscollective.org/wp-content/uploads/2024/09/Writing-Circle-Mondays-Flyer-New-2024.jpg
END:VEVENT
BEGIN:VEVENT
DTSTART;TZID=America/Chicago:20241126T153000
DTEND;TZID=America/Chicago:20241126T170000
DTSTAMP:20260425T142500
CREATED:20241121T224144Z
LAST-MODIFIED:20250116T172304Z
UID:10010361-1732635000-1732640400@ameswriterscollective.org
SUMMARY:Open Write Tuesday with founder\, Ana McCracken
DESCRIPTION:Join Ana McCracken for our Open Write Tuesday on Zoom or in person at Fifth Street Writers. \nWHAT’S AN OPEN WRITE?\n\nWe join together\, share what we’re working on\, and write for ~90 minutes. At the end\, we share our successes\, and sign off. Easy peasy. \n \nEmail Ana\, ana@ameswriterscollective.org to register for the event. \nTo learn about Ana \, check her out here.
URL:https://ameswriterscollective.org/event/open-write-tuesday-with-founder-ana-mccracken-2/2024-11-26/
LOCATION:IA
CATEGORIES:Open Write
END:VEVENT
END:VCALENDAR