BEGIN:VCALENDAR
VERSION:2.0
PRODID:-//Ames Writers Collective - ECPv6.15.17//NONSGML v1.0//EN
CALSCALE:GREGORIAN
METHOD:PUBLISH
X-WR-CALNAME:Ames Writers Collective
X-ORIGINAL-URL:https://ameswriterscollective.org
X-WR-CALDESC:Events for Ames Writers Collective
REFRESH-INTERVAL;VALUE=DURATION:PT1H
X-Robots-Tag:noindex
X-PUBLISHED-TTL:PT1H
BEGIN:VTIMEZONE
TZID:America/Chicago
BEGIN:DAYLIGHT
TZOFFSETFROM:-0600
TZOFFSETTO:-0500
TZNAME:CDT
DTSTART:20230312T080000
END:DAYLIGHT
BEGIN:STANDARD
TZOFFSETFROM:-0500
TZOFFSETTO:-0600
TZNAME:CST
DTSTART:20231105T070000
END:STANDARD
BEGIN:DAYLIGHT
TZOFFSETFROM:-0600
TZOFFSETTO:-0500
TZNAME:CDT
DTSTART:20240310T080000
END:DAYLIGHT
BEGIN:STANDARD
TZOFFSETFROM:-0500
TZOFFSETTO:-0600
TZNAME:CST
DTSTART:20241103T070000
END:STANDARD
BEGIN:DAYLIGHT
TZOFFSETFROM:-0600
TZOFFSETTO:-0500
TZNAME:CDT
DTSTART:20250309T080000
END:DAYLIGHT
BEGIN:STANDARD
TZOFFSETFROM:-0500
TZOFFSETTO:-0600
TZNAME:CST
DTSTART:20251102T070000
END:STANDARD
END:VTIMEZONE
BEGIN:VEVENT
DTSTART;TZID=America/Chicago:20241204T150000
DTEND;TZID=America/Chicago:20241204T170000
DTSTAMP:20260425T153849
CREATED:20240901T200552Z
LAST-MODIFIED:20240901T200552Z
UID:10010286-1733324400-1733331600@ameswriterscollective.org
SUMMARY:Writing Circle Wednesdays
DESCRIPTION:Writing Circle Wednesdays are for individuals who are currently receiving or who have completed cancer treatments.\nThese sessions meet on Zoom from 3 to 5 PM CT.\nAnyone interested may join at any time. \nLiving with cancer is a lonely journey. Only those who have been or are on that same journey truly understand the emotions\, fears and challenges we face each day. I was hoping to gain some insight into how others coped with their diagnosis. I not only gained that\, but also came to understand more fully my own reactions to my personal cancer story. This was a valuable experience for me. I don’t feel quite as alone as I did. —A Past Participant \nThese sessions are led by Ana McCracken\, founder of the Ames Writers Collective and held in partnership with the William R. Bliss Cancer Center located in Ames\, Iowa. Registration is free and required. Contact Ana for questions and to register.
URL:https://ameswriterscollective.org/event/writing-circle-wednesdays-17/
LOCATION:IA
CATEGORIES:Cancer Writing Circles
ATTACH;FMTTYPE=application/pdf:https://ameswriterscollective.org/wp-content/uploads/2024/09/Writing-Through-Cancer-.pdf
END:VEVENT
BEGIN:VEVENT
DTSTART;TZID=America/Chicago:20241208T140000
DTEND;TZID=America/Chicago:20241208T160000
DTSTAMP:20260425T153849
CREATED:20240901T192250Z
LAST-MODIFIED:20241204T024720Z
UID:10010273-1733666400-1733673600@ameswriterscollective.org
SUMMARY:CANCELED | 2nd Sunday Swift Youth Writers Groups
DESCRIPTION:CANCELED | CANCELED | CANCELED \nJoin us again\, \non January 12th (the 2nd Sunday in January) from\n2 to 4 PM in the PEO Room at\nthe Ames Public Library
URL:https://ameswriterscollective.org/event/2nd-sunday-swift-youth-writers-groups-4/
LOCATION:IA
CATEGORIES:Special Events
ATTACH;FMTTYPE=image/jpeg:https://ameswriterscollective.org/wp-content/uploads/2024/09/IMG_3819-scaled.jpeg
ORGANIZER;CN="Ames Writers Collective in Partnership with Ames Public Library":MAILTO:info@ameswriterscollective.org
END:VEVENT
BEGIN:VEVENT
DTSTART;TZID=America/Chicago:20241209T173000
DTEND;TZID=America/Chicago:20241209T193000
DTSTAMP:20260425T153849
CREATED:20240901T191256Z
LAST-MODIFIED:20240901T191256Z
UID:10010269-1733765400-1733772600@ameswriterscollective.org
SUMMARY:Writing Circle Mondays | John Stoddard Cancer Center
DESCRIPTION:Writing Circle Monday sessions are sponsored by Stoddard Cancer Center as part of the Charlie Cutler Healing and Wellness Program and inspired by the Amherst Writers & Artists  method\, which believes that everyone is a writer. \nEach session participants create a safe space\, and then write together for timed intervals to writing prompts. Writing prompts inspire stories from participants’ lives. After each timed-writing session\, participants will have the opportunity to read their stories to the group\, which is healing on many levels. \nCancer patients and survivors are welcome to sign up for one to eight sessions. Registration is required\, as each session will cap at 10 writers. For questions or to register\, call (515) 241-8505 or email Gina Mandernach at Unity Point at gina.mandernach@unitypoint.org.
URL:https://ameswriterscollective.org/event/writing-circle-mondays-john-stoddard-cancer-center-20/
LOCATION:IA
CATEGORIES:Cancer Writing Circles
ATTACH;FMTTYPE=image/jpeg:https://ameswriterscollective.org/wp-content/uploads/2024/09/Writing-Circle-Mondays-Flyer-New-2024.jpg
END:VEVENT
BEGIN:VEVENT
DTSTART;TZID=America/Chicago:20241210T153000
DTEND;TZID=America/Chicago:20241210T170000
DTSTAMP:20260425T153849
CREATED:20241204T035433Z
LAST-MODIFIED:20250116T171032Z
UID:10010483-1733844600-1733850000@ameswriterscollective.org
SUMMARY:Open Write Tuesday with founder\, Ana McCracken
DESCRIPTION:Join Ana McCracken for Open Write Tuesdays on Zoom or in person at 612 Fifth Street. \nWHAT’S AN OPEN WRITE?\n\nWe join togethor\, share what we’re working on\, and write for ~90 minutes. At the end\, we share our successes\, and sign off. Easy peasy. \n \nClick here to register for Open Writes. \nTo learn about Ana\, click here.
URL:https://ameswriterscollective.org/event/open-write-tuesday-with-founder-ana-mccracken-3/
LOCATION:On Zoom
CATEGORIES:Open Write
ORGANIZER;CN="Ames Writers Collective":MAILTO:ana@ameswriterscollective.org
END:VEVENT
BEGIN:VEVENT
DTSTART;TZID=America/Chicago:20241217T190000
DTEND;TZID=America/Chicago:20241217T210000
DTSTAMP:20260425T153849
CREATED:20241204T024210Z
LAST-MODIFIED:20241204T024210Z
UID:10010421-1734462000-1734469200@ameswriterscollective.org
SUMMARY:Author Spotlight | Anna Jinja Mather
DESCRIPTION:
URL:https://ameswriterscollective.org/event/author-spotlight-anna-jinja-mather/
LOCATION:KHOI Community Radio Station\, 622 Douglas Avenue\, Ames\, IA\, 50010
CATEGORIES:Author Talks
ATTACH;FMTTYPE=image/jpeg:https://ameswriterscollective.org/wp-content/uploads/2024/12/Anna-Jinja-Mather-Author-Spotlight-final.jpg
ORGANIZER;CN="Ames Writers Collective in Partnership with KHOI Community Radio":MAILTO:info@ameswriterscollective.org
END:VEVENT
BEGIN:VEVENT
DTSTART;TZID=America/Chicago:20241218T150000
DTEND;TZID=America/Chicago:20241218T170000
DTSTAMP:20260425T153849
CREATED:20240901T200633Z
LAST-MODIFIED:20240901T200644Z
UID:10010287-1734534000-1734541200@ameswriterscollective.org
SUMMARY:Writing Circle Wednesdays
DESCRIPTION:Writing Circle Wednesdays are for individuals who are currently receiving or who have completed cancer treatments.\nThese sessions meet on Zoom from 3 to 5 PM CT.\nAnyone interested may join at any time. \nLiving with cancer is a lonely journey. Only those who have been or are on that same journey truly understand the emotions\, fears and challenges we face each day. I was hoping to gain some insight into how others coped with their diagnosis. I not only gained that\, but also came to understand more fully my own reactions to my personal cancer story. This was a valuable experience for me. I don’t feel quite as alone as I did. —A Past Participant \nThese sessions are led by Ana McCracken\, founder of the Ames Writers Collective and held in partnership with the William R. Bliss Cancer Center located in Ames\, Iowa. Registration is free and required. Contact Ana for questions and to register.
URL:https://ameswriterscollective.org/event/writing-circle-wednesdays-18/
LOCATION:IA
CATEGORIES:Cancer Writing Circles
ATTACH;FMTTYPE=application/pdf:https://ameswriterscollective.org/wp-content/uploads/2024/09/Writing-Through-Cancer-.pdf
END:VEVENT
BEGIN:VEVENT
DTSTART;TZID=America/Chicago:20241223T173000
DTEND;TZID=America/Chicago:20241223T193000
DTSTAMP:20260425T153849
CREATED:20240901T191321Z
LAST-MODIFIED:20240901T191321Z
UID:10010270-1734975000-1734982200@ameswriterscollective.org
SUMMARY:Writing Circle Mondays | John Stoddard Cancer Center
DESCRIPTION:Writing Circle Monday sessions are sponsored by Stoddard Cancer Center as part of the Charlie Cutler Healing and Wellness Program and inspired by the Amherst Writers & Artists  method\, which believes that everyone is a writer. \nEach session participants create a safe space\, and then write together for timed intervals to writing prompts. Writing prompts inspire stories from participants’ lives. After each timed-writing session\, participants will have the opportunity to read their stories to the group\, which is healing on many levels. \nCancer patients and survivors are welcome to sign up for one to eight sessions. Registration is required\, as each session will cap at 10 writers. For questions or to register\, call (515) 241-8505 or email Gina Mandernach at Unity Point at gina.mandernach@unitypoint.org.
URL:https://ameswriterscollective.org/event/writing-circle-mondays-john-stoddard-cancer-center-21/
LOCATION:IA
CATEGORIES:Cancer Writing Circles
ATTACH;FMTTYPE=image/jpeg:https://ameswriterscollective.org/wp-content/uploads/2024/09/Writing-Circle-Mondays-Flyer-New-2024.jpg
END:VEVENT
BEGIN:VEVENT
DTSTART;TZID=America/Chicago:20241224T153000
DTEND;TZID=America/Chicago:20241224T170000
DTSTAMP:20260425T153849
CREATED:20241121T224144Z
LAST-MODIFIED:20250116T172304Z
UID:10010362-1735054200-1735059600@ameswriterscollective.org
SUMMARY:Open Write Tuesday with founder\, Ana McCracken
DESCRIPTION:Join Ana McCracken for our Open Write Tuesday on Zoom or in person at Fifth Street Writers. \nWHAT’S AN OPEN WRITE?\n\nWe join together\, share what we’re working on\, and write for ~90 minutes. At the end\, we share our successes\, and sign off. Easy peasy. \n \nEmail Ana\, ana@ameswriterscollective.org to register for the event. \nTo learn about Ana \, check her out here.
URL:https://ameswriterscollective.org/event/open-write-tuesday-with-founder-ana-mccracken-2/2024-12-24/
LOCATION:IA
CATEGORIES:Open Write
END:VEVENT
END:VCALENDAR