BEGIN:VCALENDAR
VERSION:2.0
PRODID:-//Ames Writers Collective - ECPv6.15.17//NONSGML v1.0//EN
CALSCALE:GREGORIAN
METHOD:PUBLISH
X-ORIGINAL-URL:https://ameswriterscollective.org
X-WR-CALDESC:Events for Ames Writers Collective
REFRESH-INTERVAL;VALUE=DURATION:PT1H
X-Robots-Tag:noindex
X-PUBLISHED-TTL:PT1H
BEGIN:VTIMEZONE
TZID:America/Chicago
BEGIN:DAYLIGHT
TZOFFSETFROM:-0600
TZOFFSETTO:-0500
TZNAME:CDT
DTSTART:20240310T080000
END:DAYLIGHT
BEGIN:STANDARD
TZOFFSETFROM:-0500
TZOFFSETTO:-0600
TZNAME:CST
DTSTART:20241103T070000
END:STANDARD
BEGIN:DAYLIGHT
TZOFFSETFROM:-0600
TZOFFSETTO:-0500
TZNAME:CDT
DTSTART:20250309T080000
END:DAYLIGHT
BEGIN:STANDARD
TZOFFSETFROM:-0500
TZOFFSETTO:-0600
TZNAME:CST
DTSTART:20251102T070000
END:STANDARD
BEGIN:DAYLIGHT
TZOFFSETFROM:-0600
TZOFFSETTO:-0500
TZNAME:CDT
DTSTART:20260308T080000
END:DAYLIGHT
BEGIN:STANDARD
TZOFFSETFROM:-0500
TZOFFSETTO:-0600
TZNAME:CST
DTSTART:20261101T070000
END:STANDARD
END:VTIMEZONE
BEGIN:VEVENT
DTSTART;TZID=America/Chicago:20250605T170000
DTEND;TZID=America/Chicago:20250605T200000
DTSTAMP:20260425T100143
CREATED:20250527T152919Z
LAST-MODIFIED:20250527T152919Z
UID:10010933-1749142800-1749153600@ameswriterscollective.org
SUMMARY:Downtown Ames Art Walk
DESCRIPTION:The Ames Writers Collective Fifth Street Writers is proud to participate in the Downtown Ames Art Walk 2025. \nJoin us and musicians\, Liz Morse and Zachary Cosmos. We’ll provide a Poetry Postcard Collage booth for creativity and community camaraderie. Learn about Fifth Street Writers while you are visiting our space.
URL:https://ameswriterscollective.org/event/downtown-ames-art-walk/
LOCATION:Ames Writer Collective Fifth Street Writers\, 612 5th Street\, Ames\, Iowa\, 50014\, United States
CATEGORIES:Special Events
ATTACH;FMTTYPE=image/jpeg:https://ameswriterscollective.org/wp-content/uploads/2025/05/IMG_7561-1.jpeg
END:VEVENT
BEGIN:VEVENT
DTSTART;TZID=America/Chicago:20250609T173000
DTEND;TZID=America/Chicago:20250609T193000
DTSTAMP:20260425T100143
CREATED:20250518T175300Z
LAST-MODIFIED:20250518T175300Z
UID:10010917-1749490200-1749497400@ameswriterscollective.org
SUMMARY:Writing Circle Mondays | John Stoddard Cancer Center
DESCRIPTION:Writing Circle Monday sessions are sponsored by Stoddard Cancer Center as part of the Charlie Cutler Healing and Wellness Program and inspired by the Amherst Writers & Artists  method\, which believes that everyone is a writer. \nEach session participants create a safe space\, and then write together for timed intervals to writing prompts. Writing prompts inspire stories from participants’ lives. After each timed-writing session\, participants will have the opportunity to read their stories to the group\, which is healing on many levels. \nCancer patients and survivors are welcome to sign up for one to eight sessions. Registration is required\, as each session will cap at 10 writers. For questions or to register\, call (515) 241-8505 or email Gina Mandernach at Unity Point at gina.mandernach@unitypoint.org.
URL:https://ameswriterscollective.org/event/writing-circle-mondays-john-stoddard-cancer-center-25/
LOCATION:IA
CATEGORIES:Cancer Writing Circles
ATTACH;FMTTYPE=application/pdf:https://ameswriterscollective.org/wp-content/uploads/2025/05/Writing-Circle-Mondays-Flyer-May-July-2025.pdf
END:VEVENT
BEGIN:VEVENT
DTSTART;TZID=America/Chicago:20250610T153000
DTEND;TZID=America/Chicago:20250610T170000
DTSTAMP:20260425T100143
CREATED:20250131T022651Z
LAST-MODIFIED:20260403T025141Z
UID:10010855-1749569400-1749574800@ameswriterscollective.org
SUMMARY:Write Together Tuesdays | Monthly 2nd & 4th Tuesdays
DESCRIPTION:Join us for our hybrid Write Together Tuesdays on Zoom or in person at Fifth Street Writers. 3:30 to 5 PM CT. \nWHAT’S A WRITE TOGETHER?\n\nWe join together on Zoom and in person at Fifth Street Writers\, share what we’re working on\, and write for ~90 minutes. At the end\, we share our successes\, and sign off. Easy peasy. \nFor more information and to register\, click here.
URL:https://ameswriterscollective.org/event/writes-togethers-monthly-on-the-2nd-4th-tuesdays-3/2025-06-10/
LOCATION:IA
CATEGORIES:Open Write
ATTACH;FMTTYPE=image/jpeg:https://ameswriterscollective.org/wp-content/uploads/2025/01/IMG_8862.jpeg
ORGANIZER;CN="Ames Writers Collective":MAILTO:ana@ameswriterscollective.org
END:VEVENT
BEGIN:VEVENT
DTSTART;TZID=America/Chicago:20250611T150000
DTEND;TZID=America/Chicago:20250611T170000
DTSTAMP:20260425T100143
CREATED:20250519T223001Z
LAST-MODIFIED:20250519T223001Z
UID:10010924-1749654000-1749661200@ameswriterscollective.org
SUMMARY:Writing Circle Wednesdays
DESCRIPTION:Writing Circle Wednesdays are for individuals who are currently receiving or who have completed cancer treatments.\nThese sessions meet on Zoom from 3 to 5 PM CT.\nAnyone interested may join at any time. \nLiving with cancer is a lonely journey. Only those who have been or are on that same journey truly understand the emotions\, fears and challenges we face each day. I was hoping to gain some insight into how others coped with their diagnosis. I not only gained that\, but also came to understand more fully my own reactions to my personal cancer story. This was a valuable experience for me. I don’t feel quite as alone as I did. —A Past Participant \nThese sessions are led by Ana McCracken\, founder of the Ames Writers Collective and held in partnership with the William R. Bliss Cancer Center located in Ames\, Iowa. Registration is free and required. Contact Ana for questions and to register.
URL:https://ameswriterscollective.org/event/writing-circle-wednesdays-21/
LOCATION:IA
CATEGORIES:Cancer Writing Circles
ATTACH;FMTTYPE=image/jpeg:https://ameswriterscollective.org/wp-content/uploads/2025/05/Writing-Circle-Wednesdays.jpg
END:VEVENT
BEGIN:VEVENT
DTSTART;TZID=America/Chicago:20250619T190000
DTEND;TZID=America/Chicago:20250619T210000
DTSTAMP:20260425T100143
CREATED:20250617T142738Z
LAST-MODIFIED:20250617T142738Z
UID:10010937-1750359600-1750366800@ameswriterscollective.org
SUMMARY:Tumbling Words: An Evening of Writing & Creative Self-Expression
DESCRIPTION:June 19 | 7–9 PM | The Dot Cafe \nJoin us for a low-pressure\, high-vibe writing night built around connection\, creativity\, and handcrafted cocktails. Using poetry as a prompt\, we’ll dive into Wild Writing\, a fast\, unfiltered practice that quiets the inner critic and gets words flowing. \nLed by Ana McCracken\, founder of Ames Writers Collective\, this workshop invites you to write freely\, sip slowly\, and engage with a like-minded creative community. No writing experience necessary\, just bring your curiosity. \nTickets include: \n\n\nA handcrafted cocktail or mocktail \n\n\nA journal and pen \n\n\nA guided Wild Writing session \n\n\nPost-workshop mingle + local handmade goods for sale \n\n\nPresented in collaboration with The Dot\, Lucky Star\, and Ames Writers Collective.A portion of proceeds supports community writing programs through AWC. \nClick here to buy a ticket.
URL:https://ameswriterscollective.org/event/tumbling-words-an-evening-of-writing-creative-self-expression/
LOCATION:IA
CATEGORIES:Special Events
ATTACH;FMTTYPE=image/jpeg:https://ameswriterscollective.org/wp-content/uploads/2025/06/tumbling-words-1.jpg
END:VEVENT
BEGIN:VEVENT
DTSTART;TZID=America/Chicago:20250623T080000
DTEND;TZID=America/Chicago:20250627T170000
DTSTAMP:20260425T100143
CREATED:20250611T202831Z
LAST-MODIFIED:20250611T202909Z
UID:10010934-1750665600-1751043600@ameswriterscollective.org
SUMMARY:Swift Youth Writers Workshop
DESCRIPTION:The Ames Writers Collective is committed to Youth Outreach Programming.\nFREE Writing Workshop for youth grades 6 to 12. \nThe Swift Youth Writers Workshops are designed to nurture creative writing and in-person connections among youth. \nThe 4th Annual Swift Youth Writers Workshop—a week-long writing workshop scheduled for June 23 to 27\, 2025\, from 10 AM to 12:00 PM at the Ames Public Library. \nClick here to register.
URL:https://ameswriterscollective.org/event/swift-youth-writers-workshop/
LOCATION:Ames Public Library\, 515 Douglas Avenue\, Ames\, IA\, 50010\, United States
CATEGORIES:Workshops
ATTACH;FMTTYPE=image/jpeg:https://ameswriterscollective.org/wp-content/uploads/2025/06/SwiftYouthWriters.jpg
ORGANIZER;CN="Ames Writers Collective in Partnership with Ames Public Library":MAILTO:info@ameswriterscollective.org
END:VEVENT
BEGIN:VEVENT
DTSTART;TZID=America/Chicago:20250623T173000
DTEND;TZID=America/Chicago:20250623T193000
DTSTAMP:20260425T100143
CREATED:20250518T175321Z
LAST-MODIFIED:20250518T175321Z
UID:10010918-1750699800-1750707000@ameswriterscollective.org
SUMMARY:Writing Circle Mondays | John Stoddard Cancer Center
DESCRIPTION:Writing Circle Monday sessions are sponsored by Stoddard Cancer Center as part of the Charlie Cutler Healing and Wellness Program and inspired by the Amherst Writers & Artists  method\, which believes that everyone is a writer. \nEach session participants create a safe space\, and then write together for timed intervals to writing prompts. Writing prompts inspire stories from participants’ lives. After each timed-writing session\, participants will have the opportunity to read their stories to the group\, which is healing on many levels. \nCancer patients and survivors are welcome to sign up for one to eight sessions. Registration is required\, as each session will cap at 10 writers. For questions or to register\, call (515) 241-8505 or email Gina Mandernach at Unity Point at gina.mandernach@unitypoint.org.
URL:https://ameswriterscollective.org/event/writing-circle-mondays-john-stoddard-cancer-center-26/
LOCATION:IA
CATEGORIES:Cancer Writing Circles
ATTACH;FMTTYPE=application/pdf:https://ameswriterscollective.org/wp-content/uploads/2025/05/Writing-Circle-Mondays-Flyer-May-July-2025.pdf
END:VEVENT
END:VCALENDAR