BEGIN:VCALENDAR
VERSION:2.0
PRODID:-//Ames Writers Collective - ECPv6.15.17//NONSGML v1.0//EN
CALSCALE:GREGORIAN
METHOD:PUBLISH
X-WR-CALNAME:Ames Writers Collective
X-ORIGINAL-URL:https://ameswriterscollective.org
X-WR-CALDESC:Events for Ames Writers Collective
REFRESH-INTERVAL;VALUE=DURATION:PT1H
X-Robots-Tag:noindex
X-PUBLISHED-TTL:PT1H
BEGIN:VTIMEZONE
TZID:America/Chicago
BEGIN:DAYLIGHT
TZOFFSETFROM:-0600
TZOFFSETTO:-0500
TZNAME:CDT
DTSTART:20240310T080000
END:DAYLIGHT
BEGIN:STANDARD
TZOFFSETFROM:-0500
TZOFFSETTO:-0600
TZNAME:CST
DTSTART:20241103T070000
END:STANDARD
BEGIN:DAYLIGHT
TZOFFSETFROM:-0600
TZOFFSETTO:-0500
TZNAME:CDT
DTSTART:20250309T080000
END:DAYLIGHT
BEGIN:STANDARD
TZOFFSETFROM:-0500
TZOFFSETTO:-0600
TZNAME:CST
DTSTART:20251102T070000
END:STANDARD
BEGIN:DAYLIGHT
TZOFFSETFROM:-0600
TZOFFSETTO:-0500
TZNAME:CDT
DTSTART:20260308T080000
END:DAYLIGHT
BEGIN:STANDARD
TZOFFSETFROM:-0500
TZOFFSETTO:-0600
TZNAME:CST
DTSTART:20261101T070000
END:STANDARD
END:VTIMEZONE
BEGIN:VEVENT
DTSTART;TZID=America/Chicago:20250801T110000
DTEND;TZID=America/Chicago:20250801T160000
DTSTAMP:20260425T100101
CREATED:20250707T163924Z
LAST-MODIFIED:20251031T213448Z
UID:10010952-1754046000-1754064000@ameswriterscollective.org
SUMMARY:Member Open Hours
DESCRIPTION:This month\, join us for Open Hours at the Ames Writers Collective. Open hours are available for members only! Interested in becoming a member? Click here for more information! \nLooking for a space designed for writers by writers? Or are you looking for a quiet area to focus on your most recent project? At Fifth Street Writers\, we aim to provide just that from 5:30pm – 7:30pm on Tuesdays in October. There are a few exceptions\, please check our events calendar for specific dates! \nWe have seating areas spread throughout the building at Fifth Street Writers that run the gamut from comfy club chairs to benches with tables\, to larger tables with chairs. Limited parking is available in front of the building\, with plenty of street parking. Our site host is communications intern\, Acacia Coates.
URL:https://ameswriterscollective.org/event/member-open-hours/2025-08-01/
LOCATION:Ames Writer Collective Fifth Street Writers\, 612 5th Street\, Ames\, Iowa\, 50014\, United States
ATTACH;FMTTYPE=image/png:https://ameswriterscollective.org/wp-content/uploads/2025/07/Open-Writing-Hours-Instagram-Post-45-2.png
END:VEVENT
BEGIN:VEVENT
DTSTART;TZID=America/Chicago:20250804T110000
DTEND;TZID=America/Chicago:20250804T160000
DTSTAMP:20260425T100101
CREATED:20250707T163924Z
LAST-MODIFIED:20251031T213448Z
UID:10010953-1754305200-1754323200@ameswriterscollective.org
SUMMARY:Member Open Hours
DESCRIPTION:This month\, join us for Open Hours at the Ames Writers Collective. Open hours are available for members only! Interested in becoming a member? Click here for more information! \nLooking for a space designed for writers by writers? Or are you looking for a quiet area to focus on your most recent project? At Fifth Street Writers\, we aim to provide just that from 5:30pm – 7:30pm on Tuesdays in October. There are a few exceptions\, please check our events calendar for specific dates! \nWe have seating areas spread throughout the building at Fifth Street Writers that run the gamut from comfy club chairs to benches with tables\, to larger tables with chairs. Limited parking is available in front of the building\, with plenty of street parking. Our site host is communications intern\, Acacia Coates.
URL:https://ameswriterscollective.org/event/member-open-hours/2025-08-04/
LOCATION:Ames Writer Collective Fifth Street Writers\, 612 5th Street\, Ames\, Iowa\, 50014\, United States
ATTACH;FMTTYPE=image/png:https://ameswriterscollective.org/wp-content/uploads/2025/07/Open-Writing-Hours-Instagram-Post-45-2.png
END:VEVENT
BEGIN:VEVENT
DTSTART;TZID=America/Chicago:20250811T110000
DTEND;TZID=America/Chicago:20250811T160000
DTSTAMP:20260425T100101
CREATED:20250707T163924Z
LAST-MODIFIED:20251031T213448Z
UID:10010954-1754910000-1754928000@ameswriterscollective.org
SUMMARY:Member Open Hours
DESCRIPTION:This month\, join us for Open Hours at the Ames Writers Collective. Open hours are available for members only! Interested in becoming a member? Click here for more information! \nLooking for a space designed for writers by writers? Or are you looking for a quiet area to focus on your most recent project? At Fifth Street Writers\, we aim to provide just that from 5:30pm – 7:30pm on Tuesdays in October. There are a few exceptions\, please check our events calendar for specific dates! \nWe have seating areas spread throughout the building at Fifth Street Writers that run the gamut from comfy club chairs to benches with tables\, to larger tables with chairs. Limited parking is available in front of the building\, with plenty of street parking. Our site host is communications intern\, Acacia Coates.
URL:https://ameswriterscollective.org/event/member-open-hours/2025-08-11/
LOCATION:Ames Writer Collective Fifth Street Writers\, 612 5th Street\, Ames\, Iowa\, 50014\, United States
ATTACH;FMTTYPE=image/png:https://ameswriterscollective.org/wp-content/uploads/2025/07/Open-Writing-Hours-Instagram-Post-45-2.png
END:VEVENT
BEGIN:VEVENT
DTSTART;TZID=America/Chicago:20250815T110000
DTEND;TZID=America/Chicago:20250815T160000
DTSTAMP:20260425T100101
CREATED:20250707T163924Z
LAST-MODIFIED:20251031T213448Z
UID:10010955-1755255600-1755273600@ameswriterscollective.org
SUMMARY:Member Open Hours
DESCRIPTION:This month\, join us for Open Hours at the Ames Writers Collective. Open hours are available for members only! Interested in becoming a member? Click here for more information! \nLooking for a space designed for writers by writers? Or are you looking for a quiet area to focus on your most recent project? At Fifth Street Writers\, we aim to provide just that from 5:30pm – 7:30pm on Tuesdays in October. There are a few exceptions\, please check our events calendar for specific dates! \nWe have seating areas spread throughout the building at Fifth Street Writers that run the gamut from comfy club chairs to benches with tables\, to larger tables with chairs. Limited parking is available in front of the building\, with plenty of street parking. Our site host is communications intern\, Acacia Coates.
URL:https://ameswriterscollective.org/event/member-open-hours/2025-08-15/
LOCATION:Ames Writer Collective Fifth Street Writers\, 612 5th Street\, Ames\, Iowa\, 50014\, United States
ATTACH;FMTTYPE=image/png:https://ameswriterscollective.org/wp-content/uploads/2025/07/Open-Writing-Hours-Instagram-Post-45-2.png
END:VEVENT
BEGIN:VEVENT
DTSTART;TZID=America/Chicago:20250821T173000
DTEND;TZID=America/Chicago:20250821T193000
DTSTAMP:20260425T100101
CREATED:20250709T183513Z
LAST-MODIFIED:20250731T202327Z
UID:10010956-1755797400-1755804600@ameswriterscollective.org
SUMMARY:Octagon Third Thursday Poetry Slam
DESCRIPTION:The Octagon in partnership with the Ames Poetry Slam & the Ames Writers Collective is hosting its first ever poetry slam! \nCome hear original work from local poets of all ages and styles. The event on Thursday\, August 21st will begin at 5:30pm and poets will take the stage at 6:00pm. This is a free event\, for attendees and poets alike. We prefer that poets sign up in advance at this link: Poet Registration. However we will allow same-day sign up at the event. \nThis event is held at the Octagon Center for the Arts at 427 Douglas Avenue\, Ames IA 50010. \nWe hope you’ll join us\, as a poet or a spectator\, and support the poets in our community.
URL:https://ameswriterscollective.org/event/octagon-third-thursday-poetry-slam-2/
LOCATION:Octagon Center for the Arts\, 427 Douglas Avenue\, Ames\, IA\, 50010\, United States
CATEGORIES:Open Mic,Special Events
ATTACH;FMTTYPE=image/png:https://ameswriterscollective.org/wp-content/uploads/2025/07/Copy-of-David-Gonzalez-Instagram-Post-45.png
ORGANIZER;CN="Octagon in Partnership with Ames Poetry Slam & Ames Writers Collective":MAILTO:info@octagonarts.org
END:VEVENT
BEGIN:VEVENT
DTSTART;TZID=America/Chicago:20250821T173000
DTEND;TZID=America/Chicago:20250821T200000
DTSTAMP:20260425T100101
CREATED:20250706T164619Z
LAST-MODIFIED:20250706T171755Z
UID:10010943-1755797400-1755806400@ameswriterscollective.org
SUMMARY:Octagon Third Thursday Poetry Slam
DESCRIPTION:The Octagon in partnership with the Ames Poetry Slam & the Ames Writers Collective is hosting its first ever poetry slam! \nCome hear original work from local poets of all ages and styles. The event on Thursday\, August 21st will begin at 5:30 and poets will take the stage at 6:00. This is a free event\, for attendees and poets alike. We prefer that poets sign up in advance at this link: Poet Registration. However\, we will allow same-day sign up at the event. \nWe hope you’ll join us\, as a poet or a spectator\, and support the poets in our community.
URL:https://ameswriterscollective.org/event/octagon-third-thursday-poetry-slam/
LOCATION:Octagon Third Thursdays\, 427 Douglas Avenue\, Ames\, IA\, 50010\, United States
CATEGORIES:Special Events
ATTACH;FMTTYPE=image/jpeg:https://ameswriterscollective.org/wp-content/uploads/2025/07/POETRY-SLAM-GRAPHIC.jpg
ORGANIZER;CN="Octagon in Partnership with Ames Poetry Slam & Ames Writers Collective":MAILTO:info@octagonarts.org
END:VEVENT
END:VCALENDAR