BEGIN:VCALENDAR
VERSION:2.0
PRODID:-//Ames Writers Collective - ECPv6.15.17//NONSGML v1.0//EN
CALSCALE:GREGORIAN
METHOD:PUBLISH
X-ORIGINAL-URL:https://ameswriterscollective.org
X-WR-CALDESC:Events for Ames Writers Collective
REFRESH-INTERVAL;VALUE=DURATION:PT1H
X-Robots-Tag:noindex
X-PUBLISHED-TTL:PT1H
BEGIN:VTIMEZONE
TZID:America/Chicago
BEGIN:DAYLIGHT
TZOFFSETFROM:-0600
TZOFFSETTO:-0500
TZNAME:CDT
DTSTART:20240310T080000
END:DAYLIGHT
BEGIN:STANDARD
TZOFFSETFROM:-0500
TZOFFSETTO:-0600
TZNAME:CST
DTSTART:20241103T070000
END:STANDARD
BEGIN:DAYLIGHT
TZOFFSETFROM:-0600
TZOFFSETTO:-0500
TZNAME:CDT
DTSTART:20250309T080000
END:DAYLIGHT
BEGIN:STANDARD
TZOFFSETFROM:-0500
TZOFFSETTO:-0600
TZNAME:CST
DTSTART:20251102T070000
END:STANDARD
BEGIN:DAYLIGHT
TZOFFSETFROM:-0600
TZOFFSETTO:-0500
TZNAME:CDT
DTSTART:20260308T080000
END:DAYLIGHT
BEGIN:STANDARD
TZOFFSETFROM:-0500
TZOFFSETTO:-0600
TZNAME:CST
DTSTART:20261101T070000
END:STANDARD
END:VTIMEZONE
BEGIN:VTIMEZONE
TZID:UTC
BEGIN:STANDARD
TZOFFSETFROM:+0000
TZOFFSETTO:+0000
TZNAME:UTC
DTSTART:20240101T000000
END:STANDARD
END:VTIMEZONE
BEGIN:VEVENT
DTSTART;TZID=America/Chicago:20250901T170000
DTEND;TZID=America/Chicago:20250901T190000
DTSTAMP:20260425T055303
CREATED:20250707T163924Z
LAST-MODIFIED:20251031T213448Z
UID:10010965-1756746000-1756753200@ameswriterscollective.org
SUMMARY:Member Open Hours
DESCRIPTION:This month\, join us for Open Hours at the Ames Writers Collective. Open hours are available for members only! Interested in becoming a member? Click here for more information! \nLooking for a space designed for writers by writers? Or are you looking for a quiet area to focus on your most recent project? At Fifth Street Writers\, we aim to provide just that from 5:30pm – 7:30pm on Tuesdays in October. There are a few exceptions\, please check our events calendar for specific dates! \nWe have seating areas spread throughout the building at Fifth Street Writers that run the gamut from comfy club chairs to benches with tables\, to larger tables with chairs. Limited parking is available in front of the building\, with plenty of street parking. Our site host is communications intern\, Acacia Coates.
URL:https://ameswriterscollective.org/event/member-open-hours/2025-09-01/
LOCATION:Ames Writer Collective Fifth Street Writers\, 612 5th Street\, Ames\, Iowa\, 50014\, United States
ATTACH;FMTTYPE=image/png:https://ameswriterscollective.org/wp-content/uploads/2025/07/Open-Writing-Hours-Instagram-Post-45-2.png
END:VEVENT
BEGIN:VEVENT
DTSTART;TZID=America/Chicago:20250908T170000
DTEND;TZID=America/Chicago:20250908T190000
DTSTAMP:20260425T055303
CREATED:20250707T163924Z
LAST-MODIFIED:20251031T213448Z
UID:10010966-1757350800-1757358000@ameswriterscollective.org
SUMMARY:Member Open Hours
DESCRIPTION:This month\, join us for Open Hours at the Ames Writers Collective. Open hours are available for members only! Interested in becoming a member? Click here for more information! \nLooking for a space designed for writers by writers? Or are you looking for a quiet area to focus on your most recent project? At Fifth Street Writers\, we aim to provide just that from 5:30pm – 7:30pm on Tuesdays in October. There are a few exceptions\, please check our events calendar for specific dates! \nWe have seating areas spread throughout the building at Fifth Street Writers that run the gamut from comfy club chairs to benches with tables\, to larger tables with chairs. Limited parking is available in front of the building\, with plenty of street parking. Our site host is communications intern\, Acacia Coates.
URL:https://ameswriterscollective.org/event/member-open-hours/2025-09-08/
LOCATION:Ames Writer Collective Fifth Street Writers\, 612 5th Street\, Ames\, Iowa\, 50014\, United States
ATTACH;FMTTYPE=image/png:https://ameswriterscollective.org/wp-content/uploads/2025/07/Open-Writing-Hours-Instagram-Post-45-2.png
END:VEVENT
BEGIN:VEVENT
DTSTART;TZID=America/Chicago:20250915T170000
DTEND;TZID=America/Chicago:20250915T190000
DTSTAMP:20260425T055303
CREATED:20250707T163924Z
LAST-MODIFIED:20251031T213448Z
UID:10010967-1757955600-1757962800@ameswriterscollective.org
SUMMARY:Member Open Hours
DESCRIPTION:This month\, join us for Open Hours at the Ames Writers Collective. Open hours are available for members only! Interested in becoming a member? Click here for more information! \nLooking for a space designed for writers by writers? Or are you looking for a quiet area to focus on your most recent project? At Fifth Street Writers\, we aim to provide just that from 5:30pm – 7:30pm on Tuesdays in October. There are a few exceptions\, please check our events calendar for specific dates! \nWe have seating areas spread throughout the building at Fifth Street Writers that run the gamut from comfy club chairs to benches with tables\, to larger tables with chairs. Limited parking is available in front of the building\, with plenty of street parking. Our site host is communications intern\, Acacia Coates.
URL:https://ameswriterscollective.org/event/member-open-hours/2025-09-15/
LOCATION:Ames Writer Collective Fifth Street Writers\, 612 5th Street\, Ames\, Iowa\, 50014\, United States
ATTACH;FMTTYPE=image/png:https://ameswriterscollective.org/wp-content/uploads/2025/07/Open-Writing-Hours-Instagram-Post-45-2.png
END:VEVENT
BEGIN:VEVENT
DTSTART;TZID=America/Chicago:20250922T170000
DTEND;TZID=America/Chicago:20250922T190000
DTSTAMP:20260425T055303
CREATED:20250707T163924Z
LAST-MODIFIED:20251031T213448Z
UID:10010968-1758560400-1758567600@ameswriterscollective.org
SUMMARY:Member Open Hours
DESCRIPTION:This month\, join us for Open Hours at the Ames Writers Collective. Open hours are available for members only! Interested in becoming a member? Click here for more information! \nLooking for a space designed for writers by writers? Or are you looking for a quiet area to focus on your most recent project? At Fifth Street Writers\, we aim to provide just that from 5:30pm – 7:30pm on Tuesdays in October. There are a few exceptions\, please check our events calendar for specific dates! \nWe have seating areas spread throughout the building at Fifth Street Writers that run the gamut from comfy club chairs to benches with tables\, to larger tables with chairs. Limited parking is available in front of the building\, with plenty of street parking. Our site host is communications intern\, Acacia Coates.
URL:https://ameswriterscollective.org/event/member-open-hours/2025-09-22/
LOCATION:Ames Writer Collective Fifth Street Writers\, 612 5th Street\, Ames\, Iowa\, 50014\, United States
ATTACH;FMTTYPE=image/png:https://ameswriterscollective.org/wp-content/uploads/2025/07/Open-Writing-Hours-Instagram-Post-45-2.png
END:VEVENT
BEGIN:VEVENT
DTSTART;VALUE=DATE:20250928
DTEND;VALUE=DATE:20251002
DTSTAMP:20260425T055303
CREATED:20250617T155118Z
LAST-MODIFIED:20250617T155118Z
UID:10010938-1759017600-1759363199@ameswriterscollective.org
SUMMARY:Okoboji Writers Retreat
DESCRIPTION:Sept. 28 – Oct. 1 in Okoboji\, Iowa \nJoin Founder Ana McCracken at the Okoboji Writers Retreat this Fall.  The Okoboji Writers Retreat is a unique gathering on the shores of West Lake Okoboji filled with inspiration\, creativity and community. Whether you’re polishing a manuscript or just getting started\, you’ll find expert-led sessions\, supportive peers and plenty of time to write in a beautiful lakeside setting. \nGet the Early Bird Discount before July 15 by clicking Here! 
URL:https://ameswriterscollective.org/event/okoboji-writers-retreat/
LOCATION:IA
CATEGORIES:Author Talks,Classes,Open Write,Special Events,Workshops
ATTACH;FMTTYPE=image/jpeg:https://ameswriterscollective.org/wp-content/uploads/2025/06/okoboji-writers-retreat.jpg
END:VEVENT
BEGIN:VEVENT
DTSTART;TZID=UTC:20250928T100000
DTEND;TZID=UTC:20250928T160000
DTSTAMP:20260425T055303
CREATED:20250814T170513Z
LAST-MODIFIED:20250926T124951Z
UID:10010959-1759053600-1759075200@ameswriterscollective.org
SUMMARY:Swift Literary Festival—Fall 2025
DESCRIPTION:Join the Ames Writers Collective at our\n4th Annual Swift Literary Festival\nat the Octagon Art Festival\nSunday\, September 28th from 10 to 4 PM \n\nStop by\, mingle\, buy books\, and contribute to our Community Story. We look forward to meeting you on the 28th. \nStephen Brayton—Fiction\, A Cold New Year\nTina Cho—Youth Lit\, God’s Little Oceanographer\nKelli Fitzpatrick—Captain Marvel: Carol Danvers Declassified\nDouglas Myeong’il Gentile—Lessons Learned at a Buddhist Monastery: Hwadu Slogans\nLois Kennis—Women’s Fiction\, Rise on Eagles Wings\nDeb Kline—Memoir\, Forgetting to Remember\nAna McCracken—I Found Myself at Lake Okoboji | Discovering words\, wonder\, dreams\, and inspirations (An anthology)\nLinda Skeers—Youth Lit\, Women Who Dared\nMiles Tritle—Horror/Sci-fi\, The Warning in the Woods\nElise Wayland—Fiction\, Rivals to Lovers\nDenise Williams—Romance\, Just Our Luck\nJ. Susanne Wilson—Historical Fiction\, The Death and Life of Iphigenia \n2024 Contributors to the Swift Literary Festival Community Story
URL:https://ameswriterscollective.org/event/swift-literary-festival-pop-up-event-4/
LOCATION:Octagon Art Festival\, 409 Douglas Avenue\, Ames\, IA\, 50010\, United States
CATEGORIES:Open Mic,Special Events
ATTACH;FMTTYPE=image/jpeg:https://ameswriterscollective.org/wp-content/uploads/2025/08/Banner-2025.jpg
ORGANIZER;CN="Ames Writers Collective":MAILTO:ana@ameswriterscollective.org
END:VEVENT
BEGIN:VEVENT
DTSTART;TZID=America/Chicago:20250929T170000
DTEND;TZID=America/Chicago:20250929T190000
DTSTAMP:20260425T055303
CREATED:20250707T163924Z
LAST-MODIFIED:20251031T213448Z
UID:10010969-1759165200-1759172400@ameswriterscollective.org
SUMMARY:Member Open Hours
DESCRIPTION:This month\, join us for Open Hours at the Ames Writers Collective. Open hours are available for members only! Interested in becoming a member? Click here for more information! \nLooking for a space designed for writers by writers? Or are you looking for a quiet area to focus on your most recent project? At Fifth Street Writers\, we aim to provide just that from 5:30pm – 7:30pm on Tuesdays in October. There are a few exceptions\, please check our events calendar for specific dates! \nWe have seating areas spread throughout the building at Fifth Street Writers that run the gamut from comfy club chairs to benches with tables\, to larger tables with chairs. Limited parking is available in front of the building\, with plenty of street parking. Our site host is communications intern\, Acacia Coates.
URL:https://ameswriterscollective.org/event/member-open-hours/2025-09-29/
LOCATION:Ames Writer Collective Fifth Street Writers\, 612 5th Street\, Ames\, Iowa\, 50014\, United States
ATTACH;FMTTYPE=image/png:https://ameswriterscollective.org/wp-content/uploads/2025/07/Open-Writing-Hours-Instagram-Post-45-2.png
END:VEVENT
END:VCALENDAR