BEGIN:VCALENDAR
VERSION:2.0
PRODID:-//Ames Writers Collective - ECPv6.15.17//NONSGML v1.0//EN
CALSCALE:GREGORIAN
METHOD:PUBLISH
X-ORIGINAL-URL:https://ameswriterscollective.org
X-WR-CALDESC:Events for Ames Writers Collective
REFRESH-INTERVAL;VALUE=DURATION:PT1H
X-Robots-Tag:noindex
X-PUBLISHED-TTL:PT1H
BEGIN:VTIMEZONE
TZID:America/Chicago
BEGIN:DAYLIGHT
TZOFFSETFROM:-0600
TZOFFSETTO:-0500
TZNAME:CDT
DTSTART:20240310T080000
END:DAYLIGHT
BEGIN:STANDARD
TZOFFSETFROM:-0500
TZOFFSETTO:-0600
TZNAME:CST
DTSTART:20241103T070000
END:STANDARD
BEGIN:DAYLIGHT
TZOFFSETFROM:-0600
TZOFFSETTO:-0500
TZNAME:CDT
DTSTART:20250309T080000
END:DAYLIGHT
BEGIN:STANDARD
TZOFFSETFROM:-0500
TZOFFSETTO:-0600
TZNAME:CST
DTSTART:20251102T070000
END:STANDARD
BEGIN:DAYLIGHT
TZOFFSETFROM:-0600
TZOFFSETTO:-0500
TZNAME:CDT
DTSTART:20260308T080000
END:DAYLIGHT
BEGIN:STANDARD
TZOFFSETFROM:-0500
TZOFFSETTO:-0600
TZNAME:CST
DTSTART:20261101T070000
END:STANDARD
END:VTIMEZONE
BEGIN:VEVENT
DTSTART;TZID=America/Chicago:20251007T173000
DTEND;TZID=America/Chicago:20251007T193000
DTSTAMP:20260425T072250
CREATED:20250707T163924Z
LAST-MODIFIED:20251031T213448Z
UID:10011048-1759858200-1759865400@ameswriterscollective.org
SUMMARY:Member Open Hours
DESCRIPTION:This month\, join us for Open Hours at the Ames Writers Collective. Open hours are available for members only! Interested in becoming a member? Click here for more information! \nLooking for a space designed for writers by writers? Or are you looking for a quiet area to focus on your most recent project? At Fifth Street Writers\, we aim to provide just that from 5:30pm – 7:30pm on Tuesdays in October. There are a few exceptions\, please check our events calendar for specific dates! \nWe have seating areas spread throughout the building at Fifth Street Writers that run the gamut from comfy club chairs to benches with tables\, to larger tables with chairs. Limited parking is available in front of the building\, with plenty of street parking. Our site host is communications intern\, Acacia Coates.
URL:https://ameswriterscollective.org/event/member-open-hours/2025-10-07/
LOCATION:Ames Writer Collective Fifth Street Writers\, 612 5th Street\, Ames\, Iowa\, 50014\, United States
ATTACH;FMTTYPE=image/png:https://ameswriterscollective.org/wp-content/uploads/2025/07/Open-Writing-Hours-Instagram-Post-45-2.png
END:VEVENT
BEGIN:VEVENT
DTSTART;TZID=America/Chicago:20251009T190000
DTEND;TZID=America/Chicago:20251009T200000
DTSTAMP:20260425T072250
CREATED:20250519T222200Z
LAST-MODIFIED:20250823T170809Z
UID:10010921-1760036400-1760040000@ameswriterscollective.org
SUMMARY:Author Spotlight with John T. Price
DESCRIPTION:Join the Ames Writers Collective & KHOI Community Radio Station for an evening with John T. Price—live at Fifth Street Writers on Thursday\, October 9th at 7 PM. \nThis free community event features a reading\, book signing\, and conversation with John T. Price\,  author of the novel\, Goethe’s Oak–A Holocaust Story. Hosted in partnership with KHOI Community Radio\, the evening celebrates literature\, community\, and creative storytelling. \nAbout John T. Price: He is is the author of four creative nonfiction books: Not Just Any Land: A Personal and Literary Journey into the American Grasslands\, Man Killed by Pheasant and Other Kinships\, Daddy Long Legs: The Natural Education of a Father\, and All Is Leaf: Essays and Transformations. He is the Regents/Foundation Distinguished Professor at the University of Nebraska at Omaha\, where he directs the English Department’s Creative Nonfiction Writing Program\, and is a faculty member in the Goldstein Center for Human Rights. \nVisit KHOI to tune in!
URL:https://ameswriterscollective.org/event/6591/
LOCATION:Fifth Street Writers\, 612 5th Street\, Ames\, 50010\, United States
CATEGORIES:Author Talks
ATTACH;FMTTYPE=image/jpeg:https://ameswriterscollective.org/wp-content/uploads/2025/05/John-T-Price-Author-Spotlight.jpg
ORGANIZER;CN="Ames Writers Collective in Partnership with KHOI Community Radio":MAILTO:info@ameswriterscollective.org
END:VEVENT
BEGIN:VEVENT
DTSTART;TZID=America/Chicago:20251011T100000
DTEND;TZID=America/Chicago:20251011T160000
DTSTAMP:20260425T072250
CREATED:20250821T191341Z
LAST-MODIFIED:20251001T193559Z
UID:10010962-1760176800-1760198400@ameswriterscollective.org
SUMMARY:2025 Ames Artists' Studio Tour at Fifth Street Writers
DESCRIPTION:2025 Ames Artists’ Studio Tour at\nAmes Writers Collective Fifth Street Writers\n612 5th St\, ames\nWriting & Spoken Word\nSATURDAY ONLY \nDesigned to serve as a hub for writers\, Fifth Street Writers provides a quiet and inspiring environment for writing while also offering a range of programs\, classes\, and special events tailored for writers of all ages and experience levels. This new space furthers the Ames Writers Collective mission to create healthy communities through the art of writing\, while also supporting writers in the region. \nDuring the studio tour\, Fifth Street Writers will offer space and supplies for creatives to create poetry collage postcards and “Tumbling Words Wild Writing” sessions from 11 to Noon and 2 to 3 PM. We’ll supply a pen and paper.
URL:https://ameswriterscollective.org/event/2025-studio-tour-at-fifth-street-writers/
LOCATION:Fifth Street Writers\, 612 5th Street\, Ames\, 50010\, United States
CATEGORIES:Special Events
ATTACH;FMTTYPE=image/jpeg:https://ameswriterscollective.org/wp-content/uploads/2025/03/Screenshot-2025-03-05-at-14.46.57.jpeg
END:VEVENT
BEGIN:VEVENT
DTSTART;TZID=America/Chicago:20251016T100000
DTEND;TZID=America/Chicago:20251016T120000
DTSTAMP:20260425T072250
CREATED:20250822T125358Z
LAST-MODIFIED:20251015T144223Z
UID:10010964-1760608800-1760616000@ameswriterscollective.org
SUMMARY:The Art of the Haibun with Katherine Larson
DESCRIPTION:Join us for the “Art of the Haibun” with poet\, Katherine Larson. \nKatherine Larson is the author of two collections of poetry—Radial Symmetry (Yale University Press\, 2011)\, selected by Louise Glück as winner of the Yale Series of Younger Poets\, and The Speechless Ones (Interlinea Press\, 2016)\, recipient of the Vercelli International Civic Poetry Prize (former recipients include Yevgeny Yevtushenko and Adam Zagajewski). Her forthcoming book\, Wedding of the Foxes (Milkweed Editions\, 2025)\, is a collection of lyric essays. Larson’s work has appeared in numerous literary journals including AGNI\, Alaska Quarterly Review\, Blackbird\, Boulevard\, Crab Orchard Review\, Kenyon Review\, The Massachusetts Review\, Notre Dame Review\, Orion\, Poetry\, and Poetry Northwest and anthologized in Read America(s): An Anthology\, Prentice Hall’s Literature: An Introduction to Reading and Writing\, and Firsts: 100 Years of Yale Younger Poets. \nShe is the recipient of a Ruth Lilly Fellowship\, a Kate Tufts Discovery Award\, the Larry Levis Reading Prize\, the Union League Civic and Arts Foundation Poetry Prize\, and the Foreword Indies Gold Medal in Poetry. She has taught in the Stonecoast MFA Program at the University of Southern Maine and the University of Arizona Poetry Center. She is currently active with organizations and artists dedicated to conservation and environmental education in the Sonoran Desert and Gulf of California. \nTO REGISTER\, click here! Cost: $25 adults.\nAre you a Student? Choose “Student Ticket” & Enter “FREE” UNDER DISCOUNT CODE. \nThis event is held in partnership with the Iowa State University MFA Program in Creative Writing and Environment Pearl Holgrefe Visiting Writers Series.
URL:https://ameswriterscollective.org/event/the-art-of-the-haibun-with-katherine-larson/
LOCATION:IA
CATEGORIES:Workshops
ATTACH;FMTTYPE=image/jpeg:https://ameswriterscollective.org/wp-content/uploads/2025/08/Katherine-Larson.jpg
ORGANIZER;CN="Ames Writers Collective in Partnership with the ISU MFA Program in Creative Writing & Environment":MAILTO:info@ameswriterscollective.org
END:VEVENT
BEGIN:VEVENT
DTSTART;TZID=America/Chicago:20251021T173000
DTEND;TZID=America/Chicago:20251021T193000
DTSTAMP:20260425T072250
CREATED:20250707T163924Z
LAST-MODIFIED:20251031T213448Z
UID:10011049-1761067800-1761075000@ameswriterscollective.org
SUMMARY:Member Open Hours
DESCRIPTION:This month\, join us for Open Hours at the Ames Writers Collective. Open hours are available for members only! Interested in becoming a member? Click here for more information! \nLooking for a space designed for writers by writers? Or are you looking for a quiet area to focus on your most recent project? At Fifth Street Writers\, we aim to provide just that from 5:30pm – 7:30pm on Tuesdays in October. There are a few exceptions\, please check our events calendar for specific dates! \nWe have seating areas spread throughout the building at Fifth Street Writers that run the gamut from comfy club chairs to benches with tables\, to larger tables with chairs. Limited parking is available in front of the building\, with plenty of street parking. Our site host is communications intern\, Acacia Coates.
URL:https://ameswriterscollective.org/event/member-open-hours/2025-10-21/
LOCATION:Ames Writer Collective Fifth Street Writers\, 612 5th Street\, Ames\, Iowa\, 50014\, United States
ATTACH;FMTTYPE=image/png:https://ameswriterscollective.org/wp-content/uploads/2025/07/Open-Writing-Hours-Instagram-Post-45-2.png
END:VEVENT
BEGIN:VEVENT
DTSTART;TZID=America/Chicago:20251028T173000
DTEND;TZID=America/Chicago:20251028T193000
DTSTAMP:20260425T072251
CREATED:20250707T163924Z
LAST-MODIFIED:20251031T213448Z
UID:10011050-1761672600-1761679800@ameswriterscollective.org
SUMMARY:Member Open Hours
DESCRIPTION:This month\, join us for Open Hours at the Ames Writers Collective. Open hours are available for members only! Interested in becoming a member? Click here for more information! \nLooking for a space designed for writers by writers? Or are you looking for a quiet area to focus on your most recent project? At Fifth Street Writers\, we aim to provide just that from 5:30pm – 7:30pm on Tuesdays in October. There are a few exceptions\, please check our events calendar for specific dates! \nWe have seating areas spread throughout the building at Fifth Street Writers that run the gamut from comfy club chairs to benches with tables\, to larger tables with chairs. Limited parking is available in front of the building\, with plenty of street parking. Our site host is communications intern\, Acacia Coates.
URL:https://ameswriterscollective.org/event/member-open-hours/2025-10-28/
LOCATION:Ames Writer Collective Fifth Street Writers\, 612 5th Street\, Ames\, Iowa\, 50014\, United States
ATTACH;FMTTYPE=image/png:https://ameswriterscollective.org/wp-content/uploads/2025/07/Open-Writing-Hours-Instagram-Post-45-2.png
END:VEVENT
END:VCALENDAR