BEGIN:VCALENDAR
VERSION:2.0
PRODID:-//Ames Writers Collective - ECPv6.15.17//NONSGML v1.0//EN
CALSCALE:GREGORIAN
METHOD:PUBLISH
X-WR-CALNAME:Ames Writers Collective
X-ORIGINAL-URL:https://ameswriterscollective.org
X-WR-CALDESC:Events for Ames Writers Collective
REFRESH-INTERVAL;VALUE=DURATION:PT1H
X-Robots-Tag:noindex
X-PUBLISHED-TTL:PT1H
BEGIN:VTIMEZONE
TZID:America/Chicago
BEGIN:DAYLIGHT
TZOFFSETFROM:-0600
TZOFFSETTO:-0500
TZNAME:CDT
DTSTART:20240310T080000
END:DAYLIGHT
BEGIN:STANDARD
TZOFFSETFROM:-0500
TZOFFSETTO:-0600
TZNAME:CST
DTSTART:20241103T070000
END:STANDARD
BEGIN:DAYLIGHT
TZOFFSETFROM:-0600
TZOFFSETTO:-0500
TZNAME:CDT
DTSTART:20250309T080000
END:DAYLIGHT
BEGIN:STANDARD
TZOFFSETFROM:-0500
TZOFFSETTO:-0600
TZNAME:CST
DTSTART:20251102T070000
END:STANDARD
BEGIN:DAYLIGHT
TZOFFSETFROM:-0600
TZOFFSETTO:-0500
TZNAME:CDT
DTSTART:20260308T080000
END:DAYLIGHT
BEGIN:STANDARD
TZOFFSETFROM:-0500
TZOFFSETTO:-0600
TZNAME:CST
DTSTART:20261101T070000
END:STANDARD
END:VTIMEZONE
BEGIN:VEVENT
DTSTART;TZID=America/Chicago:20250511T140000
DTEND;TZID=America/Chicago:20250511T160000
DTSTAMP:20260425T155017
CREATED:20240901T195018Z
LAST-MODIFIED:20240901T195118Z
UID:10010277-1746972000-1746979200@ameswriterscollective.org
SUMMARY:2nd Sunday Swift Youth Writers Groups
DESCRIPTION:Join us on May 11th for the 2nd Sunday Swift Youth Writers Group held from 2 to 4 PM at the Ames Public Library. We are scheduled to meet in the P.E.O. room\, but check monitors incase the location changes.\n\nWe supply notebooks\, pens and other materials to prompt and inspire stories. This Sunday\, Ana McCracken will lead the Swift Youth Writers group. She looks forward to writing with those of you who can join her.\n\n\n\nSwift Youth Writers Groups are an Ames Writers Collective FREE community outreach program held in partnership with the Ames Public Library. The Ames Writers Collective community outreach programs are funded by grants and generous donors.\n\nJoin us! Happy Writing!
URL:https://ameswriterscollective.org/event/2nd-sunday-swift-youth-writers-groups-8/
CATEGORIES:Special Events
ATTACH;FMTTYPE=image/jpeg:https://ameswriterscollective.org/wp-content/uploads/2024/09/IMG_3857.jpeg
ORGANIZER;CN="Ames Writers Collective in Partnership with Ames Public Library":MAILTO:info@ameswriterscollective.org
END:VEVENT
BEGIN:VEVENT
DTSTART;TZID=America/Chicago:20250512T173000
DTEND;TZID=America/Chicago:20250512T193000
DTSTAMP:20260425T155017
CREATED:20250518T175136Z
LAST-MODIFIED:20250518T175136Z
UID:10010915-1747071000-1747078200@ameswriterscollective.org
SUMMARY:Writing Circle Mondays | John Stoddard Cancer Center
DESCRIPTION:Writing Circle Monday sessions are sponsored by Stoddard Cancer Center as part of the Charlie Cutler Healing and Wellness Program and inspired by the Amherst Writers & Artists  method\, which believes that everyone is a writer. \nEach session participants create a safe space\, and then write together for timed intervals to writing prompts. Writing prompts inspire stories from participants’ lives. After each timed-writing session\, participants will have the opportunity to read their stories to the group\, which is healing on many levels. \nCancer patients and survivors are welcome to sign up for one to eight sessions. Registration is required\, as each session will cap at 10 writers. For questions or to register\, call (515) 241-8505 or email Gina Mandernach at Unity Point at gina.mandernach@unitypoint.org.
URL:https://ameswriterscollective.org/event/writing-circle-mondays-john-stoddard-cancer-center-23/
CATEGORIES:Cancer Writing Circles
ATTACH;FMTTYPE=application/pdf:https://ameswriterscollective.org/wp-content/uploads/2025/05/Writing-Circle-Mondays-Flyer-May-July-2025.pdf
END:VEVENT
BEGIN:VEVENT
DTSTART;TZID=America/Chicago:20250521T150000
DTEND;TZID=America/Chicago:20250521T170000
DTSTAMP:20260425T155017
CREATED:20250519T222813Z
LAST-MODIFIED:20250519T222813Z
UID:10010922-1747839600-1747846800@ameswriterscollective.org
SUMMARY:Writing Circle Wednesdays
DESCRIPTION:Writing Circle Wednesdays are for individuals who are currently receiving or who have completed cancer treatments.\nThese sessions meet on Zoom from 3 to 5 PM CT.\nAnyone interested may join at any time. \nLiving with cancer is a lonely journey. Only those who have been or are on that same journey truly understand the emotions\, fears and challenges we face each day. I was hoping to gain some insight into how others coped with their diagnosis. I not only gained that\, but also came to understand more fully my own reactions to my personal cancer story. This was a valuable experience for me. I don’t feel quite as alone as I did. —A Past Participant \nThese sessions are led by Ana McCracken\, founder of the Ames Writers Collective and held in partnership with the William R. Bliss Cancer Center located in Ames\, Iowa. Registration is free and required. Contact Ana for questions and to register.
URL:https://ameswriterscollective.org/event/writing-circle-wednesdays-19/
CATEGORIES:Cancer Writing Circles
ATTACH;FMTTYPE=image/jpeg:https://ameswriterscollective.org/wp-content/uploads/2025/05/Writing-Circle-Wednesdays.jpg
END:VEVENT
BEGIN:VEVENT
DTSTART;TZID=America/Chicago:20250526T173000
DTEND;TZID=America/Chicago:20250526T193000
DTSTAMP:20260425T155017
CREATED:20250518T175227Z
LAST-MODIFIED:20250518T175227Z
UID:10010916-1748280600-1748287800@ameswriterscollective.org
SUMMARY:Writing Circle Mondays | John Stoddard Cancer Center
DESCRIPTION:Writing Circle Monday sessions are sponsored by Stoddard Cancer Center as part of the Charlie Cutler Healing and Wellness Program and inspired by the Amherst Writers & Artists  method\, which believes that everyone is a writer. \nEach session participants create a safe space\, and then write together for timed intervals to writing prompts. Writing prompts inspire stories from participants’ lives. After each timed-writing session\, participants will have the opportunity to read their stories to the group\, which is healing on many levels. \nCancer patients and survivors are welcome to sign up for one to eight sessions. Registration is required\, as each session will cap at 10 writers. For questions or to register\, call (515) 241-8505 or email Gina Mandernach at Unity Point at gina.mandernach@unitypoint.org.
URL:https://ameswriterscollective.org/event/writing-circle-mondays-john-stoddard-cancer-center-24/
CATEGORIES:Cancer Writing Circles
ATTACH;FMTTYPE=application/pdf:https://ameswriterscollective.org/wp-content/uploads/2025/05/Writing-Circle-Mondays-Flyer-May-July-2025.pdf
END:VEVENT
BEGIN:VEVENT
DTSTART;TZID=America/Chicago:20250528T150000
DTEND;TZID=America/Chicago:20250528T170000
DTSTAMP:20260425T155017
CREATED:20250519T222915Z
LAST-MODIFIED:20250519T222915Z
UID:10010923-1748444400-1748451600@ameswriterscollective.org
SUMMARY:Writing Circle Wednesdays
DESCRIPTION:Writing Circle Wednesdays are for individuals who are currently receiving or who have completed cancer treatments.\nThese sessions meet on Zoom from 3 to 5 PM CT.\nAnyone interested may join at any time. \nLiving with cancer is a lonely journey. Only those who have been or are on that same journey truly understand the emotions\, fears and challenges we face each day. I was hoping to gain some insight into how others coped with their diagnosis. I not only gained that\, but also came to understand more fully my own reactions to my personal cancer story. This was a valuable experience for me. I don’t feel quite as alone as I did. —A Past Participant \nThese sessions are led by Ana McCracken\, founder of the Ames Writers Collective and held in partnership with the William R. Bliss Cancer Center located in Ames\, Iowa. Registration is free and required. Contact Ana for questions and to register.
URL:https://ameswriterscollective.org/event/writing-circle-wednesdays-20/
CATEGORIES:Cancer Writing Circles
ATTACH;FMTTYPE=image/jpeg:https://ameswriterscollective.org/wp-content/uploads/2025/05/Writing-Circle-Wednesdays.jpg
END:VEVENT
END:VCALENDAR