BEGIN:VCALENDAR
VERSION:2.0
PRODID:-//Ames Writers Collective - ECPv6.15.17//NONSGML v1.0//EN
CALSCALE:GREGORIAN
METHOD:PUBLISH
X-WR-CALNAME:Ames Writers Collective
X-ORIGINAL-URL:https://ameswriterscollective.org
X-WR-CALDESC:Events for Ames Writers Collective
REFRESH-INTERVAL;VALUE=DURATION:PT1H
X-Robots-Tag:noindex
X-PUBLISHED-TTL:PT1H
BEGIN:VTIMEZONE
TZID:America/Chicago
BEGIN:DAYLIGHT
TZOFFSETFROM:-0600
TZOFFSETTO:-0500
TZNAME:CDT
DTSTART:20240310T080000
END:DAYLIGHT
BEGIN:STANDARD
TZOFFSETFROM:-0500
TZOFFSETTO:-0600
TZNAME:CST
DTSTART:20241103T070000
END:STANDARD
BEGIN:DAYLIGHT
TZOFFSETFROM:-0600
TZOFFSETTO:-0500
TZNAME:CDT
DTSTART:20250309T080000
END:DAYLIGHT
BEGIN:STANDARD
TZOFFSETFROM:-0500
TZOFFSETTO:-0600
TZNAME:CST
DTSTART:20251102T070000
END:STANDARD
BEGIN:DAYLIGHT
TZOFFSETFROM:-0600
TZOFFSETTO:-0500
TZNAME:CDT
DTSTART:20260308T080000
END:DAYLIGHT
BEGIN:STANDARD
TZOFFSETFROM:-0500
TZOFFSETTO:-0600
TZNAME:CST
DTSTART:20261101T070000
END:STANDARD
END:VTIMEZONE
BEGIN:VEVENT
DTSTART;TZID=America/Chicago:20251105T080000
DTEND;TZID=America/Chicago:20251105T100000
DTSTAMP:20260425T100301
CREATED:20251102T152618Z
LAST-MODIFIED:20260323T144456Z
UID:10011077-1762329600-1762336800@ameswriterscollective.org
SUMMARY:Member Open Hours
DESCRIPTION:This month\, join us for our Members Open Hours at Fifth Street Writers. Interested in becoming a member? Click here for more information! \nOpen this month from 9:00 AM – 11:00 AM on Mondays and Wednesdays. There are a few exceptions\, please check our events calendar for specific dates! \nOur space is designed for writers by writers. It’s a quiet place to focus on your writing projects. We have seating areas spread throughout the building at Fifth Street Writers that run the gamut from comfy club chairs to benches with tables\, to larger tables with chairs. Limited parking is available in front of the building\, with plenty of street parking. Our site host this month is communications intern\, Acacia Coates.
URL:https://ameswriterscollective.org/event/member-open-hours-3/2025-11-05/
LOCATION:Ames Writer Collective Fifth Street Writers\, 612 5th Street\, Ames\, Iowa\, 50014\, United States
CATEGORIES:Open Write
ATTACH;FMTTYPE=image/jpeg:https://ameswriterscollective.org/wp-content/uploads/2025/06/IMG_8863.jpg
END:VEVENT
BEGIN:VEVENT
DTSTART;TZID=America/Chicago:20251111T080000
DTEND;TZID=America/Chicago:20251111T220000
DTSTAMP:20260425T100301
CREATED:20251104T190709Z
LAST-MODIFIED:20251104T190710Z
UID:10011101-1762848000-1762898400@ameswriterscollective.org
SUMMARY:Member Open Hours - Today 10 to Noon
DESCRIPTION:This month\, join us for our Members Open Hours at Fifth Street Writers. Interested in becoming a member? Click here for more information! \nOpen today from 10 AM – NOON. Check our events calendar for specific dates! \nOur space is designed for writers by writers? It’s a quiet place to focus on your writing projects? We have seating areas spread throughout the building at Fifth Street Writers that run the gamut from comfy club chairs to benches with tables\, to larger tables with chairs. Limited parking is available in front of the building\, with plenty of street parking. Our site host is founder\, Ana McCracken.
URL:https://ameswriterscollective.org/event/member-open-hours-today-10-to-noon-2/
LOCATION:Ames Writer Collective Fifth Street Writers\, 612 5th Street\, Ames\, Iowa\, 50014\, United States
CATEGORIES:Open Write
ATTACH;FMTTYPE=image/jpeg:https://ameswriterscollective.org/wp-content/uploads/2025/06/IMG_8863.jpg
END:VEVENT
BEGIN:VEVENT
DTSTART;TZID=America/Chicago:20251112T080000
DTEND;TZID=America/Chicago:20251112T100000
DTSTAMP:20260425T100301
CREATED:20251102T152618Z
LAST-MODIFIED:20260323T144456Z
UID:10011078-1762934400-1762941600@ameswriterscollective.org
SUMMARY:Member Open Hours
DESCRIPTION:This month\, join us for our Members Open Hours at Fifth Street Writers. Interested in becoming a member? Click here for more information! \nOpen this month from 9:00 AM – 11:00 AM on Mondays and Wednesdays. There are a few exceptions\, please check our events calendar for specific dates! \nOur space is designed for writers by writers. It’s a quiet place to focus on your writing projects. We have seating areas spread throughout the building at Fifth Street Writers that run the gamut from comfy club chairs to benches with tables\, to larger tables with chairs. Limited parking is available in front of the building\, with plenty of street parking. Our site host this month is communications intern\, Acacia Coates.
URL:https://ameswriterscollective.org/event/member-open-hours-3/2025-11-12/
LOCATION:Ames Writer Collective Fifth Street Writers\, 612 5th Street\, Ames\, Iowa\, 50014\, United States
CATEGORIES:Open Write
ATTACH;FMTTYPE=image/jpeg:https://ameswriterscollective.org/wp-content/uploads/2025/06/IMG_8863.jpg
END:VEVENT
BEGIN:VEVENT
DTSTART;TZID=America/Chicago:20251118T080000
DTEND;TZID=America/Chicago:20251118T220000
DTSTAMP:20260425T100301
CREATED:20251104T191341Z
LAST-MODIFIED:20251104T191341Z
UID:10011104-1763452800-1763503200@ameswriterscollective.org
SUMMARY:Member Open Hours - Today 10 to Noon
DESCRIPTION:This month\, join us for our Members Open Hours at Fifth Street Writers. Interested in becoming a member? Click here for more information! \nOpen today from 10 AM – NOON. Check our events calendar for specific dates! \nOur space is designed for writers by writers? It’s a quiet place to focus on your writing projects? We have seating areas spread throughout the building at Fifth Street Writers that run the gamut from comfy club chairs to benches with tables\, to larger tables with chairs. Limited parking is available in front of the building\, with plenty of street parking. Our site host is founder\, Ana McCracken.
URL:https://ameswriterscollective.org/event/member-open-hours-today-10-to-noon-3/
LOCATION:Ames Writer Collective Fifth Street Writers\, 612 5th Street\, Ames\, Iowa\, 50014\, United States
CATEGORIES:Open Write
ATTACH;FMTTYPE=image/jpeg:https://ameswriterscollective.org/wp-content/uploads/2025/06/IMG_8863.jpg
END:VEVENT
BEGIN:VEVENT
DTSTART;TZID=America/Chicago:20251119T080000
DTEND;TZID=America/Chicago:20251119T100000
DTSTAMP:20260425T100301
CREATED:20251031T212855Z
LAST-MODIFIED:20251102T152346Z
UID:10011079-1763539200-1763546400@ameswriterscollective.org
SUMMARY:Member Open Hours
DESCRIPTION:This month\, join us for our Members Open Hours at Fifth Street Writers. Interested in becoming a member? Click here for more information! \nOpen this month from 8:00 AM – 10:00 AM on Wednesdays. There are a few exceptions\, please check our events calendar for specific dates! \nOur space is designed for writers by writers? It’s a quiet place to focus on your writing projects? We have seating areas spread throughout the building at Fifth Street Writers that run the gamut from comfy club chairs to benches with tables\, to larger tables with chairs. Limited parking is available in front of the building\, with plenty of street parking. Our site host this month is communications intern\, Acacia Coates.
URL:https://ameswriterscollective.org/event/member-open-hours-2/
LOCATION:Ames Writer Collective Fifth Street Writers\, 612 5th Street\, Ames\, Iowa\, 50014\, United States
CATEGORIES:Open Write
ATTACH;FMTTYPE=image/jpeg:https://ameswriterscollective.org/wp-content/uploads/2025/06/IMG_8863.jpg
END:VEVENT
END:VCALENDAR