BEGIN:VCALENDAR
VERSION:2.0
PRODID:-//Ames Writers Collective - ECPv6.15.17//NONSGML v1.0//EN
CALSCALE:GREGORIAN
METHOD:PUBLISH
X-WR-CALNAME:Ames Writers Collective
X-ORIGINAL-URL:https://ameswriterscollective.org
X-WR-CALDESC:Events for Ames Writers Collective
REFRESH-INTERVAL;VALUE=DURATION:PT1H
X-Robots-Tag:noindex
X-PUBLISHED-TTL:PT1H
BEGIN:VTIMEZONE
TZID:America/Chicago
BEGIN:DAYLIGHT
TZOFFSETFROM:-0600
TZOFFSETTO:-0500
TZNAME:CDT
DTSTART:20250309T080000
END:DAYLIGHT
BEGIN:STANDARD
TZOFFSETFROM:-0500
TZOFFSETTO:-0600
TZNAME:CST
DTSTART:20251102T070000
END:STANDARD
BEGIN:DAYLIGHT
TZOFFSETFROM:-0600
TZOFFSETTO:-0500
TZNAME:CDT
DTSTART:20260308T080000
END:DAYLIGHT
BEGIN:STANDARD
TZOFFSETFROM:-0500
TZOFFSETTO:-0600
TZNAME:CST
DTSTART:20261101T070000
END:STANDARD
BEGIN:DAYLIGHT
TZOFFSETFROM:-0600
TZOFFSETTO:-0500
TZNAME:CDT
DTSTART:20270314T080000
END:DAYLIGHT
BEGIN:STANDARD
TZOFFSETFROM:-0500
TZOFFSETTO:-0600
TZNAME:CST
DTSTART:20271107T070000
END:STANDARD
END:VTIMEZONE
BEGIN:VEVENT
DTSTART;TZID=America/Chicago:20260502T170000
DTEND;TZID=America/Chicago:20260502T210000
DTSTAMP:20260424T162800
CREATED:20260306T144304Z
LAST-MODIFIED:20260410T163929Z
UID:10011157-1777741200-1777755600@ameswriterscollective.org
SUMMARY:Rehearsals | The EcoTheatre Lab
DESCRIPTION:The EcoTheatre Lab Presents—In Our Backyard Rehearsals \nRehearsals for The EcoTheatre Lab’s new eco-play festival\, In Our Backyard. Rehearsals are reserved only for participating artists. The festival is May 1st-3rd and is free and open to the public! Check out ecotheatrelab.com for more information!
URL:https://ameswriterscollective.org/event/rehearsals-the-ecotheatre-labs-present-3/
LOCATION:Fifth Street Writers\, 612 5th Street\, Ames\, 50010\, United States
CATEGORIES:Special Events
ATTACH;FMTTYPE=image/jpeg:https://ameswriterscollective.org/wp-content/uploads/2026/03/Butterflies.png.jpg
ORGANIZER;CN="Firth Street Writers & the EcoTheater Lab":MAILTO:ecotheatrelab@gmail.com
END:VEVENT
END:VCALENDAR