BEGIN:VCALENDAR
VERSION:2.0
PRODID:-//Ames Writers Collective - ECPv6.15.17//NONSGML v1.0//EN
CALSCALE:GREGORIAN
METHOD:PUBLISH
X-ORIGINAL-URL:https://ameswriterscollective.org
X-WR-CALDESC:Events for Ames Writers Collective
REFRESH-INTERVAL;VALUE=DURATION:PT1H
X-Robots-Tag:noindex
X-PUBLISHED-TTL:PT1H
BEGIN:VTIMEZONE
TZID:America/Chicago
BEGIN:DAYLIGHT
TZOFFSETFROM:-0600
TZOFFSETTO:-0500
TZNAME:CDT
DTSTART:20230312T080000
END:DAYLIGHT
BEGIN:STANDARD
TZOFFSETFROM:-0500
TZOFFSETTO:-0600
TZNAME:CST
DTSTART:20231105T070000
END:STANDARD
BEGIN:DAYLIGHT
TZOFFSETFROM:-0600
TZOFFSETTO:-0500
TZNAME:CDT
DTSTART:20240310T080000
END:DAYLIGHT
BEGIN:STANDARD
TZOFFSETFROM:-0500
TZOFFSETTO:-0600
TZNAME:CST
DTSTART:20241103T070000
END:STANDARD
BEGIN:DAYLIGHT
TZOFFSETFROM:-0600
TZOFFSETTO:-0500
TZNAME:CDT
DTSTART:20250309T080000
END:DAYLIGHT
BEGIN:STANDARD
TZOFFSETFROM:-0500
TZOFFSETTO:-0600
TZNAME:CST
DTSTART:20251102T070000
END:STANDARD
END:VTIMEZONE
BEGIN:VEVENT
DTSTART;TZID=America/Chicago:20241007T130000
DTEND;TZID=America/Chicago:20241007T153000
DTSTAMP:20260425T233036
CREATED:20240901T203359Z
LAST-MODIFIED:20240901T203359Z
UID:10010290-1728306000-1728315000@ameswriterscollective.org
SUMMARY:Writing for the Sake of Writing - A Generative Writing Workshop
DESCRIPTION:This workshop is held through OLLI-ISU. \nInstructor: Ana McCracken\nFive weeks: Monday\, Sept. 30 – Oct. 28\, 2024\nClass Limit 8 \n1 – 3:30 p.m. CT Online with Zoom \n\n\nCost: $60 Class limit 8 REGISTER ONLINE \n\n\n\n\nDo you dream of writing “someday” but don’t know where to start? Perhaps you already write\, but you’re stuck. Maybe you’ve never written. This writing workshop provides a space for curious writers of all stages to generate stories inspired by prompts running the gamut from phrases\, poems\, photography\, or a piece of art- work that inspires an ekphrasis response. We will read our stories to one another\, discuss the craft of writing\, and where to publish. \nAna McCracken\, founder of the Ames Writers Collective\, received her BS & MFA in Creative Writing from Iowa State University. Her writing has been published in literary journals and anthologies. A certified Amherst Writers & Artists facilitator\, she serves on Litquake’s advisory board and the Willa Cather Foundation board of governors.
URL:https://ameswriterscollective.org/event/writing-for-the-sake-of-writing-a-generative-writing-workshop-2/
CATEGORIES:Workshops
ATTACH;FMTTYPE=image/jpeg:https://ameswriterscollective.org/wp-content/uploads/2024/09/Willa-Cather-Program.jpg
END:VEVENT
BEGIN:VEVENT
DTSTART;TZID=America/Chicago:20241014T130000
DTEND;TZID=America/Chicago:20241014T153000
DTSTAMP:20260425T233036
CREATED:20240901T203449Z
LAST-MODIFIED:20240901T203449Z
UID:10010291-1728910800-1728919800@ameswriterscollective.org
SUMMARY:Writing for the Sake of Writing - A Generative Writing Workshop
DESCRIPTION:This workshop is held through OLLI-ISU. \nInstructor: Ana McCracken\nFive weeks: Monday\, Sept. 30 – Oct. 28\, 2024\nClass Limit 8 \n1 – 3:30 p.m. CT Online with Zoom \n\n\nCost: $60 Class limit 8 REGISTER ONLINE \n\n\n\n\nDo you dream of writing “someday” but don’t know where to start? Perhaps you already write\, but you’re stuck. Maybe you’ve never written. This writing workshop provides a space for curious writers of all stages to generate stories inspired by prompts running the gamut from phrases\, poems\, photography\, or a piece of art- work that inspires an ekphrasis response. We will read our stories to one another\, discuss the craft of writing\, and where to publish. \nAna McCracken\, founder of the Ames Writers Collective\, received her BS & MFA in Creative Writing from Iowa State University. Her writing has been published in literary journals and anthologies. A certified Amherst Writers & Artists facilitator\, she serves on Litquake’s advisory board and the Willa Cather Foundation board of governors.
URL:https://ameswriterscollective.org/event/writing-for-the-sake-of-writing-a-generative-writing-workshop-3/
CATEGORIES:Workshops
ATTACH;FMTTYPE=image/jpeg:https://ameswriterscollective.org/wp-content/uploads/2024/09/Willa-Cather-Program.jpg
END:VEVENT
BEGIN:VEVENT
DTSTART;TZID=America/Chicago:20241021T130000
DTEND;TZID=America/Chicago:20241021T153000
DTSTAMP:20260425T233036
CREATED:20240901T203554Z
LAST-MODIFIED:20240901T203554Z
UID:10010293-1729515600-1729524600@ameswriterscollective.org
SUMMARY:Writing for the Sake of Writing - A Generative Writing Workshop
DESCRIPTION:This workshop is held through OLLI-ISU. \nInstructor: Ana McCracken\nFive weeks: Monday\, Sept. 30 – Oct. 28\, 2024\nClass Limit 8 \n1 – 3:30 p.m. CT Online with Zoom \n\n\nCost: $60 Class limit 8 REGISTER ONLINE \n\n\n\n\nDo you dream of writing “someday” but don’t know where to start? Perhaps you already write\, but you’re stuck. Maybe you’ve never written. This writing workshop provides a space for curious writers of all stages to generate stories inspired by prompts running the gamut from phrases\, poems\, photography\, or a piece of art- work that inspires an ekphrasis response. We will read our stories to one another\, discuss the craft of writing\, and where to publish. \nAna McCracken\, founder of the Ames Writers Collective\, received her BS & MFA in Creative Writing from Iowa State University. Her writing has been published in literary journals and anthologies. A certified Amherst Writers & Artists facilitator\, she serves on Litquake’s advisory board and the Willa Cather Foundation board of governors.
URL:https://ameswriterscollective.org/event/writing-for-the-sake-of-writing-a-generative-writing-workshop-4/
CATEGORIES:Workshops
ATTACH;FMTTYPE=image/jpeg:https://ameswriterscollective.org/wp-content/uploads/2024/09/Willa-Cather-Program.jpg
END:VEVENT
BEGIN:VEVENT
DTSTART;TZID=America/Chicago:20241028T130000
DTEND;TZID=America/Chicago:20241028T153000
DTSTAMP:20260425T233036
CREATED:20240901T203633Z
LAST-MODIFIED:20240901T203633Z
UID:10010294-1730120400-1730129400@ameswriterscollective.org
SUMMARY:Writing for the Sake of Writing - A Generative Writing Workshop
DESCRIPTION:This workshop is held through OLLI-ISU. \nInstructor: Ana McCracken\nFive weeks: Monday\, Sept. 30 – Oct. 28\, 2024\nClass Limit 8 \n1 – 3:30 p.m. CT Online with Zoom \n\n\nCost: $60 Class limit 8 REGISTER ONLINE \n\n\n\n\nDo you dream of writing “someday” but don’t know where to start? Perhaps you already write\, but you’re stuck. Maybe you’ve never written. This writing workshop provides a space for curious writers of all stages to generate stories inspired by prompts running the gamut from phrases\, poems\, photography\, or a piece of art- work that inspires an ekphrasis response. We will read our stories to one another\, discuss the craft of writing\, and where to publish. \nAna McCracken\, founder of the Ames Writers Collective\, received her BS & MFA in Creative Writing from Iowa State University. Her writing has been published in literary journals and anthologies. A certified Amherst Writers & Artists facilitator\, she serves on Litquake’s advisory board and the Willa Cather Foundation board of governors.
URL:https://ameswriterscollective.org/event/writing-for-the-sake-of-writing-a-generative-writing-workshop-5/
CATEGORIES:Workshops
ATTACH;FMTTYPE=image/jpeg:https://ameswriterscollective.org/wp-content/uploads/2024/09/Willa-Cather-Program.jpg
END:VEVENT
END:VCALENDAR