BEGIN:VCALENDAR
VERSION:2.0
PRODID:-//Ames Writers Collective - ECPv6.15.17//NONSGML v1.0//EN
CALSCALE:GREGORIAN
METHOD:PUBLISH
X-ORIGINAL-URL:https://ameswriterscollective.org
X-WR-CALDESC:Events for Ames Writers Collective
REFRESH-INTERVAL;VALUE=DURATION:PT1H
X-Robots-Tag:noindex
X-PUBLISHED-TTL:PT1H
BEGIN:VTIMEZONE
TZID:America/Chicago
BEGIN:DAYLIGHT
TZOFFSETFROM:-0600
TZOFFSETTO:-0500
TZNAME:CDT
DTSTART:20240310T080000
END:DAYLIGHT
BEGIN:STANDARD
TZOFFSETFROM:-0500
TZOFFSETTO:-0600
TZNAME:CST
DTSTART:20241103T070000
END:STANDARD
BEGIN:DAYLIGHT
TZOFFSETFROM:-0600
TZOFFSETTO:-0500
TZNAME:CDT
DTSTART:20250309T080000
END:DAYLIGHT
BEGIN:STANDARD
TZOFFSETFROM:-0500
TZOFFSETTO:-0600
TZNAME:CST
DTSTART:20251102T070000
END:STANDARD
BEGIN:DAYLIGHT
TZOFFSETFROM:-0600
TZOFFSETTO:-0500
TZNAME:CDT
DTSTART:20260308T080000
END:DAYLIGHT
BEGIN:STANDARD
TZOFFSETFROM:-0500
TZOFFSETTO:-0600
TZNAME:CST
DTSTART:20261101T070000
END:STANDARD
END:VTIMEZONE
BEGIN:VEVENT
DTSTART;TZID=America/Chicago:20251009T190000
DTEND;TZID=America/Chicago:20251009T200000
DTSTAMP:20260425T101521
CREATED:20250519T222200Z
LAST-MODIFIED:20250823T170809Z
UID:10010921-1760036400-1760040000@ameswriterscollective.org
SUMMARY:Author Spotlight with John T. Price
DESCRIPTION:Join the Ames Writers Collective & KHOI Community Radio Station for an evening with John T. Price—live at Fifth Street Writers on Thursday\, October 9th at 7 PM. \nThis free community event features a reading\, book signing\, and conversation with John T. Price\,  author of the novel\, Goethe’s Oak–A Holocaust Story. Hosted in partnership with KHOI Community Radio\, the evening celebrates literature\, community\, and creative storytelling. \nAbout John T. Price: He is is the author of four creative nonfiction books: Not Just Any Land: A Personal and Literary Journey into the American Grasslands\, Man Killed by Pheasant and Other Kinships\, Daddy Long Legs: The Natural Education of a Father\, and All Is Leaf: Essays and Transformations. He is the Regents/Foundation Distinguished Professor at the University of Nebraska at Omaha\, where he directs the English Department’s Creative Nonfiction Writing Program\, and is a faculty member in the Goldstein Center for Human Rights. \nVisit KHOI to tune in!
URL:https://ameswriterscollective.org/event/6591/
LOCATION:Fifth Street Writers\, 612 5th Street\, Ames\, 50010\, United States
CATEGORIES:Author Talks
ATTACH;FMTTYPE=image/jpeg:https://ameswriterscollective.org/wp-content/uploads/2025/05/John-T-Price-Author-Spotlight.jpg
ORGANIZER;CN="Ames Writers Collective in Partnership with KHOI Community Radio":MAILTO:info@ameswriterscollective.org
END:VEVENT
END:VCALENDAR