BEGIN:VCALENDAR
VERSION:2.0
PRODID:-//Ames Writers Collective - ECPv6.15.17//NONSGML v1.0//EN
CALSCALE:GREGORIAN
METHOD:PUBLISH
X-ORIGINAL-URL:https://ameswriterscollective.org
X-WR-CALDESC:Events for Ames Writers Collective
REFRESH-INTERVAL;VALUE=DURATION:PT1H
X-Robots-Tag:noindex
X-PUBLISHED-TTL:PT1H
BEGIN:VTIMEZONE
TZID:America/Chicago
BEGIN:DAYLIGHT
TZOFFSETFROM:-0600
TZOFFSETTO:-0500
TZNAME:CDT
DTSTART:20240310T080000
END:DAYLIGHT
BEGIN:STANDARD
TZOFFSETFROM:-0500
TZOFFSETTO:-0600
TZNAME:CST
DTSTART:20241103T070000
END:STANDARD
BEGIN:DAYLIGHT
TZOFFSETFROM:-0600
TZOFFSETTO:-0500
TZNAME:CDT
DTSTART:20250309T080000
END:DAYLIGHT
BEGIN:STANDARD
TZOFFSETFROM:-0500
TZOFFSETTO:-0600
TZNAME:CST
DTSTART:20251102T070000
END:STANDARD
BEGIN:DAYLIGHT
TZOFFSETFROM:-0600
TZOFFSETTO:-0500
TZNAME:CDT
DTSTART:20260308T080000
END:DAYLIGHT
BEGIN:STANDARD
TZOFFSETFROM:-0500
TZOFFSETTO:-0600
TZNAME:CST
DTSTART:20261101T070000
END:STANDARD
END:VTIMEZONE
BEGIN:VEVENT
DTSTART;TZID=America/Chicago:20250619T190000
DTEND;TZID=America/Chicago:20250619T210000
DTSTAMP:20260425T142654
CREATED:20250617T142738Z
LAST-MODIFIED:20250617T142738Z
UID:10010937-1750359600-1750366800@ameswriterscollective.org
SUMMARY:Tumbling Words: An Evening of Writing & Creative Self-Expression
DESCRIPTION:June 19 | 7–9 PM | The Dot Cafe \nJoin us for a low-pressure\, high-vibe writing night built around connection\, creativity\, and handcrafted cocktails. Using poetry as a prompt\, we’ll dive into Wild Writing\, a fast\, unfiltered practice that quiets the inner critic and gets words flowing. \nLed by Ana McCracken\, founder of Ames Writers Collective\, this workshop invites you to write freely\, sip slowly\, and engage with a like-minded creative community. No writing experience necessary\, just bring your curiosity. \nTickets include: \n\n\nA handcrafted cocktail or mocktail \n\n\nA journal and pen \n\n\nA guided Wild Writing session \n\n\nPost-workshop mingle + local handmade goods for sale \n\n\nPresented in collaboration with The Dot\, Lucky Star\, and Ames Writers Collective.A portion of proceeds supports community writing programs through AWC. \nClick here to buy a ticket.
URL:https://ameswriterscollective.org/event/tumbling-words-an-evening-of-writing-creative-self-expression/
CATEGORIES:Special Events
ATTACH;FMTTYPE=image/jpeg:https://ameswriterscollective.org/wp-content/uploads/2025/06/tumbling-words-1.jpg
END:VEVENT
END:VCALENDAR