BEGIN:VCALENDAR
VERSION:2.0
PRODID:-//Ames Writers Collective - ECPv6.15.17//NONSGML v1.0//EN
CALSCALE:GREGORIAN
METHOD:PUBLISH
X-WR-CALNAME:Ames Writers Collective
X-ORIGINAL-URL:https://ameswriterscollective.org
X-WR-CALDESC:Events for Ames Writers Collective
REFRESH-INTERVAL;VALUE=DURATION:PT1H
X-Robots-Tag:noindex
X-PUBLISHED-TTL:PT1H
BEGIN:VTIMEZONE
TZID:America/Chicago
BEGIN:DAYLIGHT
TZOFFSETFROM:-0600
TZOFFSETTO:-0500
TZNAME:CDT
DTSTART:20240310T080000
END:DAYLIGHT
BEGIN:STANDARD
TZOFFSETFROM:-0500
TZOFFSETTO:-0600
TZNAME:CST
DTSTART:20241103T070000
END:STANDARD
BEGIN:DAYLIGHT
TZOFFSETFROM:-0600
TZOFFSETTO:-0500
TZNAME:CDT
DTSTART:20250309T080000
END:DAYLIGHT
BEGIN:STANDARD
TZOFFSETFROM:-0500
TZOFFSETTO:-0600
TZNAME:CST
DTSTART:20251102T070000
END:STANDARD
BEGIN:DAYLIGHT
TZOFFSETFROM:-0600
TZOFFSETTO:-0500
TZNAME:CDT
DTSTART:20260308T080000
END:DAYLIGHT
BEGIN:STANDARD
TZOFFSETFROM:-0500
TZOFFSETTO:-0600
TZNAME:CST
DTSTART:20261101T070000
END:STANDARD
END:VTIMEZONE
BEGIN:VEVENT
DTSTART;TZID=America/Chicago:20250311T153000
DTEND;TZID=America/Chicago:20250311T170000
DTSTAMP:20260425T194307
CREATED:20250131T022651Z
LAST-MODIFIED:20260403T025141Z
UID:10010852-1741707000-1741712400@ameswriterscollective.org
SUMMARY:Write Together Tuesdays | Monthly 2nd & 4th Tuesdays
DESCRIPTION:Join us for our hybrid Write Together Tuesdays on Zoom or in person at Fifth Street Writers. 3:30 to 5 PM CT. \nWHAT’S A WRITE TOGETHER?\n\nWe join together on Zoom and in person at Fifth Street Writers\, share what we’re working on\, and write for ~90 minutes. At the end\, we share our successes\, and sign off. Easy peasy. \nFor more information and to register\, click here.
URL:https://ameswriterscollective.org/event/writes-togethers-monthly-on-the-2nd-4th-tuesdays-3/2025-03-11/
CATEGORIES:Open Write
ATTACH;FMTTYPE=image/jpeg:https://ameswriterscollective.org/wp-content/uploads/2025/01/IMG_8862.jpeg
ORGANIZER;CN="Ames Writers Collective":MAILTO:ana@ameswriterscollective.org
END:VEVENT
END:VCALENDAR