BEGIN:VCALENDAR
VERSION:2.0
PRODID:-//Ames Writers Collective - ECPv6.15.17//NONSGML v1.0//EN
CALSCALE:GREGORIAN
METHOD:PUBLISH
X-WR-CALNAME:Ames Writers Collective
X-ORIGINAL-URL:https://ameswriterscollective.org
X-WR-CALDESC:Events for Ames Writers Collective
REFRESH-INTERVAL;VALUE=DURATION:PT1H
X-Robots-Tag:noindex
X-PUBLISHED-TTL:PT1H
BEGIN:VTIMEZONE
TZID:America/Chicago
BEGIN:DAYLIGHT
TZOFFSETFROM:-0600
TZOFFSETTO:-0500
TZNAME:CDT
DTSTART:20230312T080000
END:DAYLIGHT
BEGIN:STANDARD
TZOFFSETFROM:-0500
TZOFFSETTO:-0600
TZNAME:CST
DTSTART:20231105T070000
END:STANDARD
BEGIN:DAYLIGHT
TZOFFSETFROM:-0600
TZOFFSETTO:-0500
TZNAME:CDT
DTSTART:20240310T080000
END:DAYLIGHT
BEGIN:STANDARD
TZOFFSETFROM:-0500
TZOFFSETTO:-0600
TZNAME:CST
DTSTART:20241103T070000
END:STANDARD
BEGIN:DAYLIGHT
TZOFFSETFROM:-0600
TZOFFSETTO:-0500
TZNAME:CDT
DTSTART:20250309T080000
END:DAYLIGHT
BEGIN:STANDARD
TZOFFSETFROM:-0500
TZOFFSETTO:-0600
TZNAME:CST
DTSTART:20251102T070000
END:STANDARD
BEGIN:DAYLIGHT
TZOFFSETFROM:-0600
TZOFFSETTO:-0500
TZNAME:CDT
DTSTART:20260308T080000
END:DAYLIGHT
BEGIN:STANDARD
TZOFFSETFROM:-0500
TZOFFSETTO:-0600
TZNAME:CST
DTSTART:20261101T070000
END:STANDARD
END:VTIMEZONE
BEGIN:VEVENT
DTSTART;TZID=America/Chicago:20250623T080000
DTEND;TZID=America/Chicago:20250627T170000
DTSTAMP:20260424T222626
CREATED:20250611T202831Z
LAST-MODIFIED:20250611T202909Z
UID:10010934-1750665600-1751043600@ameswriterscollective.org
SUMMARY:Swift Youth Writers Workshop
DESCRIPTION:The Ames Writers Collective is committed to Youth Outreach Programming.\nFREE Writing Workshop for youth grades 6 to 12. \nThe Swift Youth Writers Workshops are designed to nurture creative writing and in-person connections among youth. \nThe 4th Annual Swift Youth Writers Workshop—a week-long writing workshop scheduled for June 23 to 27\, 2025\, from 10 AM to 12:00 PM at the Ames Public Library. \nClick here to register.
URL:https://ameswriterscollective.org/event/swift-youth-writers-workshop/
LOCATION:Ames Public Library\, 515 Douglas Avenue\, Ames\, IA\, 50010\, United States
CATEGORIES:Workshops
ATTACH;FMTTYPE=image/jpeg:https://ameswriterscollective.org/wp-content/uploads/2025/06/SwiftYouthWriters.jpg
ORGANIZER;CN="Ames Writers Collective in Partnership with Ames Public Library":MAILTO:info@ameswriterscollective.org
END:VEVENT
BEGIN:VEVENT
DTSTART;TZID=America/Chicago:20250511T140000
DTEND;TZID=America/Chicago:20250511T160000
DTSTAMP:20260424T222626
CREATED:20240901T195018Z
LAST-MODIFIED:20240901T195118Z
UID:10010277-1746972000-1746979200@ameswriterscollective.org
SUMMARY:2nd Sunday Swift Youth Writers Groups
DESCRIPTION:Join us on May 11th for the 2nd Sunday Swift Youth Writers Group held from 2 to 4 PM at the Ames Public Library. We are scheduled to meet in the P.E.O. room\, but check monitors incase the location changes.\n\nWe supply notebooks\, pens and other materials to prompt and inspire stories. This Sunday\, Ana McCracken will lead the Swift Youth Writers group. She looks forward to writing with those of you who can join her.\n\n\n\nSwift Youth Writers Groups are an Ames Writers Collective FREE community outreach program held in partnership with the Ames Public Library. The Ames Writers Collective community outreach programs are funded by grants and generous donors.\n\nJoin us! Happy Writing!
URL:https://ameswriterscollective.org/event/2nd-sunday-swift-youth-writers-groups-8/
CATEGORIES:Special Events
ATTACH;FMTTYPE=image/jpeg:https://ameswriterscollective.org/wp-content/uploads/2024/09/IMG_3857.jpeg
ORGANIZER;CN="Ames Writers Collective in Partnership with Ames Public Library":MAILTO:info@ameswriterscollective.org
END:VEVENT
BEGIN:VEVENT
DTSTART;TZID=America/Chicago:20250413T140000
DTEND;TZID=America/Chicago:20250413T160000
DTSTAMP:20260424T222626
CREATED:20240901T195306Z
LAST-MODIFIED:20240901T195306Z
UID:10010278-1744552800-1744560000@ameswriterscollective.org
SUMMARY:2nd Sunday Swift Youth Writers Groups
DESCRIPTION:Join us on April 13th for the 2nd Sunday Swift Youth Writers Group held from 2 to 4 PM at the Ames Public Library. We are scheduled to meet in the P.E.O. room\, but check monitors incase the location changes.\n\nWe supply notebooks\, pens and other materials to prompt and inspire stories. This Sunday\, Ana McCracken will lead the Swift Youth Writers group. She looks forward to writing with those of you who can join her.\n\n\n\nSwift Youth Writers Groups are an Ames Writers Collective FREE community outreach program held in partnership with the Ames Public Library. The Ames Writers Collective community outreach programs are funded by grants and generous donors.\n\nJoin us! Happy Writing!
URL:https://ameswriterscollective.org/event/2nd-sunday-swift-youth-writers-groups-9/
CATEGORIES:Special Events
ATTACH;FMTTYPE=image/jpeg:https://ameswriterscollective.org/wp-content/uploads/2024/09/IMG_3832-1.jpeg
ORGANIZER;CN="Ames Writers Collective in Partnership with Ames Public Library":MAILTO:info@ameswriterscollective.org
END:VEVENT
BEGIN:VEVENT
DTSTART;TZID=America/Chicago:20250309T140000
DTEND;TZID=America/Chicago:20250309T160000
DTSTAMP:20260424T222626
CREATED:20240901T193329Z
LAST-MODIFIED:20240901T194136Z
UID:10010276-1741528800-1741536000@ameswriterscollective.org
SUMMARY:2nd Sunday Swift Youth Writers Groups
DESCRIPTION:Join us on March 9th for the 2nd Sunday Swift Youth Writers Group held from 2 to 4 PM at the Ames Public Library. We are scheduled to meet in the P.E.O. room\, but check monitors incase the location changes.\n\nWe supply notebooks\, pens and other materials to prompt and inspire stories. This Sunday\, Ana McCracken will lead the Swift Youth Writers group. She looks forward to writing with those of you who can join her.\n\n\n\nSwift Youth Writers Groups are an Ames Writers Collective FREE community outreach program held in partnership with the Ames Public Library. The Ames Writers Collective community outreach programs are funded by grants and generous donors.\n\nJoin us! Happy Writing!
URL:https://ameswriterscollective.org/event/2nd-sunday-swift-youth-writers-groups-7/
CATEGORIES:Special Events
ATTACH;FMTTYPE=image/jpeg:https://ameswriterscollective.org/wp-content/uploads/2024/09/IMG_3842.jpeg
ORGANIZER;CN="Ames Writers Collective in Partnership with Ames Public Library":MAILTO:info@ameswriterscollective.org
END:VEVENT
BEGIN:VEVENT
DTSTART;TZID=America/Chicago:20250209T140000
DTEND;TZID=America/Chicago:20250209T160000
DTSTAMP:20260424T222626
CREATED:20240901T193034Z
LAST-MODIFIED:20240901T194225Z
UID:10010275-1739109600-1739116800@ameswriterscollective.org
SUMMARY:2nd Sunday Swift Youth Writers Groups
DESCRIPTION:Join us on February 9th for the 2nd Sunday Swift Youth Writers Group held from 2 to 4 PM at the Ames Public Library. We are scheduled to meet in the P.E.O. room\, but check monitors incase the location changes.\n\nWe supply notebooks\, pens and other materials to prompt and inspire stories. This Sunday\, Ana McCracken will lead the Swift Youth Writers group. She looks forward to writing with those of you who can join her.\n\n\n\nSwift Youth Writers Groups are an Ames Writers Collective FREE community outreach program held in partnership with the Ames Public Library. The Ames Writers Collective community outreach programs are funded by grants and generous donors.\n\nJoin us! Happy Writing!
URL:https://ameswriterscollective.org/event/2nd-sunday-swift-youth-writers-groups-6/
CATEGORIES:Special Events
ATTACH;FMTTYPE=image/jpeg:https://ameswriterscollective.org/wp-content/uploads/2024/09/IMG_3811-rotated.jpeg
ORGANIZER;CN="Ames Writers Collective in Partnership with Ames Public Library":MAILTO:info@ameswriterscollective.org
END:VEVENT
BEGIN:VEVENT
DTSTART;TZID=America/Chicago:20250112T140000
DTEND;TZID=America/Chicago:20250112T160000
DTSTAMP:20260424T222626
CREATED:20240901T192832Z
LAST-MODIFIED:20240901T194309Z
UID:10010274-1736690400-1736697600@ameswriterscollective.org
SUMMARY:2nd Sunday Swift Youth Writers Groups
DESCRIPTION:Join us on January 12th for the 2nd Sunday Swift Youth Writers Group held from 2 to 4 PM at the Ames Public Library. We are scheduled to meet in the P.E.O. room\, but check monitors incase the location changes.\n\nWe supply notebooks\, pens and other materials to prompt and inspire stories. This Sunday\, Ana McCracken will lead the Swift Youth Writers group. She looks forward to writing with those of you who can join her.\n\n\n\nSwift Youth Writers Groups are an Ames Writers Collective FREE community outreach program held in partnership with the Ames Public Library. The Ames Writers Collective community outreach programs are funded by grants and generous donors.\n\nJoin us! Happy Writing!
URL:https://ameswriterscollective.org/event/2nd-sunday-swift-youth-writers-groups-5/
CATEGORIES:Special Events
ATTACH;FMTTYPE=image/jpeg:https://ameswriterscollective.org/wp-content/uploads/2024/09/IMG_3820.jpeg
ORGANIZER;CN="Ames Writers Collective in Partnership with Ames Public Library":MAILTO:info@ameswriterscollective.org
END:VEVENT
BEGIN:VEVENT
DTSTART;TZID=America/Chicago:20241208T140000
DTEND;TZID=America/Chicago:20241208T160000
DTSTAMP:20260424T222626
CREATED:20240901T192250Z
LAST-MODIFIED:20241204T024720Z
UID:10010273-1733666400-1733673600@ameswriterscollective.org
SUMMARY:CANCELED | 2nd Sunday Swift Youth Writers Groups
DESCRIPTION:CANCELED | CANCELED | CANCELED \nJoin us again\, \non January 12th (the 2nd Sunday in January) from\n2 to 4 PM in the PEO Room at\nthe Ames Public Library
URL:https://ameswriterscollective.org/event/2nd-sunday-swift-youth-writers-groups-4/
CATEGORIES:Special Events
ATTACH;FMTTYPE=image/jpeg:https://ameswriterscollective.org/wp-content/uploads/2024/09/IMG_3819-scaled.jpeg
ORGANIZER;CN="Ames Writers Collective in Partnership with Ames Public Library":MAILTO:info@ameswriterscollective.org
END:VEVENT
BEGIN:VEVENT
DTSTART;TZID=America/Chicago:20241110T140000
DTEND;TZID=America/Chicago:20241110T160000
DTSTAMP:20260424T222626
CREATED:20240901T191632Z
LAST-MODIFIED:20241122T152210Z
UID:10010271-1731247200-1731254400@ameswriterscollective.org
SUMMARY:2nd Sunday Swift Youth Writers Groups
DESCRIPTION:Join on  November 10th for the 2nd Sunday Swift Youth Writers Group held from 2 to 4 PM at the Ames Public Library. We are scheduled to meet in the P.E.O. room\, but check monitors incase the location changes.\n\nWe supply notebooks\, pens and other materials to prompt and inspire stories. This Sunday\, Ana McCracken will lead the Swift Youth Writers group. She looks forward to writing with those of you who can join her.\n\n\n\nSwift Youth Writers Groups are an Ames Writers Collective FREE community outreach program held in partnership with the Ames Public Library. The Ames Writers Collective community outreach programs are funded by grants and generous donors.\n\nJoin us! Happy Writing!
URL:https://ameswriterscollective.org/event/2nd-sunday-swift-youth-writers-groups-3/
CATEGORIES:Special Events
ATTACH;FMTTYPE=image/jpeg:https://ameswriterscollective.org/wp-content/uploads/2024/09/IMG_3803.jpeg
ORGANIZER;CN="Ames Writers Collective in Partnership with Ames Public Library":MAILTO:info@ameswriterscollective.org
END:VEVENT
BEGIN:VEVENT
DTSTART;TZID=America/Chicago:20241026T100000
DTEND;TZID=America/Chicago:20241026T120000
DTSTAMP:20260424T222626
CREATED:20240917T200725Z
LAST-MODIFIED:20240925T163001Z
UID:10010295-1729936800-1729944000@ameswriterscollective.org
SUMMARY:A Generative Writing Workshop for Adults
DESCRIPTION:Do you dream of writing “someday\,” but don’t know where to start? Perhaps you already write\, but you’re stuck. \nJoin this FREE monthly writing workshop for adults\, which provides a safe space for writers of all stages and genres to generate stories inspired by prompts running the gamut from phrases\, poems\, photography\, guest authors and their prompts\, or a piece of artwork. We will read our stories to one another and share only positive feedback. \nThese workshops are inspired by the Amherst Writers & Artists Method\, which believes that everyone is a writer. \nThis workshop is held at the Ames Public Library from 10 to 12 PM upstairs in the PEO Room. \nPresented by the Iowa Center for the Book and Ames Public Library in partnership with the Ames Writers Collective.
URL:https://ameswriterscollective.org/event/a-generative-writing-workshop-for-adults/
LOCATION:Ames Public Library\, 515 Douglas Avenue\, Ames\, IA\, 50010\, United States
CATEGORIES:Workshops
ATTACH;FMTTYPE=application/pdf:https://ameswriterscollective.org/wp-content/uploads/2024/09/Generative-Writing-APL-Ames-Writers-Collective.pdf
ORGANIZER;CN="Ames Writers Collective in Partnership with Ames Public Library":MAILTO:info@ameswriterscollective.org
END:VEVENT
BEGIN:VEVENT
DTSTART;TZID=America/Chicago:20241012T140000
DTEND;TZID=America/Chicago:20241012T160000
DTSTAMP:20260424T222626
CREATED:20240831T160305Z
LAST-MODIFIED:20240901T194546Z
UID:10010262-1728741600-1728748800@ameswriterscollective.org
SUMMARY:2nd Sunday Swift Youth Writers Groups
DESCRIPTION:Join us on October 12th for the 2nd Sunday Swift Youth Writers Group held from 2 to 4 PM at the Ames Public Library. We are scheduled to meet in the P.E.O. room\, but check monitors incase the location changes.\n\nWe supply notebooks\, pens and other materials to prompt and inspire stories. This Sunday\, Claire Kruesel will lead the Swift Youth Writers group. She looks forward to writing with those of you who can join her.\n\n\n\nSwift Youth Writers Groups are an Ames Writers Collective FREE community outreach program held in partnership with the Ames Public Library. The Ames Writers Collective community outreach programs are funded by grants and generous donors.\n\nJoin us! Happy Writing!
URL:https://ameswriterscollective.org/event/2nd-sunday-swift-youth-writers-groups-2/
CATEGORIES:Special Events
ATTACH;FMTTYPE=image/jpeg:https://ameswriterscollective.org/wp-content/uploads/2024/08/IMG_3790-1.jpeg
ORGANIZER;CN="Ames Writers Collective in Partnership with Ames Public Library":MAILTO:info@ameswriterscollective.org
END:VEVENT
BEGIN:VEVENT
DTSTART;TZID=America/Chicago:20240908T140000
DTEND;TZID=America/Chicago:20240908T160000
DTSTAMP:20260424T222626
CREATED:20240831T155442Z
LAST-MODIFIED:20240901T194709Z
UID:10010261-1725804000-1725811200@ameswriterscollective.org
SUMMARY:2nd Sunday Swift Youth Writers Groups
DESCRIPTION:It’s almost Fall and the start of the new school year\, which means the 2nd Sunday Swift Youth Writers Groups are starting up again.\n\nOn Sunday\, September 8th\, Linea King kicks off the Swift Youth Writers groups series. She looks forward to writing with those of you who can join her from 2 to 4 PM at the Ames Public Library. We are scheduled to meet in the P.E.O. room\, but check monitors incase the location changes.\n\nWe supply notebooks\, pens and other materials to prompt and inspire stories. You can learn about Linea and her writing philosophy by clicking here.\n\n\nSwift Youth Writers Groups are an Ames Writers Collective FREE community outreach program held in partnership with the Ames Public Library. The Ames Writers Collective community outreach programs are funded by grants and generous donors.\n\nJoin us! Happy Writing!
URL:https://ameswriterscollective.org/event/2nd-sunday-swift-youth-writers-groups/
CATEGORIES:Special Events
ATTACH;FMTTYPE=image/jpeg:https://ameswriterscollective.org/wp-content/uploads/2024/08/IMG_3799.jpeg
ORGANIZER;CN="Ames Writers Collective in Partnership with Ames Public Library":MAILTO:info@ameswriterscollective.org
END:VEVENT
END:VCALENDAR