BEGIN:VCALENDAR
VERSION:2.0
PRODID:-//Ames Writers Collective - ECPv6.15.17//NONSGML v1.0//EN
CALSCALE:GREGORIAN
METHOD:PUBLISH
X-ORIGINAL-URL:https://ameswriterscollective.org
X-WR-CALDESC:Events for Ames Writers Collective
REFRESH-INTERVAL;VALUE=DURATION:PT1H
X-Robots-Tag:noindex
X-PUBLISHED-TTL:PT1H
BEGIN:VTIMEZONE
TZID:America/Chicago
BEGIN:DAYLIGHT
TZOFFSETFROM:-0600
TZOFFSETTO:-0500
TZNAME:CDT
DTSTART:20240310T080000
END:DAYLIGHT
BEGIN:STANDARD
TZOFFSETFROM:-0500
TZOFFSETTO:-0600
TZNAME:CST
DTSTART:20241103T070000
END:STANDARD
BEGIN:DAYLIGHT
TZOFFSETFROM:-0600
TZOFFSETTO:-0500
TZNAME:CDT
DTSTART:20250309T080000
END:DAYLIGHT
BEGIN:STANDARD
TZOFFSETFROM:-0500
TZOFFSETTO:-0600
TZNAME:CST
DTSTART:20251102T070000
END:STANDARD
BEGIN:DAYLIGHT
TZOFFSETFROM:-0600
TZOFFSETTO:-0500
TZNAME:CDT
DTSTART:20260308T080000
END:DAYLIGHT
BEGIN:STANDARD
TZOFFSETFROM:-0500
TZOFFSETTO:-0600
TZNAME:CST
DTSTART:20261101T070000
END:STANDARD
BEGIN:DAYLIGHT
TZOFFSETFROM:-0600
TZOFFSETTO:-0500
TZNAME:CDT
DTSTART:20270314T080000
END:DAYLIGHT
BEGIN:STANDARD
TZOFFSETFROM:-0500
TZOFFSETTO:-0600
TZNAME:CST
DTSTART:20271107T070000
END:STANDARD
END:VTIMEZONE
BEGIN:VEVENT
DTSTART;TZID=America/Chicago:20260424T100000
DTEND;TZID=America/Chicago:20260424T120000
DTSTAMP:20260424T210058
CREATED:20260407T220122Z
LAST-MODIFIED:20260407T220335Z
UID:10011186-1777024800-1777032000@ameswriterscollective.org
SUMMARY:CRAFT WORKSHOP | defiant forms: A generative cross-genre workshop
DESCRIPTION:CRAFT WORKSHOP\ndefiant forms: A generative cross-genre workshop\nwith Matty Layne Glasgow\nFriday\, April 24 | 10 AM – 12 PM\nAmes Writers Collective\, Fifth Street Writers (612 Fifth Street) \nIn this generative workshop\, we’ll consider and draw inspiration from approaches that delight in the blending and blurring of genre and tradition. Bring a draft of a piece in any genre that feels stuck for one reason or another\, and we’ll try our hand at creating our own novel forms that play with mimetic representation of the systems our work engages with and\, potentially\, seeks to deconstruct. Pearl Hogrefe Visiting Writer Series Event.\n\nThis event is FREE and open to all writers and non-writers. For more information\, click here. \nMatty Layne Glasgow is the author of the award-winning poetry collection deciduous qween\, published by Red Hen Press in 2019. He is an Assistant Professor of English at the College of Charleston where he teaches poetry and nonfiction. A 2022-2025 Black Earth Institute Fellow\, Glasgow co-edited the About Place Journal’s “Strange Wests” and served as Editor of Quarterly West\, as well as the coordinator of the Wasatch Writers in the Schools program in Salt Lake City. \nA graduate of the MFA Program in Creative Writing and Environment at Iowa State\, Glasgow also received a PhD in Creative Writing & English Literature from the University of Utah where he was awarded a Vice Presidential Fellowship\, a Jeff Metcalf Humanities in the Community Fellowship\, and a Fellowship from the Tanner Humanities Center. Matty’s poems and essays have appeared in or are forthcoming from Crazyhorse\, Copper Nickel\, Denver Quarterly\, Ecotone\, Gulf Coast\, Houston Public Media\, Kenyon Review\, the Missouri Review\, Pleiades\, Poetry Daily\, Third Coast\, and elsewhere. \nThis program is sponsored by the Pearl Hogrefe Fund\, Department of English\, MFA Program in Creative Writing and Environment\, Ames Writers Collective\, Fifth Street Writers\, Iowa State University Committee on Lectures (funded by GSB).
URL:https://ameswriterscollective.org/event/craft-workshop-defiant-forms-a-generative-cross-genre-workshop/
LOCATION:Ames Writer Collective Fifth Street Writers\, 612 5th Street\, Ames\, Iowa\, 50014\, United States
CATEGORIES:Workshops
ATTACH;FMTTYPE=image/png:https://ameswriterscollective.org/wp-content/uploads/2026/04/glasgow-photo-e1775599267703.png
ORGANIZER;CN="Ames Writers Collective in Partnership with the ISU MFA Program in Creative Writing & Environment":MAILTO:info@ameswriterscollective.org
END:VEVENT
BEGIN:VEVENT
DTSTART;TZID=America/Chicago:20251108T110000
DTEND;TZID=America/Chicago:20251108T150000
DTSTAMP:20260424T210058
CREATED:20250821T182953Z
LAST-MODIFIED:20251029T162555Z
UID:10010960-1762599600-1762614000@ameswriterscollective.org
SUMMARY:Author Nicole Baart | The Publishing Journey
DESCRIPTION:Nicole Baart | The Publishing Journey | A Publishing Talk & Workshop \nLocation: Ames Writers Collective\, Fifth Street Writers \nSaturday\, November 8 | 11 AM – 12 PM:  Nicole Baart\, The Publishing Journey & book-signing\nFREE and open to the public \nSaturday\, November 8 | 1 PM – 3 PM:  Pitching Your Work\nPublishing practicum workshop \nFee: $25 general admission\, Fifth Street members receive a 10% discount\, and Students Free. CLICK HERE to receive a discount code. \nTO REGISTER for general admission\, CLICK here. \nNicole Baart is the author of several novels\, including Where He Left Me and Everything We Didn’t Say. The cofounder of a nonprofit and mother of five\, she lives in Iowa with her family. Learn more at NicoleBaart.com.\n \nThis event is held in partnership with the Iowa State University MFA Program in Creative Writing and Environment Pearl Holgrefe Visiting Writers Series.
URL:https://ameswriterscollective.org/event/author-nicole-baart-the-publishing-journey/
LOCATION:Ames Writer Collective Fifth Street Writers\, 612 5th Street\, Ames\, Iowa\, 50014\, United States
CATEGORIES:Author Talks,Special Events
ATTACH;FMTTYPE=image/jpeg:https://ameswriterscollective.org/wp-content/uploads/2025/08/Glam-Photo.jpg
ORGANIZER;CN="Ames Writers Collective in Partnership with the ISU MFA Program in Creative Writing & Environment":MAILTO:info@ameswriterscollective.org
END:VEVENT
BEGIN:VEVENT
DTSTART;TZID=America/Chicago:20251016T100000
DTEND;TZID=America/Chicago:20251016T120000
DTSTAMP:20260424T210058
CREATED:20250822T125358Z
LAST-MODIFIED:20251015T144223Z
UID:10010964-1760608800-1760616000@ameswriterscollective.org
SUMMARY:The Art of the Haibun with Katherine Larson
DESCRIPTION:Join us for the “Art of the Haibun” with poet\, Katherine Larson. \nKatherine Larson is the author of two collections of poetry—Radial Symmetry (Yale University Press\, 2011)\, selected by Louise Glück as winner of the Yale Series of Younger Poets\, and The Speechless Ones (Interlinea Press\, 2016)\, recipient of the Vercelli International Civic Poetry Prize (former recipients include Yevgeny Yevtushenko and Adam Zagajewski). Her forthcoming book\, Wedding of the Foxes (Milkweed Editions\, 2025)\, is a collection of lyric essays. Larson’s work has appeared in numerous literary journals including AGNI\, Alaska Quarterly Review\, Blackbird\, Boulevard\, Crab Orchard Review\, Kenyon Review\, The Massachusetts Review\, Notre Dame Review\, Orion\, Poetry\, and Poetry Northwest and anthologized in Read America(s): An Anthology\, Prentice Hall’s Literature: An Introduction to Reading and Writing\, and Firsts: 100 Years of Yale Younger Poets. \nShe is the recipient of a Ruth Lilly Fellowship\, a Kate Tufts Discovery Award\, the Larry Levis Reading Prize\, the Union League Civic and Arts Foundation Poetry Prize\, and the Foreword Indies Gold Medal in Poetry. She has taught in the Stonecoast MFA Program at the University of Southern Maine and the University of Arizona Poetry Center. She is currently active with organizations and artists dedicated to conservation and environmental education in the Sonoran Desert and Gulf of California. \nTO REGISTER\, click here! Cost: $25 adults.\nAre you a Student? Choose “Student Ticket” & Enter “FREE” UNDER DISCOUNT CODE. \nThis event is held in partnership with the Iowa State University MFA Program in Creative Writing and Environment Pearl Holgrefe Visiting Writers Series.
URL:https://ameswriterscollective.org/event/the-art-of-the-haibun-with-katherine-larson/
CATEGORIES:Workshops
ATTACH;FMTTYPE=image/jpeg:https://ameswriterscollective.org/wp-content/uploads/2025/08/Katherine-Larson.jpg
ORGANIZER;CN="Ames Writers Collective in Partnership with the ISU MFA Program in Creative Writing & Environment":MAILTO:info@ameswriterscollective.org
END:VEVENT
END:VCALENDAR