BEGIN:VCALENDAR
VERSION:2.0
PRODID:-//Ames Writers Collective - ECPv6.15.17//NONSGML v1.0//EN
CALSCALE:GREGORIAN
METHOD:PUBLISH
X-ORIGINAL-URL:https://ameswriterscollective.org
X-WR-CALDESC:Events for Ames Writers Collective
REFRESH-INTERVAL;VALUE=DURATION:PT1H
X-Robots-Tag:noindex
X-PUBLISHED-TTL:PT1H
BEGIN:VTIMEZONE
TZID:America/Chicago
BEGIN:DAYLIGHT
TZOFFSETFROM:-0600
TZOFFSETTO:-0500
TZNAME:CDT
DTSTART:20230312T080000
END:DAYLIGHT
BEGIN:STANDARD
TZOFFSETFROM:-0500
TZOFFSETTO:-0600
TZNAME:CST
DTSTART:20231105T070000
END:STANDARD
BEGIN:DAYLIGHT
TZOFFSETFROM:-0600
TZOFFSETTO:-0500
TZNAME:CDT
DTSTART:20240310T080000
END:DAYLIGHT
BEGIN:STANDARD
TZOFFSETFROM:-0500
TZOFFSETTO:-0600
TZNAME:CST
DTSTART:20241103T070000
END:STANDARD
BEGIN:DAYLIGHT
TZOFFSETFROM:-0600
TZOFFSETTO:-0500
TZNAME:CDT
DTSTART:20250309T080000
END:DAYLIGHT
BEGIN:STANDARD
TZOFFSETFROM:-0500
TZOFFSETTO:-0600
TZNAME:CST
DTSTART:20251102T070000
END:STANDARD
END:VTIMEZONE
BEGIN:VEVENT
DTSTART;TZID=America/Chicago:20241014T173000
DTEND;TZID=America/Chicago:20241014T193000
DTSTAMP:20260424T224251
CREATED:20240901T191117Z
LAST-MODIFIED:20240901T191117Z
UID:10010265-1728927000-1728934200@ameswriterscollective.org
SUMMARY:Writing Circle Mondays | John Stoddard Cancer Center
DESCRIPTION:Writing Circle Monday sessions are sponsored by Stoddard Cancer Center as part of the Charlie Cutler Healing and Wellness Program and inspired by the Amherst Writers & Artists  method\, which believes that everyone is a writer. \nEach session participants create a safe space\, and then write together for timed intervals to writing prompts. Writing prompts inspire stories from participants’ lives. After each timed-writing session\, participants will have the opportunity to read their stories to the group\, which is healing on many levels. \nCancer patients and survivors are welcome to sign up for one to eight sessions. Registration is required\, as each session will cap at 10 writers. For questions or to register\, call (515) 241-8505 or email Gina Mandernach at Unity Point at gina.mandernach@unitypoint.org.
URL:https://ameswriterscollective.org/event/writing-circle-mondays-john-stoddard-cancer-center-16/
CATEGORIES:Cancer Writing Circles
ATTACH;FMTTYPE=image/jpeg:https://ameswriterscollective.org/wp-content/uploads/2024/09/Writing-Circle-Mondays-Flyer-New-2024.jpg
END:VEVENT
BEGIN:VEVENT
DTSTART;TZID=America/Chicago:20240923T173000
DTEND;TZID=America/Chicago:20240923T193000
DTSTAMP:20260424T224251
CREATED:20240901T191044Z
LAST-MODIFIED:20240901T191044Z
UID:10010264-1727112600-1727119800@ameswriterscollective.org
SUMMARY:Writing Circle Mondays | John Stoddard Cancer Center
DESCRIPTION:Writing Circle Monday sessions are sponsored by Stoddard Cancer Center as part of the Charlie Cutler Healing and Wellness Program and inspired by the Amherst Writers & Artists  method\, which believes that everyone is a writer. \nEach session participants create a safe space\, and then write together for timed intervals to writing prompts. Writing prompts inspire stories from participants’ lives. After each timed-writing session\, participants will have the opportunity to read their stories to the group\, which is healing on many levels. \nCancer patients and survivors are welcome to sign up for one to eight sessions. Registration is required\, as each session will cap at 10 writers. For questions or to register\, call (515) 241-8505 or email Gina Mandernach at Unity Point at gina.mandernach@unitypoint.org.
URL:https://ameswriterscollective.org/event/writing-circle-mondays-john-stoddard-cancer-center-15/
CATEGORIES:Cancer Writing Circles
ATTACH;FMTTYPE=image/jpeg:https://ameswriterscollective.org/wp-content/uploads/2024/09/Writing-Circle-Mondays-Flyer-New-2024.jpg
END:VEVENT
BEGIN:VEVENT
DTSTART;TZID=America/Chicago:20240916T173000
DTEND;TZID=America/Chicago:20240916T193000
DTSTAMP:20260424T224251
CREATED:20240901T190905Z
LAST-MODIFIED:20240901T190949Z
UID:10010263-1726507800-1726515000@ameswriterscollective.org
SUMMARY:Writing Circle Mondays | John Stoddard Cancer Center
DESCRIPTION:Writing Circle Monday sessions are sponsored by Stoddard Cancer Center as part of the Charlie Cutler Healing and Wellness Program and inspired by the Amherst Writers & Artists  method\, which believes that everyone is a writer. \nEach session participants create a safe space\, and then write together for timed intervals to writing prompts. Writing prompts inspire stories from participants’ lives. After each timed-writing session\, participants will have the opportunity to read their stories to the group\, which is healing on many levels. \nCancer patients and survivors are welcome to sign up for one to eight sessions. Registration is required\, as each session will cap at 10 writers. For questions or to register\, call (515) 241-8505 or email Gina Mandernach at Unity Point at gina.mandernach@unitypoint.org.
URL:https://ameswriterscollective.org/event/writing-circle-mondays-john-stoddard-cancer-center-14/
CATEGORIES:Cancer Writing Circles
ATTACH;FMTTYPE=image/jpeg:https://ameswriterscollective.org/wp-content/uploads/2024/09/Writing-Circle-Mondays-Flyer-New-2024.jpg
END:VEVENT
BEGIN:VEVENT
DTSTART;TZID=America/Chicago:20240826T173000
DTEND;TZID=America/Chicago:20240826T193000
DTSTAMP:20260424T224251
CREATED:20240423T204732Z
LAST-MODIFIED:20240423T204732Z
UID:10010250-1724693400-1724700600@ameswriterscollective.org
SUMMARY:Writing Circle Mondays | John Stoddard Cancer Center
DESCRIPTION:Each session participants create a safe space\, and then write together for timed intervals to writing prompts. Writing prompts inspire stories from participants’ lives. After each timed-writing session\, participants will have the opportunity to read their stories to the group\, which is healing on many levels. Writing Circle Monday sessions are sponsored by Stoddard Cancer Center as part of the Charlie Cutler Healing and Wellness Program and inspired by the Amherst Writers & Artist method\, which believes that everyone is a writer. \nCancer patients and survivors are welcome to sign up for one to eight sessions. Registration is required\, as each session will cap at 10 writers. For questions or to register\, call (515) 241-8505 or email Gina Mandernach at Unity Point at gina.mandernach@unitypoint.org.
URL:https://ameswriterscollective.org/event/writing-circle-mondays-john-stoddard-cancer-center-12/
CATEGORIES:Cancer Writing Circles
ATTACH;FMTTYPE=image/jpeg:https://ameswriterscollective.org/wp-content/uploads/2024/04/Writing-Circle-Mondays-Flyer.jpg
END:VEVENT
BEGIN:VEVENT
DTSTART;TZID=America/Chicago:20240812T173000
DTEND;TZID=America/Chicago:20240812T193000
DTSTAMP:20260424T224251
CREATED:20240423T204712Z
LAST-MODIFIED:20240423T204712Z
UID:10010249-1723483800-1723491000@ameswriterscollective.org
SUMMARY:Writing Circle Mondays | John Stoddard Cancer Center
DESCRIPTION:Each session participants create a safe space\, and then write together for timed intervals to writing prompts. Writing prompts inspire stories from participants’ lives. After each timed-writing session\, participants will have the opportunity to read their stories to the group\, which is healing on many levels. Writing Circle Monday sessions are sponsored by Stoddard Cancer Center as part of the Charlie Cutler Healing and Wellness Program and inspired by the Amherst Writers & Artist method\, which believes that everyone is a writer. \nCancer patients and survivors are welcome to sign up for one to eight sessions. Registration is required\, as each session will cap at 10 writers. For questions or to register\, call (515) 241-8505 or email Gina Mandernach at Unity Point at gina.mandernach@unitypoint.org.
URL:https://ameswriterscollective.org/event/writing-circle-mondays-john-stoddard-cancer-center-11/
CATEGORIES:Cancer Writing Circles
ATTACH;FMTTYPE=image/jpeg:https://ameswriterscollective.org/wp-content/uploads/2024/04/Writing-Circle-Mondays-Flyer.jpg
END:VEVENT
BEGIN:VEVENT
DTSTART;TZID=America/Chicago:20240729T173000
DTEND;TZID=America/Chicago:20240729T193000
DTSTAMP:20260424T224251
CREATED:20240423T205302Z
LAST-MODIFIED:20240423T205302Z
UID:10010251-1722274200-1722281400@ameswriterscollective.org
SUMMARY:Writing Circle Mondays | John Stoddard Cancer Center
DESCRIPTION:Each session participants create a safe space\, and then write together for timed intervals to writing prompts. Writing prompts inspire stories from participants’ lives. After each timed-writing session\, participants will have the opportunity to read their stories to the group\, which is healing on many levels. Writing Circle Monday sessions are sponsored by Stoddard Cancer Center as part of the Charlie Cutler Healing and Wellness Program and inspired by the Amherst Writers & Artist method\, which believes that everyone is a writer. \nCancer patients and survivors are welcome to sign up for one to eight sessions. Registration is required\, as each session will cap at 10 writers. For questions or to register\, call (515) 241-8505 or email Gina Mandernach at Unity Point at gina.mandernach@unitypoint.org.
URL:https://ameswriterscollective.org/event/writing-circle-mondays-john-stoddard-cancer-center-13/
CATEGORIES:Cancer Writing Circles
ATTACH;FMTTYPE=image/jpeg:https://ameswriterscollective.org/wp-content/uploads/2024/04/Writing-Circle-Mondays-Flyer.jpg
END:VEVENT
BEGIN:VEVENT
DTSTART;TZID=America/Chicago:20240722T173000
DTEND;TZID=America/Chicago:20240722T193000
DTSTAMP:20260424T224251
CREATED:20240423T204647Z
LAST-MODIFIED:20240423T204647Z
UID:10010248-1721669400-1721676600@ameswriterscollective.org
SUMMARY:Writing Circle Mondays | John Stoddard Cancer Center
DESCRIPTION:Each session participants create a safe space\, and then write together for timed intervals to writing prompts. Writing prompts inspire stories from participants’ lives. After each timed-writing session\, participants will have the opportunity to read their stories to the group\, which is healing on many levels. Writing Circle Monday sessions are sponsored by Stoddard Cancer Center as part of the Charlie Cutler Healing and Wellness Program and inspired by the Amherst Writers & Artist method\, which believes that everyone is a writer. \nCancer patients and survivors are welcome to sign up for one to eight sessions. Registration is required\, as each session will cap at 10 writers. For questions or to register\, call (515) 241-8505 or email Gina Mandernach at Unity Point at gina.mandernach@unitypoint.org.
URL:https://ameswriterscollective.org/event/writing-circle-mondays-john-stoddard-cancer-center-10/
CATEGORIES:Cancer Writing Circles
ATTACH;FMTTYPE=image/jpeg:https://ameswriterscollective.org/wp-content/uploads/2024/04/Writing-Circle-Mondays-Flyer.jpg
END:VEVENT
BEGIN:VEVENT
DTSTART;TZID=America/Chicago:20240520T173000
DTEND;TZID=America/Chicago:20240520T193000
DTSTAMP:20260424T224251
CREATED:20240423T204622Z
LAST-MODIFIED:20240423T204622Z
UID:10010247-1716226200-1716233400@ameswriterscollective.org
SUMMARY:Writing Circle Mondays | John Stoddard Cancer Center
DESCRIPTION:Each session participants create a safe space\, and then write together for timed intervals to writing prompts. Writing prompts inspire stories from participants’ lives. After each timed-writing session\, participants will have the opportunity to read their stories to the group\, which is healing on many levels. Writing Circle Monday sessions are sponsored by Stoddard Cancer Center as part of the Charlie Cutler Healing and Wellness Program and inspired by the Amherst Writers & Artist method\, which believes that everyone is a writer. \nCancer patients and survivors are welcome to sign up for one to eight sessions. Registration is required\, as each session will cap at 10 writers. For questions or to register\, call (515) 241-8505 or email Gina Mandernach at Unity Point at gina.mandernach@unitypoint.org.
URL:https://ameswriterscollective.org/event/writing-circle-mondays-john-stoddard-cancer-center-9/
CATEGORIES:Cancer Writing Circles
ATTACH;FMTTYPE=image/jpeg:https://ameswriterscollective.org/wp-content/uploads/2024/04/Writing-Circle-Mondays-Flyer.jpg
END:VEVENT
BEGIN:VEVENT
DTSTART;TZID=America/Chicago:20240506T173000
DTEND;TZID=America/Chicago:20240506T193000
DTSTAMP:20260424T224251
CREATED:20240423T204528Z
LAST-MODIFIED:20240423T204528Z
UID:10010246-1715016600-1715023800@ameswriterscollective.org
SUMMARY:Writing Circle Mondays | John Stoddard Cancer Center
DESCRIPTION:Each session participants create a safe space\, and then write together for timed intervals to writing prompts. Writing prompts inspire stories from participants’ lives. After each timed-writing session\, participants will have the opportunity to read their stories to the group\, which is healing on many levels. Writing Circle Monday sessions are sponsored by Stoddard Cancer Center as part of the Charlie Cutler Healing and Wellness Program and inspired by the Amherst Writers & Artist method\, which believes that everyone is a writer. \nCancer patients and survivors are welcome to sign up for one to eight sessions. Registration is required\, as each session will cap at 10 writers. For questions or to register\, call (515) 241-8505 or email Gina Mandernach at Unity Point at gina.mandernach@unitypoint.org.
URL:https://ameswriterscollective.org/event/writing-circle-mondays-john-stoddard-cancer-center-8/
CATEGORIES:Cancer Writing Circles
ATTACH;FMTTYPE=image/jpeg:https://ameswriterscollective.org/wp-content/uploads/2024/04/Writing-Circle-Mondays-Flyer.jpg
END:VEVENT
END:VCALENDAR