BEGIN:VCALENDAR
VERSION:2.0
PRODID:-//Ames Writers Collective - ECPv6.15.17//NONSGML v1.0//EN
CALSCALE:GREGORIAN
METHOD:PUBLISH
X-ORIGINAL-URL:https://ameswriterscollective.org
X-WR-CALDESC:Events for Ames Writers Collective
REFRESH-INTERVAL;VALUE=DURATION:PT1H
X-Robots-Tag:noindex
X-PUBLISHED-TTL:PT1H
BEGIN:VTIMEZONE
TZID:America/Chicago
BEGIN:DAYLIGHT
TZOFFSETFROM:-0600
TZOFFSETTO:-0500
TZNAME:CDT
DTSTART:20250309T080000
END:DAYLIGHT
BEGIN:STANDARD
TZOFFSETFROM:-0500
TZOFFSETTO:-0600
TZNAME:CST
DTSTART:20251102T070000
END:STANDARD
BEGIN:DAYLIGHT
TZOFFSETFROM:-0600
TZOFFSETTO:-0500
TZNAME:CDT
DTSTART:20260308T080000
END:DAYLIGHT
BEGIN:STANDARD
TZOFFSETFROM:-0500
TZOFFSETTO:-0600
TZNAME:CST
DTSTART:20261101T070000
END:STANDARD
BEGIN:DAYLIGHT
TZOFFSETFROM:-0600
TZOFFSETTO:-0500
TZNAME:CDT
DTSTART:20270314T080000
END:DAYLIGHT
BEGIN:STANDARD
TZOFFSETFROM:-0500
TZOFFSETTO:-0600
TZNAME:CST
DTSTART:20271107T070000
END:STANDARD
END:VTIMEZONE
BEGIN:VEVENT
DTSTART;TZID=America/Chicago:20260622T100000
DTEND;TZID=America/Chicago:20260626T120000
DTSTAMP:20260424T164812
CREATED:20260410T165727Z
LAST-MODIFIED:20260410T171300Z
UID:10011194-1782122400-1782475200@ameswriterscollective.org
SUMMARY:Swift Youth Writers Workshop | June 22 to 26
DESCRIPTION:Teens in 6th – 12th grade are invited to escape into creative writing and connect with other writers. Regardless of your genre\, for five days writers will come together in a safe space to write together to writing prompts. We’ll touch upon fiction\, creative nonfiction\, poetry collage and more. The week’s writing will be published in the Swift Youth Writers Summer 2026 anthology.  \nWe’ll wrap up each day with meals from the Free Summer Meals for Kids and Teens at 12pm. \nUp to 12 spots are available. To register\, CLICK HERE.
URL:https://ameswriterscollective.org/event/swift-youth-writers-workshop-june-22-to-26/
LOCATION:Ames Public Library\, 515 Douglas Avenue\, Ames\, IA\, 50010\, United States
CATEGORIES:Workshops
ATTACH;FMTTYPE=image/jpeg:https://ameswriterscollective.org/wp-content/uploads/2026/04/SWIFTYOUTHWRITERS2026.jpg
ORGANIZER;CN="Ames Writers Collective in Partnership with Ames Public Library":MAILTO:info@ameswriterscollective.org
END:VEVENT
END:VCALENDAR