BEGIN:VCALENDAR
VERSION:2.0
PRODID:-//Ames Writers Collective - ECPv6.15.17//NONSGML v1.0//EN
CALSCALE:GREGORIAN
METHOD:PUBLISH
X-ORIGINAL-URL:https://ameswriterscollective.org
X-WR-CALDESC:Events for Ames Writers Collective
REFRESH-INTERVAL;VALUE=DURATION:PT1H
X-Robots-Tag:noindex
X-PUBLISHED-TTL:PT1H
BEGIN:VTIMEZONE
TZID:UTC
BEGIN:STANDARD
TZOFFSETFROM:+0000
TZOFFSETTO:+0000
TZNAME:UTC
DTSTART:20210101T000000
END:STANDARD
END:VTIMEZONE
BEGIN:VEVENT
DTSTART;TZID=UTC:20230209T190000
DTEND;TZID=UTC:20230209T200000
DTSTAMP:20260425T091201
CREATED:20230407T080418Z
LAST-MODIFIED:20230407T080418Z
UID:10010183-1675969200-1675972800@ameswriterscollective.org
SUMMARY:David Gonzalez | A Night of Poetry | Author Spotlight
DESCRIPTION:Join us for an Author Spotlight Live and In Person at KHOI Radio! \nDavid Gonzalez\, a professional storyteller\, poet\, playwright\, musician and keynote speaker will read from Soundings\, his debut book of poetry. \n“Here are the maps for a self of earth and cosmos interconnections\, breath\, existence and thought for the new thinker\, traveler\, philosopher. Bravo\, brava!” –Juan Felipe Herrera\, Poet Laureate of the United States\, Emeritus \nProsecco & Chocolates Will Be Served \nThe Author Spotlight Series is presented by The Ames Writers Collective and KHOI Community Radio \nThank you Stephens Auditorium and the Martha-Ellen Ty Youth Matinee Series for bringing David to Ames!
URL:https://ameswriterscollective.org/event/david-gonzalez-a-night-of-poetry-author-spotlight/
LOCATION:KHOI Radio\, 622 Douglas Avenue\, Ames\, 50010\, United States
CATEGORIES:Author Talks
ATTACH;FMTTYPE=image/jpeg:https://ameswriterscollective.org/wp-content/uploads/2023/04/david-gonzales-sm.jpg
END:VEVENT
BEGIN:VEVENT
DTSTART;TZID=UTC:20221006T190000
DTEND;TZID=UTC:20221006T200000
DTSTAMP:20260425T091201
CREATED:20230407T083556Z
LAST-MODIFIED:20230407T083556Z
UID:10010188-1665082800-1665086400@ameswriterscollective.org
SUMMARY:Mary Warner & Rex Heer
DESCRIPTION:On Thursday\, October 6th the Author Spotlight will feature Mary Warner\, author of Adventure on Gallop Ghosts Islands and illustrator by Rex Heer. \nMary Warner is a triathlete who loves to race and swim in the Atlantic Ocean. She has written countless unpublished stories about her experiences being an athlete\, one of which inspired this collaboration. \nRex Heer lives in a log cabin he built in the woods in the hills overlooking the Des Moines River Valley. \nThe Author Spotlight Series is presented by the Ames Writers Collective and KHOI Community Radio Station LIVE and In Person.
URL:https://ameswriterscollective.org/event/mary-warner-rex-heer/
LOCATION:KHOI Radio\, 622 Douglas Avenue\, Ames\, 50010\, United States
CATEGORIES:Author Talks
ATTACH;FMTTYPE=image/jpeg:https://ameswriterscollective.org/wp-content/uploads/2023/04/FinalAuthorSpotlight_Mary_Rex.jpg
END:VEVENT
END:VCALENDAR