BEGIN:VCALENDAR
VERSION:2.0
PRODID:-//Ames Writers Collective - ECPv6.15.17//NONSGML v1.0//EN
CALSCALE:GREGORIAN
METHOD:PUBLISH
X-WR-CALNAME:Ames Writers Collective
X-ORIGINAL-URL:https://ameswriterscollective.org
X-WR-CALDESC:Events for Ames Writers Collective
REFRESH-INTERVAL;VALUE=DURATION:PT1H
X-Robots-Tag:noindex
X-PUBLISHED-TTL:PT1H
BEGIN:VTIMEZONE
TZID:America/Chicago
BEGIN:DAYLIGHT
TZOFFSETFROM:-0600
TZOFFSETTO:-0500
TZNAME:CDT
DTSTART:20220313T080000
END:DAYLIGHT
BEGIN:STANDARD
TZOFFSETFROM:-0500
TZOFFSETTO:-0600
TZNAME:CST
DTSTART:20221106T070000
END:STANDARD
BEGIN:DAYLIGHT
TZOFFSETFROM:-0600
TZOFFSETTO:-0500
TZNAME:CDT
DTSTART:20230312T080000
END:DAYLIGHT
BEGIN:STANDARD
TZOFFSETFROM:-0500
TZOFFSETTO:-0600
TZNAME:CST
DTSTART:20231105T070000
END:STANDARD
BEGIN:DAYLIGHT
TZOFFSETFROM:-0600
TZOFFSETTO:-0500
TZNAME:CDT
DTSTART:20240310T080000
END:DAYLIGHT
BEGIN:STANDARD
TZOFFSETFROM:-0500
TZOFFSETTO:-0600
TZNAME:CST
DTSTART:20241103T070000
END:STANDARD
END:VTIMEZONE
BEGIN:VEVENT
DTSTART;TZID=America/Chicago:20231019T173000
DTEND;TZID=America/Chicago:20231019T193000
DTSTAMP:20260424T221407
CREATED:20230804T213828Z
LAST-MODIFIED:20230804T220338Z
UID:10010211-1697736600-1697743800@ameswriterscollective.org
SUMMARY:John Stoddard Cancer Center | An Evening With the Ames Writers Collective
DESCRIPTION:Writing Through Cancer with the\nAmes Writers Collective \nA safe space is created for attendees to write for timed intervals to writing prompts. Writing prompts inspire stories from our lives. After each timed-writing session\, participants will have the opportunity to read their stories to the group\, which is healing on many levels. \nFacilitator: Ana McCracken\, Founder of the Ames Writers Collective \nLocation: Smokey Row\, 1910 Cottage Grove Ave\, Des Moines; Off the menu ordering of food\, snacks & coffee will be provided \n\n\n\n\nThis program is sponsored by\nJohn Stoddard Cancer Center
URL:https://ameswriterscollective.org/event/john-stoddard-cancer-center-an-evening-with-the-ames-writers-collective/
LOCATION:Smokey Row\, 1910 Cottage Grove Ave\, Des Moines\, IA\, United States
CATEGORIES:Cancer Writing Circles
ATTACH;FMTTYPE=image/jpeg:https://ameswriterscollective.org/wp-content/uploads/2023/08/Writing-Through-Cancer-01-e1691094521240.jpeg
ORGANIZER;CN="John Stoddard Cancer Center":MAILTO:gina.mandernach@unitypoint.org
END:VEVENT
END:VCALENDAR