BEGIN:VCALENDAR
VERSION:2.0
PRODID:-//Ames Writers Collective - ECPv6.15.17//NONSGML v1.0//EN
CALSCALE:GREGORIAN
METHOD:PUBLISH
X-WR-CALNAME:Ames Writers Collective
X-ORIGINAL-URL:https://ameswriterscollective.org
X-WR-CALDESC:Events for Ames Writers Collective
REFRESH-INTERVAL;VALUE=DURATION:PT1H
X-Robots-Tag:noindex
X-PUBLISHED-TTL:PT1H
BEGIN:VTIMEZONE
TZID:America/Chicago
BEGIN:DAYLIGHT
TZOFFSETFROM:-0600
TZOFFSETTO:-0500
TZNAME:CDT
DTSTART:20230312T080000
END:DAYLIGHT
BEGIN:STANDARD
TZOFFSETFROM:-0500
TZOFFSETTO:-0600
TZNAME:CST
DTSTART:20231105T070000
END:STANDARD
BEGIN:DAYLIGHT
TZOFFSETFROM:-0600
TZOFFSETTO:-0500
TZNAME:CDT
DTSTART:20240310T080000
END:DAYLIGHT
BEGIN:STANDARD
TZOFFSETFROM:-0500
TZOFFSETTO:-0600
TZNAME:CST
DTSTART:20241103T070000
END:STANDARD
BEGIN:DAYLIGHT
TZOFFSETFROM:-0600
TZOFFSETTO:-0500
TZNAME:CDT
DTSTART:20250309T080000
END:DAYLIGHT
BEGIN:STANDARD
TZOFFSETFROM:-0500
TZOFFSETTO:-0600
TZNAME:CST
DTSTART:20251102T070000
END:STANDARD
END:VTIMEZONE
BEGIN:VEVENT
DTSTART;TZID=America/Chicago:20240208T190000
DTEND;TZID=America/Chicago:20240208T210000
DTSTAMP:20260424T221311
CREATED:20231107T061428Z
LAST-MODIFIED:20240205T024022Z
UID:10010215-1707418800-1707426000@ameswriterscollective.org
SUMMARY:Youth Poetry Contest Winners at The Langston Hughes Project
DESCRIPTION:Four Swift Youth Writers poets were chosen from a “blind read” contest after attending three poetry writing workshops led by Caleb “The Negro” Poet Rainey in January. The poetry contest winner’s poems will have original score written to them by Dr. Ron McCurdy\, who is the composer of the Langston Hughes Project. To kick off the performance at Stephens Auditorium on February 8th at 7 PM\, Rainey will perform the selected poems\, accompanied by Dr. McCurdy’s music. \nAdela Solano Osmundson\, Vienna Rossmanith\, Sophia Driest & Nora Nobushawo\n\nARTIST BIOS \nDr. Ron McCurdy\,  is a Professor of Music in the Thornton School of Music at the University of Southern California\, where he served as chair of the jazz department for 6 years. Dr. McCurdy is a consultant to the Grammy Foundation educational programs including serving as director of the National Grammy Vocal Jazz Ensemble. Guest artists he has worked with include Joe Williams\, Rosemary Clooney\, Leslie Uggams\, Arturo Sandoval\, Diane Schuur\, Ramsey Lewis\, Mercer Ellington\, Dr. Billy Taylor\, Maynard Ferguson\, Lionel Hampton\, and Dianne Reeves. \nCaleb “The Negro Artist” Rainey is an author\, performer\, and producer. He hails from Columbia\, Missouri\, and holds a B.A. in English (Creative Writing) from the University of Iowa. His debut book\, Look\, Black Boy\, became Amazon’s #1 new release in African American poetry\, and was awarded first prize in the North Street Book Prize. His second book\, Heart Notes was published in 2019 and featured on Iowa Public Radio. He released two spoken word albums\, a studio version of Look\, Black Boy\, and a performance album titled\, Heart Notes Live! He co-founded the literary magazine Black Art; Real Stories\, was published in Iowa’s Best Emerging Poets – 2019\, the Little Village Magazine\, and wrote a monthly column for The Real Mainstream. For three years in a row he was named Best Poet/Spoken Word Performer in Cedar Rapids & Iowa City. \nTHE AMES WRITERS COLLECTIVE\nthanks the following organizations for their support: \n \n \n \n\n 
URL:https://ameswriterscollective.org/event/youth-workshops-concert-the-langston-hughes-project/
LOCATION:Stephens Auditorium\, 1900 Center Drive\, Ames\, Iowa\, 50011
CATEGORIES:Special Events
ATTACH;FMTTYPE=image/jpeg:https://ameswriterscollective.org/wp-content/uploads/2024/02/IMG_0709.jpeg
ORGANIZER;CN="Ames Writers Collective in Partnership with Stephens Auditorium":MAILTO:ana@ameswriterscollective.org
END:VEVENT
END:VCALENDAR