BEGIN:VCALENDAR
VERSION:2.0
PRODID:-//Ames Writers Collective - ECPv6.15.17//NONSGML v1.0//EN
CALSCALE:GREGORIAN
METHOD:PUBLISH
X-WR-CALNAME:Ames Writers Collective
X-ORIGINAL-URL:https://ameswriterscollective.org
X-WR-CALDESC:Events for Ames Writers Collective
REFRESH-INTERVAL;VALUE=DURATION:PT1H
X-Robots-Tag:noindex
X-PUBLISHED-TTL:PT1H
BEGIN:VTIMEZONE
TZID:America/Chicago
BEGIN:DAYLIGHT
TZOFFSETFROM:-0600
TZOFFSETTO:-0500
TZNAME:CDT
DTSTART:20230312T080000
END:DAYLIGHT
BEGIN:STANDARD
TZOFFSETFROM:-0500
TZOFFSETTO:-0600
TZNAME:CST
DTSTART:20231105T070000
END:STANDARD
BEGIN:DAYLIGHT
TZOFFSETFROM:-0600
TZOFFSETTO:-0500
TZNAME:CDT
DTSTART:20240310T080000
END:DAYLIGHT
BEGIN:STANDARD
TZOFFSETFROM:-0500
TZOFFSETTO:-0600
TZNAME:CST
DTSTART:20241103T070000
END:STANDARD
BEGIN:DAYLIGHT
TZOFFSETFROM:-0600
TZOFFSETTO:-0500
TZNAME:CDT
DTSTART:20250309T080000
END:DAYLIGHT
BEGIN:STANDARD
TZOFFSETFROM:-0500
TZOFFSETTO:-0600
TZNAME:CST
DTSTART:20251102T070000
END:STANDARD
END:VTIMEZONE
BEGIN:VEVENT
DTSTART;TZID=America/Chicago:20240914T140000
DTEND;TZID=America/Chicago:20240914T160000
DTSTAMP:20260425T091348
CREATED:20240423T212507Z
LAST-MODIFIED:20240522T153810Z
UID:10010253-1726322400-1726329600@ameswriterscollective.org
SUMMARY:Words Meet Art at Arts As Alchemy Forgetting to Remember Pieces of Me
DESCRIPTION:Join Ames Writers Collective Founder\, Ana McCracken for an evening of Words Meet Art held in partnership with “Arts As Alchemy Forgetting to Remember Pieces of Me” a collage exhibit titled\, “Pieces of Me” by of artist\, author\, and musician\, Deb Kline. \nThese events will be held in the Gallery in the Round located at the Unitarian Universalist Fellowship of Ames. \nWords Meet Art is a literary arts event celebrating the intersection of words and art\, which is referred to as ekphrastic response. Ekphrastic work combines vivid description by a writer of a piece of art\, essentially representing a “painting in words.” During this evening’s event\, writers may write prose\, memoir or poetry in response to the collages featured in the exhibit\, “Pieces of Me.” \n 
URL:https://ameswriterscollective.org/event/words-meet-art-at-arts-as-alchemy-forgetting-to-remember-pieces-of-me/
LOCATION:Unitarian Universalist Fellowship of Ames\, 1015 N. Hyland\, Ames\, IA\, 50010
CATEGORIES:Special Events
ATTACH;FMTTYPE=image/jpeg:https://ameswriterscollective.org/wp-content/uploads/2024/04/AaA_Sept_Workshop_Flyer.jpg
END:VEVENT
BEGIN:VEVENT
DTSTART;TZID=America/Chicago:20240913T183000
DTEND;TZID=America/Chicago:20240913T203000
DTSTAMP:20260425T091348
CREATED:20240423T211619Z
LAST-MODIFIED:20240522T153636Z
UID:10010252-1726252200-1726259400@ameswriterscollective.org
SUMMARY:Words Meet Art at Arts As Alchemy Forgetting to Remember Pieces of Me
DESCRIPTION:Join Ames Writers Collective Founder\, Ana McCracken for an evening of Words Meet Art held in partnership with “Arts As Alchemy Forgetting to Remember Pieces of Me” a collage exhibit titled\, “Pieces of Me” by of artist\, author\, and musician\, Deb Kline. \nThese events will be held in the Gallery in the Round located at the Unitarian Universalist Fellowship of Ames. \nWords Meet Art is a literary arts event celebrating the intersection of words and art\, which is referred to as ekphrastic response. Ekphrastic work combines vivid description by a writer of a piece of art\, essentially representing a “painting in words.” During this evening’s event\, writers may write prose\, memoir or poetry in response to the collages featured in the exhibit\, “Pieces of Me.” \n 
URL:https://ameswriterscollective.org/event/words-meet-art-at-arts-as-alchemy/
LOCATION:Unitarian Universalist Fellowship of Ames\, 1015 N. Hyland\, Ames\, IA\, 50010
CATEGORIES:Special Events
ATTACH;FMTTYPE=image/jpeg:https://ameswriterscollective.org/wp-content/uploads/2024/04/AaA_Sept_Workshop_Flyer.jpg
END:VEVENT
END:VCALENDAR